Workbook
Name \s: #REF!
Name \s: #REF!
Name \s: #REF!
Name \s: #REF!
Name \t: #REF!
Name \t: #REF!
Name \t: #REF!
Name \t: #REF!
Name __6Excel_BuiltIn_Print_Area_3_1_1_1_1_1: #REF!
Name __6Excel_BuiltIn_Print_Area_3_1_1_1_1_1: #REF!
Name __6Excel_BuiltIn_Print_Area_3_1_1_1_1_1: #REF!
Name __6Excel_BuiltIn_Print_Area_3_1_1_1_1_1: #REF!
Name _10Excel_BuiltIn_Print_Area_5_1: #REF!
Name _10Excel_BuiltIn_Print_Area_5_1: #REF!
Name _10Excel_BuiltIn_Print_Area_7_1: #REF!
Name _10Excel_BuiltIn_Print_Area_7_1: #REF!
Name _11Excel_BuiltIn_Print_Area_8_1: ([1]EMERGÊNCIA!$A$1:$N$213,[1]EMERGÊNCIA!$A$214:$N$290)
Name _12Excel_BuiltIn_Print_Area_6_1: #REF!
Name _12Excel_BuiltIn_Print_Area_6_1: #REF!
Name _12Excel_BuiltIn_Print_Area_6_1: #REF!
Name _12Excel_BuiltIn_Print_Area_6_1: #REF!
Name _12Excel_BuiltIn_Print_Area_9_1: #REF!
Name _12Excel_BuiltIn_Print_Area_9_1: #REF!
Name _12Excel_BuiltIn_Print_Area_9_1: #REF!
Name _12Excel_BuiltIn_Print_Area_9_1: #REF!
Name _13Excel_BuiltIn_Print_Titles_3_1: #REF!
Name _13Excel_BuiltIn_Print_Titles_3_1: #REF!
Name _13Excel_BuiltIn_Print_Titles_3_1: #REF!
Name _13Excel_BuiltIn_Print_Titles_3_1: #REF!
Name _14Excel_BuiltIn_Print_Area_7_1: #REF!
Name _14Excel_BuiltIn_Print_Area_7_1: #REF!
Name _14Excel_BuiltIn_Print_Titles_4_1: #REF!
Name _14Excel_BuiltIn_Print_Titles_4_1: #REF!
Name _15Excel_BuiltIn_Print_Area_8_1: ([1]EMERGÊNCIA!$A$1:$N$213,[1]EMERGÊNCIA!$A$214:$N$290)
Name _15Excel_BuiltIn_Print_Titles_5_1: #REF!
Name _15Excel_BuiltIn_Print_Titles_5_1: #REF!
Name _15Excel_BuiltIn_Print_Titles_5_1: #REF!
Name _15Excel_BuiltIn_Print_Titles_5_1: #REF!
Name _16Excel_BuiltIn_Print_Titles_6_1: #REF!
Name _16Excel_BuiltIn_Print_Titles_6_1: #REF!
Name _16Excel_BuiltIn_Print_Titles_6_1: #REF!
Name _16Excel_BuiltIn_Print_Titles_6_1: #REF!
Name _17Excel_BuiltIn_Print_Area_9_1: #REF!
Name _17Excel_BuiltIn_Print_Area_9_1: #REF!
Name _17Excel_BuiltIn_Print_Area_9_1: #REF!
Name _17Excel_BuiltIn_Print_Area_9_1: #REF!
Name _17Excel_BuiltIn_Print_Titles_7_1: #REF!
Name _17Excel_BuiltIn_Print_Titles_7_1: #REF!
Name _18Excel_BuiltIn_Print_Titles_9_1: #REF!
Name _18Excel_BuiltIn_Print_Titles_9_1: #REF!
Name _1Excel_BuiltIn__FilterDatabase_12_1: #REF!
Name _1Excel_BuiltIn__FilterDatabase_12_1: #REF!
Name _1Excel_BuiltIn_Print_Area_2_1: #REF!
Name _1Excel_BuiltIn_Print_Area_2_1: #REF!
Name _1Excel_BuiltIn_Print_Area_3_1: #REF!
Name _28Excel_BuiltIn_Print_Titles_3_1: #REF!
Name _28Excel_BuiltIn_Print_Titles_3_1: #REF!
Name _2Excel_BuiltIn__FilterDatabase_12_1: #REF!
Name _2Excel_BuiltIn__FilterDatabase_12_1: #REF!
Name _2Excel_BuiltIn_Print_Area_1_1_1_1_1_1_1: #REF!

Sheet PLANILHA ORÇAMENTÁRIA
A1: PREFEITURA MUNICIPAL DE JOÃO NEIVA SECRETARIA MUNICIPAL DE OBRAS E SERVIÇOS URBANOS
A2: OBRA: REFORMA DA PRAÇA NOSSA SENHORA DO LÍBANO | G2: ENCARGOS SOCIAIS DESONERADOS: 89,54% (HORA)
A3: LOCAL: CENTRO - JOÃO NEIVA/ES | G3: BDI: 26,54% - Serviços (materiais e instalações) PRAZO DA OBRA: 180 dias DATA BASE: Agosto/2018
G4: CONVÊNIO Nº: 869913/2018
A5: PLANILHA ORÇAMENTÁRIA
A6: FONTE | B6: CÓDIGO | C6: ITEM | D6: DESCRIÇÃO DOS SERIÇOS | E6: UNID. | F6: QUANT. | G6: P. UNIT. | H6: BDI (26,54%) | I6: PREÇO UNITÁRIO COM BDI | J6: PREÇO TOTAL | K6: %
C7: 01 | D7: ADMINISTRAÇÃO LOCAL
B8: COMP-01 | C8: 01.01.01 | D8: EQUIPE DE OBRA, INCLUINDO ENGENHEIRO JUNIOR, TECNICO DE SEGUNDO GRAU | E8: UND | F8: ='MEMORIA DE CÁLCULO'!J8 -> 1 | G8: ='COMP-01'!I33 -> 12519.868 | H8: BDI INCLUSO NA COMPOSIÇÃO | I8: =G8 -> 12519.868 | J8: =F8*I8 -> 12519.868 | K8: =J8/$J$99 -> 0.04882994
D9: SUBTOTAL 01 | J9: =SUM(J7:J8) -> 12519.868 | K9: =J9/$J$99 -> 0.04882994
C10: 02 | D10: SERVIÇOS PRELIMINARES
C11: 02.01 | D11: INSTALAÇÃO DO CANTEIRO DE OBRAS
A12: SINAPI | B12: 98459 | C12: 02.01.01 | D12: TAPUME COM TELHA METÁLICA. AF_05/2018 | E12: M2 | F12: ='MEMORIA DE CÁLCULO'!J15 -> 246.62 | G12: 81.21 | H12: =ROUND(G12*0.2654,2) -> 21.55 | I12: =G12+H12 -> 102.76 | J12: =F12*I12 -> 25342.671 | K12: =J12/$J$99 -> 0.09884139
A13: SINAPI | B13: 74209/001 | C13: 02.01.02 | D13: PLACA DE OBRA EM CHAPA DE ACO GALVANIZADO | E13: M2 | F13: ='MEMORIA DE CÁLCULO'!J21 -> 8 | G13: 272.87 | H13: =ROUND(G13*0.2654,2) -> 72.42 | I13: =G13+H13 -> 345.29 | J13: =F13*I13 -> 2762.32 | K13: =J13/$J$99 -> 0.01077359
A14: SINAPI | B14: 73847/001 | C14: 02.01.03 | D14: ALUGUEL CONTAINER/ESCRIT INCL INST ELET LARG=2,20 COMP=6,20M ALT=2,50M CHAPA ACO C/NERV TRAPEZ FORRO C/ISOL TERMO/ACUSTICO CHASSIS REFORC PISO COMPENS NAVAL EXC TRANSP/CARGA/DESCARGA | E14: MÊS | F14: ='MEMORIA DE CÁLCULO'!J25 -> 6 | G14: 394.53 | H14: =ROUND(G14*0.2654,2) -> 104.71 | I14: =G14+H14 -> 499.24 | J14: =F14*I14 -> 2995.44 | K14: =J14/$J$99 -> 0.011682804
A15: SINAPI | B15: 97637 | C15: 02.01.04 | D15: REMOÇÃO DE TAPUME/ CHAPAS METÁLICAS E DE MADEIRA, DE FORMA MANUAL, SEM REAPROVEITAMENTO. AF_12/2017 | E15: M2 | F15: ='MEMORIA DE CÁLCULO'!J29 -> 246.62 | G15: 1.93 | H15: =ROUND(G15*0.2654,2) -> 0.51 | I15: =G15+H15 -> 2.44 | J15: =F15*I15 -> 601.7528 | K15: =J15/$J$99 -> 0.002346954
C16: 02.02 | D16: LOCAÇÃO
A17: SINAPI | B17: 73992/001 | C17: 02.02.01 | D17: LOCACAO CONVENCIONAL DE OBRA, ATRAVÉS DE GABARITO DE TABUAS CORRIDAS PONTALETADAS A CADA 1,50M, SEM REAPROVEITAMENTO | E17: M2 | F17: ='MEMORIA DE CÁLCULO'!J34 -> 518.76 | G17: 12.12 | H17: =ROUND(G17*0.2654,2) -> 3.22 | I17: =G17+H17 -> 15.34 | J17: =F17*I17 -> 7957.7784 | K17: =J17/$J$99 -> 0.031036897
A18: IOPES | B18: 20344 | C18: 02.02.02 | D18: MOBILIZAÇÃO E DESMOBILIZAÇÃO DE CONTEINER LOCADO PARA BARRACÃO DE OBRA | E18: UND | F18: ='MEMORIA DE CÁLCULO'!J38 -> 2 | G18: 790 | H18: =ROUND(G18*0.2654,2) -> 209.67 | I18: =G18+H18 -> 999.67 | J18: =F18*I18 -> 1999.34 | K18: =J18/$J$99 -> 0.0077978183
C19: 02.03 | D19: DEMOLIÇÕES E RETIRADAS
A20: IOPES | B20: 10216 | C20: 02.03.01 | D20: RETIRADA DE MEIO-FIO DE CONCRETO | E20: M | F20: ='MEMORIA DE CÁLCULO'!J44 -> 272.16 | G20: 6.12 | H20: =ROUND(G20*0.2654,2) -> 1.62 | I20: =G20+H20 -> 7.74 | J20: =ROUND(I20*F20,2) -> 2106.52 | K20: =J20/$J$99 -> 0.0082158413
A21: SINAPI | B21: 97635 | C21: 02.03.02 | D21: DEMOLIÇÃO DE PAVIMENTO INTERTRAVADO, DE FORMA MANUAL, COM REAPROVEITAMENTO. AF_12/2017 | E21: M2 | F21: ='MEMORIA DE CÁLCULO'!J50 -> 391.34 | G21: 10.03 | H21: =ROUND(G21*0.2654,2) -> 2.66 | I21: =G21+H21 -> 12.69 | J21: =ROUND(I21*F21,2) -> 4966.1 | K21: =J21/$J$99 -> 0.019368764
A22: SINAPI | B22: 97636 | C22: 02.03.03 | D22: DEMOLIÇÃO PARCIAL DE PAVIMENTO ASFÁLTICO, DE FORMA MECANIZADA, SEM REAPROVEITAMENTO. AF_12/2017 | E22: M2 | F22: ='MEMORIA DE CÁLCULO'!J54 -> 7.71 | G22: 9.4 | H22: =ROUND(G22*0.2654,2) -> 2.49 | I22: =G22+H22 -> 11.89 | J22: =ROUND(I22*F22,2) -> 91.67 | K22: =J22/$J$99 -> 0.00035753098
A23: IOPES | B23: 10219 | C23: 02.03.04 | D23: DEMOLIÇÃO MANUAL DE CONCRETO ARMADO (EMOP 05.001.033) | E23: M3 | F23: ='MEMORIA DE CÁLCULO'!J59 -> 0.85896 | G23: 202.83 | H23: =ROUND(G23*0.2654,2) -> 53.83 | I23: =G23+H23 -> 256.66 | J23: =ROUND(I23*F23,2) -> 220.46 | K23: =J23/$J$99 -> 0.00085983725
A24: IOPES | B24: 10229 | C24: 02.03.05 | D24: RETIRADA DE POSTE DE AÇO DE 4 A 6 M | E24: UND | F24: ='MEMORIA DE CÁLCULO'!J69 -> 4 | G24: 24.49 | H24: =ROUND(G24*0.2654,2) -> 6.5 | I24: =G24+H24 -> 30.99 | J24: =ROUND(I24*F24,2) -> 123.96 | K24: =J24/$J$99 -> 0.00048346832
B25: COMP-02 | C25: 02.03.06 | D25: RETIRADA E COLOCAÇÃO DE PLACAS DE SINALIZAÇÃO EXISTENTES NA PRAÇA, PLACAS DE MONUMENTOS, INCLUSIVE ESTOCAGEM PARA ÁREA INDICADA PELA SEMOSU | E25: UND | F25: ='MEMORIA DE CÁLCULO'!J73 -> 8 | G25: ='COMP-02'!I36 -> 52.89372 | H25: BDI INCLUSO NA COMPOSIÇÃO | I25: =G25 -> 52.89372 | J25: =ROUND(I25*F25,2) -> 423.15 | K25: =J25/$J$99 -> 0.001650368
A26: IOPES | B26: 10403 | C26: 02.03.07 | D26: CORTE E DESTOCAMENTO DE ÁRVORES COM DIÂMETRO DE 15 CM | E26: UND | F26: ='MEMORIA DE CÁLCULO'!J77 -> 31 | G26: 32.34 | H26: =ROUND(G26*0.2654,2) -> 8.58 | I26: =G26+H26 -> 40.92 | J26: =ROUND(I26*F26,2) -> 1268.52 | K26: =J26/$J$99 -> 0.0049474769
A27: IOPES | B27: 10404 | C27: 02.03.08 | D27: CORTE E DESTOCAMENTO DE ÁRVORES COM DIÂMETRO SUPERIOR A 30 CM | E27: UND | F27: ='MEMORIA DE CÁLCULO'!J81 -> 6 | G27: 80.42 | H27: =ROUND(G27*0.2654,2) -> 21.34 | I27: =G27+H27 -> 101.76 | J27: =ROUND(I27*F27,2) -> 610.56 | K27: =J27/$J$99 -> 0.0023813038
B28: COMP-03 | C28: 02.03.09 | D28: REMOÇÃO DO PONTO DE ÔNIBUS EXISTENTE | E28: UND | F28: ='MEMORIA DE CÁLCULO'!J85 -> 1 | G28: ='COMP-03'!I39 -> 488.79972 | H28: BDI INCLUSO NA COMPOSIÇÃO | I28: =G28 -> 488.79972 | J28: =F28*I28 -> 488.79972 | K28: =J28/$J$99 -> 0.0019064148
D29: SUBTOTAL 02 | J29: =SUM(J10:J28) -> 51959.042 | K29: =J29/$J$99 -> 0.20265046
C30: 03 | D30: MOVIMENTO DE TERRA
C31: 03.01 | D31: ESCAVAÇÕES
A32: SINAPI | B32: 93358 | C32: 03.01.01 | D32: ESCAVAÇÃO MANUAL DE VALA COM PROFUNDIDADE MENOR OU IGUAL A 1,30 M. AF_03/2016 | E32: M3 | F32: ='MEMORIA DE CÁLCULO'!J91 -> 2.93 | G32: 53.99 | H32: =ROUND(G32*0.2654,2) -> 14.33 | I32: =G32+H32 -> 68.32 | J32: =ROUND(I32*F32,2) -> 200.18 | K32: =J32/$J$99 -> 0.00078074127
A33: SINAPI | B33: 74151/001 | C33: 03.01.02 | D33: ESCAVACAO E CARGA MATERIAL 1A CATEGORIA, UTILIZANDO TRATOR DE ESTEIRAS DE 110 A 160HP COM LAMINA, PESO OPERACIONAL * 13T E PA CARREGADEIRA COM 170 HP. | E33: M3 | F33: ='MEMORIA DE CÁLCULO'!J99 -> 57.695 | G33: 2.86 | H33: =ROUND(G33*0.2654,2) -> 0.76 | I33: =G33+H33 -> 3.62 | J33: =ROUND(I33*F33,2) -> 208.86 | K33: =J33/$J$99 -> 0.00081459498
A34: SINAPI | B34: 74205/001 | C34: 03.01.03 | D34: ESCAVACAO MECANICA DE MATERIAL 1A. CATEGORIA, PROVENIENTE DE CORTE DE SUBLEITO (C/TRATOR ESTEIRAS 160HP) | E34: M3 | F34: ='MEMORIA DE CÁLCULO'!J103 -> 13.275 | G34: 1.4 | H34: =ROUND(G34*0.2654,2) -> 0.37 | I34: =G34+H34 -> 1.77 | J34: =ROUND(I34*F34,2) -> 23.5 | K34: =J34/$J$99 -> 9.1654611e-05
C35: 03.02 | D35: REATERRO E COMPACTAÇÃO
A36: SINAPI | B36: 96387 | C36: 03.02.02 | D36: EXECUÇÃO E COMPACTAÇÃO DE BASE E OU SUB BASE COM SOLO ESTABILIZADO GRANULOMETRICAMENTE - EXCLUSIVE ESCAVAÇÃO, CARGA E TRANSPORTE E SOLO. AF_09/2017 | E36: M3 | F36: ='MEMORIA DE CÁLCULO'!J108 -> 60.726 | G36: 6.32 | H36: =ROUND(G36*0.2654,2) -> 1.68 | I36: =G36+H36 -> 8 | J36: =ROUND(I36*F36,2) -> 485.81 | K36: =J36/$J$99 -> 0.0018947543
C37: 03.03 | D37: TRANSPORTES
A38: SINAPI | B38: 93177 | C38: 03.03.01 | D38: TRANSPORTE DE MATERIAL ASFALTICO, COM CAMINHÃO COM CAPACIDADE DE 20000L EM RODOVIA PAVIMENTADA PARA DISTÂNCIAS MÉDIAS DE TRANSPORTE IGUAL OU INFERIOR A 100 KM. AF_02/2016 | E38: TXKM | F38: ='MEMORIA DE CÁLCULO'!J114 -> 84.96 | G38: 1.52 | H38: =ROUND(G38*0.2654,2) -> 0.4 | I38: =G38+H38 -> 1.92 | J38: =ROUND(I38*F38,2) -> 163.12 | K38: =J38/$J$99 -> 0.0006362
A39: IOPES | B39: 30304 | C39: 03.03.02 | D39: ÍNDICE DE PREÇO PARA REMOÇÃO DE ENTULHO DECORRENTE DA EXECUÇÃO DE OBRAS (CLASSE A CONAMA – NBR 10.004 - CLASSE II-B), INCLUINDO ALUGUEL DA CAÇAMBA, CARGA, TRANSPORTE E DESCARGA EM ÁREA LICENCIADA | E39: M3 | F39: ='MEMORIA DE CÁLCULO'!J120 -> 151.32773 | G39: 45.59 | H39: =ROUND(G39*0.2654,2) -> 12.1 | I39: =G39+H39 -> 57.69 | J39: =ROUND(I39*F39,2) -> 8730.1 | K39: =J39/$J$99 -> 0.034049103
D40: SUBTOTAL 03 | J40: =SUM(J30:J39) -> 9811.57 | K40: =J40/$J$99 -> 0.038267048
...

Sheet QCI
K3: QCI - Quadro de Composição do Investimento
B5: Número contrato de repasse | H5: Proponente/Tomador | O5: Município/UF | U5: Empreendimento | Z5: Aprovação
B6: 869913/2018 | H6: PREFEITURA MUN. DE JOÃO NEIVA/ES | O6: JOÃO NEIVA | R6: ES | U6: REFORMA DA PRAÇA NOSSA SENHORA DO LÍBANO
B8: Operação | O8: Programa/Modalidade/Ação
D9: Financiamento | J9: X | K9: Repassse | O9: MCIDADES
M11: Ocultar | N11: OCULTAR
M12: Limite
E13: Discriminação | O13: =IF(C9<>0,"Financiamento","Repasse") -> Repasse | S13: Contrapartida | Y13: Total | Z13: Execução | AA13: Contrapartida
B14: Item | C14: Descição | L14: Quant./unid | M14: Superior | N14: Inferior | O14: R$ | P14: VERIFIC USO REP | Q14: SOMENTE CP | R14: % | S14: Próprios (R$) | T14: CONTA PREENCH | U14: (%) | V14: Outros (R$) | W14: (%) | X14: Total % | Y14: R$ | Z14: EF ou AD | AA14: OS ou FIN
B15: 1 | C15: ='PLANILHA ORÇAMENTÁRIA'!D7 -> ADMINISTRAÇÃO LOCAL | L15: 01/VB | O15: ='PLANILHA ORÇAMENTÁRIA'!J9 -> 12519.868 | R15: =O15/(O15+S15) -> 1 | U15: =S15/(S15+O15) -> 0 | V15: =Y15*W15 -> 0 | W15: 0 | X15: =R15+U15+W15 -> 1 | Y15: =O15+S15 -> 12519.868 | Z15: EF | AB15: =IF(M15=1,"ERRO - VALOR SUPERA LIMITE",IF(N15=1,"ERRO - VALOR INFERIOR AO ESTABELECIDO",""))
B16: 2 | C16: ='PLANILHA ORÇAMENTÁRIA'!D10 -> SERVIÇOS PRELIMINARES | L16: 01/VB | O16: ='PLANILHA ORÇAMENTÁRIA'!J29 -> 51959.042 | R16: =O16/(O16+S16) -> 1 | U16: =S16/(S16+O16) -> 0 | W16: 0 | X16: =R16+U16+W16 -> 1 | Y16: =O16+S16 -> 51959.042 | Z16: EF | AB16: =IF(M17=1,"ERRO - VALOR SUPERA LIMITE",IF(N17=1,"ERRO - VALOR INFERIOR AO ESTABELECIDO",""))
B17: 3 | C17: ='PLANILHA ORÇAMENTÁRIA'!D30 -> MOVIMENTO DE TERRA | L17: 01/VB | O17: ='PLANILHA ORÇAMENTÁRIA'!J40 -> 9811.57 | R17: =O17/(O17+S17) -> 1 | U17: =S17/(S17+O17) -> 0 | W17: 0 | X17: =R17+U17+W17 -> 1 | Y17: =O17+S17 -> 9811.57 | Z17: EF | AB17: =IF(M18=1,"ERRO - VALOR SUPERA LIMITE",IF(N18=1,"ERRO - VALOR INFERIOR AO ESTABELECIDO",""))
B18: 4 | C18: ='PLANILHA ORÇAMENTÁRIA'!D41 -> FABRICACAO/EXECUCAO DE CBUQ/PRE-MISTURADOS | L18: 01/VB | O18: ='PLANILHA ORÇAMENTÁRIA'!J44 -> 3458.83 | R18: =O18/(O18+S18) -> 1 | U18: =S18/(S18+O18) -> 0 | W18: 0 | X18: =R18+U18+W18 -> 1 | Y18: =O18+S18 -> 3458.83 | Z18: EF | AB18: =IF(#REF!=1,"ERRO - VALOR SUPERA LIMITE",IF(#REF!=1,"ERRO - VALOR INFERIOR AO ESTABELECIDO","")) -> #REF!
B19: 5 | C19: ='PLANILHA ORÇAMENTÁRIA'!D45 -> INSTALAÇÕES HIDRO-SANITÁRIAS | L19: 01/VB | R19: =O19/(O19+S19) -> 0 | S19: ='PLANILHA ORÇAMENTÁRIA'!J49 -> 390.99 | U19: =S19/(S19+O19) -> 1 | V19: =Y19*W19 -> 0 | W19: 0 | X19: =R19+U19+W19 -> 1 | Y19: =O19+S19 -> 390.99 | Z19: EF | AA19: FIN | AB19: =IF(M19=1,"ERRO - VALOR SUPERA LIMITE",IF(N19=1,"ERRO - VALOR INFERIOR AO ESTABELECIDO",""))
B20: 6 | C20: ='PLANILHA ORÇAMENTÁRIA'!D50 -> INSTALAÇÕES ELÉTRICAS | L20: 01/VB | O20: ='PLANILHA ORÇAMENTÁRIA'!J62 -> 48139.87 | R20: =O20/(O20+S20) -> 1 | U20: =S20/(S20+O20) -> 0 | V20: =Y20*W20 -> 0 | W20: 0 | X20: =R20+U20+W20 -> 1 | Y20: =O20+S20 -> 48139.87 | Z20: EF | AB20: =IF(M20=1,"ERRO - VALOR SUPERA LIMITE",IF(N20=1,"ERRO - VALOR INFERIOR AO ESTABELECIDO",""))
B21: 7 | C21: ='PLANILHA ORÇAMENTÁRIA'!D63 -> SERVIÇOS COMPLEMENTARES EXTERNOS | L21: 01/VB | O21: ='PLANILHA ORÇAMENTÁRIA'!J94-S21 -> 96967.96 | R21: =O21/(O21+S21) -> 0.74809886 | S21: =AA36-S19-S22 -> 32651.218 | U21: =S21/(S21+O21) -> 0.25190114 | V21: =Y21*W21 -> 0 | W21: 0 | X21: =R21+U21+W21 -> 1 | Y21: =O21+S21 -> 129619.18 | Z21: EF | AA21: FIN | AB21: =IF(M21=1,"ERRO - VALOR SUPERA LIMITE",IF(N21=1,"ERRO - VALOR INFERIOR AO ESTABELECIDO",""))
B22: 8 | C22: ='PLANILHA ORÇAMENTÁRIA'!D95 -> TRATAMENTO, CONSERVAÇÃO E LIMPEZA | L22: 01/VB | R22: =O22/(O22+S22) -> 0 | S22: ='PLANILHA ORÇAMENTÁRIA'!J97 -> 498.01 | U22: =S22/(S22+O22) -> 1 | V22: =Y22*W22 -> 0 | W22: 0 | X22: =R22+U22+W22 -> 1 | Y22: =O22+S22 -> 498.01 | Z22: EF | AA22: FIN | AB22: =IF(M22=1,"ERRO - VALOR SUPERA LIMITE",IF(N22=1,"ERRO - VALOR INFERIOR AO ESTABELECIDO",""))
O24: =SUM(O15:O22) -> 222857.14 | P24: =SUM(P15:P22) -> 0 | Q24: =SUM(Q15:Q22) -> 0 | R24: =ROUND(O24/Y24,2) -> 0.87 | S24: =SUM(S15:S23) -> 33540.218 | T24: =SUM(T15:T22) -> 0 | U24: =ROUND(S24/Y24,2) -> 0.13 | V24: =SUM(V15:V22) -> 0 | W24: 0 | X24: 1 | Y24: =SUM(Y15:Y22) -> 256397.36 | AB24: =O24+S24+V24 -> 256397.36
Y25: =IF(SUM(Y15:Y22)=0,"",IF(SUM(Y15:Y22)<>AB24,"ERRO",""))
Z26: Forma de execução: AD = Administração Direta pelo Tomador
F27: João Neiva, Dezembro de 2018 | Z27: ou EF se execução e/ou fornecimento a contratar/contrado.
Z28: Tipo de contrapartida: FIN = Financeira; OS = em Obras e Serviços.
B31: _______________________________________
B32: RESPONSÁVEL TÉCNICO
B33: LAUDICÉIA S H DAS NEVES
B34: ENGª CIVIL - CREA/AM 11.750
AA36: ='PLANILHA ORÇAMENTÁRIA'!J104 -> 33540.218

Sheet MEMORIA DE CÁLCULO
A1: PREFEITURA MUNICIPAL DE JOÃO NEIVA SECRETARIA MUNICIPAL DE OBRAS E SERVIÇOS URBANOS
A2: OBRA: REFORMA DA PRAÇA NOSSA SENHORA DO LÍBANO
A3: LOCAL: CENTRO - JOÃO NEIVA/ES
A5: MEMÓRIA DE CÁLCULO
A6: CÓDIGO | B6: DESCRIÇÃO SERVIÇO | C6: UNIDADE | D6: Qnt | E6: C (m) | F6: L (m) | G6: H (m) | H6: A(m2) | I6: V(m3) | J6: QUANT. DO SERVIÇO
A7: 01 | B7: ADMINISTRAÇÃO LOCAL
A8: 01.01.01 | B8: EQUIPE DE OBRA, INCLUINDO ENGENHEIRO JUNIOR, TECNICO DE SEGUNDO GRAU | C8: UND | D8: Qnt | E8: C (m) | F8: L (m) | G8: H (m) | H8: A(m2) | I8: V(m3) | J8: =J9 -> 1
B9: Para acompanhamento da obra | D9: 1 | J9: 1
A12: 02 | B12: SERVIÇOS PRELIMINARES
A13: 02.01 | B13: INSTALAÇÃO DO CANTEIRO DE OBRAS
A15: 02.01.01 | B15: TAPUME COM TELHA METÁLICA. AF_05/2018 | C15: M2 | D15: Qnt | E15: C (m) | F15: L (m) | G15: H (m) | H15: A(m2) | I15: V(m3) | J15: =J17 -> 246.62
B17: Considerado em todos os lados da praça | E17: 112.1 | G17: 2.2 | I17: 1 | J17: =E17*G17*I17 -> 246.62
B18: Obs¹.: Ver croqui orientativo
B19: Obs².: Serviço necessário, pois a obra se encontra no centro da cidade, em frente a uma Escola onde tem saída e entrada de crianças, e nesta praça se encontra também um dos ponstos de ônibus mais importantes da cidade.
A21: 02.01.02 | B21: PLACA DE OBRA EM CHAPA DE ACO GALVANIZADO | C21: M2 | D21: Qnt | E21: C (m) | F21: L (m) | G21: H (m) | H21: A(m2) | I21: V(m3) | J21: =J22 -> 8
B22: Placa com as informações da obra | D22: 1 | E22: 4 | F22: 2 | J22: =D22*(E22*F22) -> 8
A25: 02.01.03 | B25: ALUGUEL CONTAINER/ESCRIT INCL INST ELET LARG=2,20 COMP=6,20M ALT=2,50M CHAPA ACO C/NERV TRAPEZ FORRO C/ISOL TERMO/ACUSTICO CHASSIS REFORC PISO COMPENS NAVAL EXC TRANSP/CARGA/DESCARGA | C25: MÊS | D25: Qnt | E25: C (m) | F25: L (m) | G25: H (m) | H25: A(m2) | I25: V(m3) | J25: =J26 -> 6
B26: Para o canteiro de obras | D26: 6 | J26: =D26 -> 6
A29: 02.01.04 | B29: REMOÇÃO DE TAPUME/ CHAPAS METÁLICAS E DE MADEIRA, DE FORMA MANUAL, SEM REAPROVEITAMENTO. AF_12/2017 | C29: M2 | D29: Qnt | E29: C (m) | F29: L (m) | G29: H (m) | H29: A(m2) | I29: V(m3) | J29: =J30 -> 246.62
B30: Após o término da obra | D30: 1 | E30: 112.1 | G30: 2.2 | J30: =D30*(E30*G30) -> 246.62
A33: 02.02 | B33: LOCAÇÃO
A34: 02.02.01 | B34: LOCACAO CONVENCIONAL DE OBRA, ATRAVÉS DE GABARITO DE TABUAS CORRIDAS PONTALETADAS A CADA 1,50M, SEM REAPROVEITAMENTO | C34: M2 | D34: Qnt | E34: C (m) | F34: L (m) | G34: H (m) | H34: A(m2) | I34: V(m3) | J34: =J35 -> 518.76
B35: Locação da obra | D35: 1 | H35: 518.76 | J35: =H35 -> 518.76
B36: Nota: Conforme área do projeto
A38: 02.02.02 | B38: MOBILIZAÇÃO E DESMOBILIZAÇÃO DE CONTEINER LOCADO PARA BARRACÃO DE OBRA | C38: UND | D38: Qnt | E38: C (m) | F38: L (m) | G38: H (m) | H38: A(m2) | I38: V(m3) | J38: =SUM(J39:J40) -> 2
B39: Realocação do container durante a obra | D39: 1 | J39: =D39 -> 1
B40: Retirada do container | D40: 1 | J40: =D40 -> 1
A43: 02.03 | B43: DEMOLIÇÕES E RETIRADAS
A44: 02.03.01 | B44: RETIRADA DE MEIO-FIO DE CONCRETO | C44: M | D44: Qnt | E44: C (m) | F44: L (m) | G44: H (m) | H44: A(m2) | I44: V(m3) | J44: =SUM(J45:J48) -> 272.16
B45: Meio fio canteiro gola das árvores | E45: =4*4 -> 16 | J45: =E45 -> 16
B46: Meio fio canteiro interno | E46: =16.92+15.29+26.83+5.1+19.52+22.19+4.26+2.5+3.68+2.31+22.43 -> 141.03 | J46: =E46 -> 141.03
B47: Meio fio perimetral | E47: =95.05+20.08 -> 115.13 | J47: =E47 -> 115.13
A50: 02.03.02 | B50: DEMOLIÇÃO DE PAVIMENTO INTERTRAVADO, DE FORMA MANUAL, COM REAPROVEITAMENTO. AF_12/2017 | C50: M2 | D50: Qnt | E50: C (m) | F50: L (m) | G50: H (m) | H50: A(m2) | I50: V(m3) | J50: =J51 -> 391.34
B51: Retirada de todos os blocos intertravados da praça | H51: 391.34 | J51: =H51 -> 391.34
A54: 02.03.03 | B54: DEMOLIÇÃO PARCIAL DE PAVIMENTO ASFÁLTICO, DE FORMA MECANIZADA, SEM REAPROVEITAMENTO. AF_12/2017 | C54: M2 | D54: Qnt | E54: C (m) | F54: L (m) | G54: H (m) | H54: A(m2) | I54: V(m3) | J54: =J55 -> 7.71
B55: Área a ser aumentada da praça | H55: 7.71 | J55: =H55 -> 7.71
B56: Nota: Conforme indicado em projeto
A59: 02.03.04 | B59: DEMOLIÇÃO MANUAL DE CONCRETO ARMADO (EMOP 05.001.033) | C59: M3 | D59: Qnt | E59: C (m) | F59: L (m) | G59: H (m) | H59: A(m2) | I59: V(m3) | J59: =SUM(J60:J65) -> 0.85896
B60: Demolição dos bancos de concreto da praça | D60: 16 | E60: 0.42 | F60: Bmenor 0,12 | G60: 0.5 | H60: =((0.24+0.12)*0.5)/2 -> 0.09 | I60: =H60*E60 -> 0.0378 | J60: =D60*I60 -> 0.6048
F61: Bmaior 0,24
...

Sheet BDI
A1: DETALHAMENTO DO BDI
A3: PROPONENTE: | B3: Prefeitura Municipal de João Neiva
A4: OBRA: | B4: Reforma da Praça Nossa Senhora do Líbano
A5: CONTRATO: | B5: 869913/2018
A7: 1. Regime de Contribuição Previdenciária
B9: Com Desoneração
A11: 2. Tipo de Intervenção
B13: Edificações
A15: 3. Incidências sobre o custo
B17: Administração Central - AC | C17: 4 | D17: %
B18: Riscos - R | C18: 0.97 | D18: %
B19: Seguros e Garantias Contratuais - S+G | C19: 0.8 | D19: %
B20: Despesas e Encargos Financeiros - DF | C20: 0.59 | D20: %
B22: Lucro - L | C22: 6.86 | D22: %
A24: 4 – Incidências sobre o preço de venda
B26: Despesas Tributárias - I | C26: =C29+C31+C32+C33 -> 10.15 | D26: %
B28: Percentual da base de cálculo para o ISS: | C28: 100 | D28: %
B29: Alíquota do ISS (sobre a base de cálculo): | C29: 2 | D29: %
B31: COFINS | C31: 3 | D31: %
B32: PIS | C32: 0.65 | D32: %
B33: INSS | C33: =IF(B9="Com Desoneração",4.5,0) -> 4.5 | D33: %
A35: 5 – Demonstrativo de cálculo do BDI
B37: BDI= (1+(AC+S+R+G))(1+DF)(1+L)) -1 = | C37: =ROUND((((1+($C$17/100)+($C$19/100)+($C$18/100))*(1+($C$20/100))*(1+($C$22/100)))/(1-$C$26/100)-1),4) -> 0.2654
B38: ( 1- I )
A40: Declaro para os devidos fins que, conforme legislação tributária municipal, a base de cálculo
A41: =CONCATENATE("do ISS para ", B13," é de ",C28," %",", com a respectiva alíquota de ",C29," %") -> do ISS para Edificações é de 100 %, com a respectiva alíquota de 2 %
A43: Declaro para os devidos fins que o regime de Contribuição Previdenciária adotado para
A44: =CONCATENATE("elaboração do orçamento foi ",B9,", e que esta é a alternativa mais adequada para ") -> elaboração do orçamento foi Com Desoneração, e que esta é a alternativa mais adequada para
A45: a Administração Pública.
A49: Engenheiro | B49: Laudicéia Sepulchro Henrique das Neves
A50: CREA/CAU: | B50: 11.750/D Visto ES 20090422
B55: Responsável Tomador
A56: Nome | B56: Otávio Abreu Xavier
A57: Cargo | B57: Prefeito Municipal

Sheet COTAÇÃO
A1: PREFEITURA MUNICIPAL DE JOÃO NEIVA SECRETARIA MUNICIPAL DE OBRAS E SERVIÇOS URBANOS
A3: Obra: REFORMA DA PRAÇA NOSSA SENHORA DO LÍBANO
A4: Local: CENTRO - JOÃO NEIVA/ES
A7: COTAÇÕES
A8: ITEM | B8: DESCRIÇÃO | C8: UNIDADE | D8: QUANTIDADE | E8: COTAÇÕES EFETUADAS | Q8: LIMITE MÉDIA (R$) V. UNT. | R8: PREÇO MÉDIO - VALOR UNIT. (R$) | S8: OBSERVAÇÕES
E9: FORNECEDOR 01 | F9: PREÇO 01 | G9: DATA PREÇO 01 | H9: PREÇO ATUALIAZADO PELO INCC PARA DATA BASE DE AGOSTO/2018 | I9: FORNECEDOR 02 | J9: PREÇO 02 | K9: DATA PREÇO 02 | L9: PREÇO ATUALIAZADO PELO INCC PARA DATA BASE DE AGOSTO/2018 | M9: FORNECEDOR 03 | N9: PREÇO 03 | O9: DATA PREÇO 03 | P9: PREÇO ATUALIAZADO PELO INCC PARA DATA BASE DE AGOSTO/2018
A10: PAI-01 | B10: JASMIN MANGA (Plumeria Rubra) | C10: UND | D10: 1 | E10: Flores e fardins / JN 99501-1569 | F10: 145 | G10: 43252 | H10: 147.3 | I10: Sempre Verde / Vitória (27) 3203-8500 | J10: 160 | K10: 43252 | L10: 162.54 | M10: Polen Garden / Vila Velha (27) 3325-0301 | N10: 165 | O10: 43252 | P10: 167.62 | R10: =(H10+L10+P10)/3 -> 159.15333 | S10: Obs.: Preços atualizados ou retroagidos pelo INCC (Índice Nacional de Custo da Construção) no site <http://calculoexato.com.br/parprima.aspx?codMenu=FinanAtualizaIndiceJuros>.
A11: PAI-02 | B11: CLORÓFITO (GRAVATINHA) (chlorofhitum comosum) | C11: UND | D11: 1 | E11: Flores e fardins / JN 99501-1570 | F11: 1.8 | G11: 43253 | H11: 1.83 | I11: Sempre Verde / Vitória (27) 3203-8501 | J11: 1.9 | K11: 43253 | L11: 1.93 | M11: Polen Garden / Vila Velha (27) 3325-0302 | N11: 2 | O11: 43253 | P11: 2.03 | R11: =(H11+L11+P11)/3 -> 1.93 | S11: Obs.: Preços atualizados ou retroagidos pelo INCC (Índice Nacional de Custo da Construção) no site <http://calculoexato.com.br/parprima.aspx?codMenu=FinanAtualizaIndiceJuros>.
A12: PAI-03 | B12: DRACENA ROXA (Cordyline Rubra) | C12: UND | D12: 1 | E12: Flores e fardins / JN 99501-1571 | F12: 30 | G12: 43254 | H12: 30.48 | I12: Sempre Verde / Vitória (27) 3203-8502 | J12: 33 | K12: 43254 | L12: 33.52 | M12: Polen Garden / Vila Velha (27) 3325-0303 | N12: 35.5 | O12: 43254 | P12: 36.06 | R12: =(H12+L12+P12)/3 -> 33.353333 | S12: Obs.: Preços atualizados ou retroagidos pelo INCC (Índice Nacional de Custo da Construção) no site <http://calculoexato.com.br/parprima.aspx?codMenu=FinanAtualizaIndiceJuros>.
A13: PAI-04 | B13: QUARESMEIRA (tibouchina mutabilis) | C13: UND | D13: 1 | E13: Flores e fardins / JN 99501-1572 | F13: 95 | G13: 43255 | H13: 96.51 | I13: Sempre Verde / Vitória (27) 3203-8503 | J13: 105 | K13: 43255 | L13: 106.67 | M13: Polen Garden / Vila Velha (27) 3325-0304 | N13: 120 | O13: 43255 | P13: 121.9 | R13: =(H13+L13+P13)/3 -> 108.36 | S13: Obs.: Preços atualizados ou retroagidos pelo INCC (Índice Nacional de Custo da Construção) no site <http://calculoexato.com.br/parprima.aspx?codMenu=FinanAtualizaIndiceJuros>.
A14: PAI-05 | B14: MORÉIA (Dietes Bicolor) | C14: UND | D14: 1 | E14: Flores e fardins / JN 99501-1573 | F14: 18 | G14: 43256 | H14: 18.29 | I14: Sempre Verde / Vitória (27) 3203-8504 | J14: 20 | K14: 43256 | L14: 20.32 | M14: Polen Garden / Vila Velha (27) 3325-0305 | N14: 21.5 | O14: 43256 | P14: 21.84 | R14: =(H14+L14+P14)/3 -> 20.15 | S14: Obs.: Preços atualizados ou retroagidos pelo INCC (Índice Nacional de Custo da Construção) no site <http://calculoexato.com.br/parprima.aspx?codMenu=FinanAtualizaIndiceJuros>.
A15: PAI-06 | B15: Abacaxi-Roxo (Tradescantia Spathacea) | C15: UND | D15: 1 | E15: Flores e fardins / JN 99501-1574 | F15: 27 | G15: 43257 | H15: 27.43 | I15: Sempre Verde / Vitória (27) 3203-8505 | J15: 27.5 | K15: 43257 | L15: 27.94 | M15: Polen Garden / Vila Velha (27) 3325-0306 | N15: 30 | O15: 43257 | P15: 30.48 | R15: =(H15+L15+P15)/3 -> 28.616667 | S15: Obs.: Preços atualizados ou retroagidos pelo INCC (Índice Nacional de Custo da Construção) no site <http://calculoexato.com.br/parprima.aspx?codMenu=FinanAtualizaIndiceJuros>.
A16: PAI-07 | B16: Manaca da Serra (Tibouchina mutabilis) | C16: UND | D16: 1 | E16: Flores e fardins / JN 99501-1575 | F16: 95 | G16: 43258 | H16: 96.51 | I16: Sempre Verde / Vitória (27) 3203-8506 | J16: 120 | K16: 43258 | L16: 121.9 | M16: Polen Garden / Vila Velha (27) 3325-0307 | N16: 135 | O16: 43258 | P16: 137.14 | R16: =(H16+L16+P16)/3 -> 118.51667 | S16: Obs.: Preços atualizados ou retroagidos pelo INCC (Índice Nacional de Custo da Construção) no site <http://calculoexato.com.br/parprima.aspx?codMenu=FinanAtualizaIndiceJuros>.
A17: PAI-08 | B17: Maranta (Maranta) | C17: UND | D17: 1 | E17: Flores e fardins / JN 99501-1576 | F17: 19 | G17: 43259 | H17: 19.3 | I17: Sempre Verde / Vitória (27) 3203-8507 | J17: 21.5 | K17: 43259 | L17: 21.84 | M17: Polen Garden / Vila Velha (27) 3325-0308 | N17: 25 | O17: 43259 | P17: 25.4 | R17: =(H17+L17+P17)/3 -> 22.18 | S17: Obs.: Preços atualizados ou retroagidos pelo INCC (Índice Nacional de Custo da Construção) no site <http://calculoexato.com.br/parprima.aspx?codMenu=FinanAtualizaIndiceJuros>.
A18: PAI-09 | B18: Palmeira Rabo de Raposa (Wodyetia bifurcata) | C18: UND | D18: 1 | E18: Flores e fardins / JN 99501-1577 | F18: 150 | G18: 43260 | H18: 152.38 | I18: Sempre Verde / Vitória (27) 3203-8508 | J18: 160 | K18: 43260 | L18: 162.54 | M18: Polen Garden / Vila Velha (27) 3325-0309 | N18: 175 | O18: 43260 | P18: 177.78 | R18: =(H18+L18+P18)/3 -> 164.23333 | S18: Obs.: Preços atualizados ou retroagidos pelo INCC (Índice Nacional de Custo da Construção) no site <http://calculoexato.com.br/parprima.aspx?codMenu=FinanAtualizaIndiceJuros>.
A19: LIX - 01 | B19: Lixeira 50L | C19: UND | D19: 1 | E19: Colect Vitória / (27) 3421-7082 / 98152-9700 | F19: 125 | G19: 43261 | H19: 126.98 | I19: Só Lixeiras / (17) 3463-9221 www.solixeiras.com | J19: 107.58 | K19: 43353 | L19: 107.42 | M19: Central Condomínios / (27) 3337-8019 / 3337-3563 www.centralcondominios.com | N19: 128.9 | O19: 43352 | P19: 128.71 | R19: =(H19+L19+P19)/3 -> 121.03667 | S19: Obs.: Preços atualizados ou retroagidos pelo INCC (Índice Nacional de Custo da Construção) no site <http://calculoexato.com.br/parprima.aspx?codMenu=FinanAtualizaIndiceJuros>.
A20: COMP-16 | B20: PISO DRENANTE TIPO PLACA E SUPERFÍCIE ANTIDERRAPANTE, ACABAMENTO POROSO, ESPESSURA DE 6 CM, DIMENSOES DE 40 X 40 CM , COR NATURAL , E RESISTÊNCIA A COMPRESSÃO MÍNIMA DE 20 MPA | C20: M2 | D20: 1 | E20: SALVADOR PRÉ-MOLDADOS / (27) 99963-5218 / 3298-8000 | F20: 40 | G20: 43262 | H20: 40.63 | R20: =H20 -> 40.63 | S20: Obs 1.: Dep. Comercial, Pedro Batista. Só pegamos esta cotação, por ser o único do Estado do ES a produzir o material. Obs 2.: Preços atualizados ou retroagidos pelo INCC (Índice Nacional de Custo da Construção) no site <http://calculoexato.com.br/parprima.aspx?codMenu=FinanAtualizaIndiceJuros>.
A21: COMP-17 | B21: PISO DRENANTE TIPO PLACA E SUPERFÍCIE ANTIDERRAPANTE, ACABAMENTO POROSO, ESPESSURA DE 6 CM, DIMENSOES DE 40 X 40 CM , COR GRAFITE , E RESISTÊNCIA A COMPRESSÃO MÍNIMA DE 20 MPA | C21: M2 | D21: 1 | E21: SALVADOR PRÉ-MOLDADOS / (27) 99963-5218 / 3298-8001 | F21: 58 | G21: 43263 | H21: 58.92 | R21: =H21 -> 58.92 | S21: Obs: Dep. Comercial, Pedro Batista. Só pegamos esta cotação, por ser o único do Estado do ES a produzir o material. Obs 2.: Preços atualizados ou retroagidos pelo INCC (Índice Nacional de Custo da Construção) no site <http://calculoexato.com.br/parprima.aspx?codMenu=FinanAtualizaIndiceJuros>.
A22: COMP-19 | B22: PISO TÁTIL ALERTA DIRECIONAL OU PONTILHADO 20X20 NATURAL OU VERMELHO | C22: M2 | D22: 1 | E22: SALVADOR PRÉ-MOLDADOS / (27) 99963-5218 / 3298-8002 | F22: 30 | G22: 43264 | H22: 30.48
A23: COMP-11 | B23: FABRICAÇÃO, MONTAGEM E INSTALAÇÃO DE ABRIGO PARA PONTO DE ÔNIBUS EM ESTRUTURA METÁLICA (MATERIAL ASTM A-36 / SAE 1020), DESCRIÇÕES CONFORME PROJETO, COM TRATAMENTO ANTICORROSIVO, PINTURA LÍQUIDA INDUSTRIAL, PINTURA PRIMER EPÓXI, PINTURA DE ACABAMENTO METÁLICO, DE 1ª LINHA (3 DEMÃOS) E COBERTURA EM TELHA TRAPEZOIDAL LR 40, PRÉ PINTADA BRANCO, ESP 0,50MM, CONSIDERANDO MOBILIZAÇÃO E DESMOBILIZAÇÃO DE PESSOAL E EQUIPAMENTOS | C23: UND | E23: S.A. Fabricação e Serviços LTDA ME - João Neiva | F23: 23700 | G23: 43405 | H23: =F23-173.41 -> 23526.59 | I23: JP Metal Mecânica - Aracruz | J23: 17570.2 | K23: 43405 | L23: =J23-128.56 -> 17441.64 | M23: FG LIUTH Serviços Industriais, João Neiva | N23: 19925.18 | O23: 43405 | P23: =N23-145.79 -> 19779.39 | R23: =(H23+L23+P23)/3 -> 20249.207 | S23: Obs.: Preços atualizados ou retroagidos pelo INCC (Índice Nacional de Custo da Construção) no site <http://calculoexato.com.br/parprima.aspx?codMenu=FinanAtualizaIndiceJuros>.
A24: ELE-04 | B24: FORNECIMENTO E MONTAGEM DE QUADRO DE COMANDO | C24: UND | E24: LUMILUZ (Cláudio Araújo) (27) 3203-6600 Vitória | F24: 9290 | G24: 43405 | H24: =F24-67.97 -> 9222.03 | I24: Túlio's Representações Ltda (Micheli Rygo) (27) 3340-0399 | J24: 9922 | K24: 43436 | L24: =J24-85.59 -> 9836.41 | M24: Eletrical Elétrica Comercial Ltda (Willians Pratti) (27) 2104-6577 | N24: 9430 | O24: 43436 | P24: =N24-81.35 -> 9348.65 | R24: =(H24+L24+P24)/3 -> 9469.03 | S24: Obs.: Preços atualizados ou retroagidos pelo INCC (Índice Nacional de Custo da Construção) no site <http://calculoexato.com.br/parprima.aspx?codMenu=FinanAtualizaIndiceJuros>.
A25: C-EQP-007 | B25: FRETE DE LIXEIRA TIPO BARCELONA EM AÇO | E25: ROMADELI TRANSPORTES | F25: 79.05 | I25: FIOROT | J25: 30 | M25: JAMEF | N25: 100.22 | Q25: 83.708 | R25: 54.525
A26: C-ELE-022 | B26: LUMINÁRIA PARA ILUMINAÇÃO PÚBLICA, TECNOLOGIA LED COM FLUXO LUMINOSO NOMINAL DE 6.800 LUMENS, POTÊNCIA CONSUMIDA 54W, TENSÃO NOMINAL 230 V, BASE E CORPO FABRICADOS EM ALUMÍNIO, DIFUSOR DE POLICABORNATO, GRAU DE ESTANQUICIDADE IP 66, PARA SER INSTALADA EM POSTE DE 4,00M DE ALTURA E DIÂMETRO DE TOPO 60MM | C26: UND | D26: 1 | E26: ILUMATIC | F26: 1685.19 | I26: ELETROMIL | J26: 1790 | M26: TRÓPICO | N26: 2456.1 | Q26: 2372.516 | R26: 1737.595
A27: ELE-01 | B27: LUMINÁRIA DECORATIVA LED PARA ILUMINAÇÃO PÚBLICA, ACABAMENTO COM PINTURA ELETROSTATICA, POTÊNCIA 112W A 113W | C27: UND | E27: REEME (Bárbara Fiori) (LUMINÁRIA PÚBLICA DECORATIVA LED SÉRIE ZE-165 Potência 112W) | F27: 1226.25 | G27: 43466 | H27: 1214.06 | I27: FIBROMETAL (Rogério Silva) (LUMINÁRIA JACAREI LED 112 WATTS – 16240 LUMENS) | J27: 1598 | K27: 43466 | L27: 1582.12 | M27: LASLED (Luminária Decorativa Jupiter 113 Watts Lumens - 13.876 lm (110lm/w) COD. PUBDJ113 (Ana Julia) | N27: 1130.78 | O27: 43466 | P27: 1119.54 | R27: =(H27+L27+P27)/3 -> 1305.24 | S27: Obs.: Preços atualizados pelo INCC (Índice Nacional de Custo da Construção) no site <http://calculoexato.com.br/parprima.aspx?codMenu=FinanAtualizaIndiceJuros>.
A28: COMP-26 | B28: TUBO QUADRADRO GALVANIZADO A FOGO DIMENSÕES 50X50X3,00X6000 MM E= 3,00 , PESO 26,86 KG/M | C28: UND | D28: 1 | E28: RDG AÇOS DO BRASIL (27)2103-3408 angelitas@rdgacosdobrasil.com.br | F28: 133.67 | G28: 43344 | S28: Obs: Vendedor Angelita Colodeti, cotamos com essa filial, por ser de Linhares e mais próxima do Município de João Neiva.
A29: COMP-26 | B29: TUBO QUADRADRO GALVANIZADO A FOGO DIMENSÕES 100X50X3,00X6000 MM E= 3,00 , PESO 55,04 KG/M | C29: UND | D29: 1 | E29: RDG AÇOS DO BRASIL (27)2103-3408 angelitas@rdgacosdobrasil.com.br | F29: 214.57 | G29: 43345 | S29: Obs: Vendedor Angelita Colodeti, cotamos com essa filial, por ser de Linhares e mais próxima do Município de João Neiva.
A30: ELE-04 | B30: CURVA DE AÇO GALVANIZADO, PESADO 90º 1 1/2" COM 2 LUVAS | C30: UND | E30: LUMILUZ (Cláudio) (27) 3203-6600 Vitória | F30: =44.5+15.1+15.1 -> 74.7 | G30: 43405 | H30: =F30-0.55 -> 74.15 | I30: ELETROMIL (Gilson) (27) 3357-1000 | J30: =42.5+10.9+10.9 -> 64.3 | K30: 43406 | L30: =J30-0.47 -> 63.83 | M30: DME (Leonardo) (27) 3348-8100 | N30: =30+9.9+9.9 -> 49.8 | O30: 43406 | P30: =N30-0.36 -> 49.44 | R30: =(H30+L30+P30)/3 -> 62.473333 | S30: Obs.: Preços atualizados ou retroagidos pelo INCC (Índice Nacional de Custo da Construção) no site <http://calculoexato.com.br/parprima.aspx?codMenu=FinanAtualizaIndiceJuros>.
A31: ELE-04 | B31: ABRAÇADEIRA DE AÇO FITA (ROLO DE 25M) COM CURSOR | C31: UND | E31: LUMILUZ (Cláudio) (27) 3203-6600 Vitória | F31: =26.8+1.3 -> 28.1 | G31: 43405 | H31: =F31-0.21 -> 27.89 | I31: ELETROMIL (Gilson) (27) 3357-1000 | J31: =28.5+1.15 -> 29.65 | K31: 43406 | L31: =J31-0.22 -> 29.43 | M31: DME (Leonardo) (27) 3348-8100 | N31: =27.5+1.3 -> 28.8 | O31: 43406 | P31: =N31-0.21 -> 28.59 | R31: =(H31+L31+P31)/3 -> 28.636667 | S31: Obs.: Preços atualizados ou retroagidos pelo INCC (Índice Nacional de Custo da Construção) no site <http://calculoexato.com.br/parprima.aspx?codMenu=FinanAtualizaIndiceJuros>.

Sheet CRONOGRAMA
B2: PREFEITURA MUNICIPAL DE JOÃO NEIVA
H4: LS: 89,54%
A5: OBRA: REFORMA DA PRAÇA NOSSA SENHORA DO LÍBANO | H5: BDI: 26,54% - Serviços(materiais e instalações) PRAZO DA OBRA: 180 dias DATA BASE: Agosto/2018
A6: LOCAL: CENTRO - JOÃO NEIVA/ES
H7: CONVÊNIO Nº: 869913/2018
A8: CRONOGRAMA FÍSICO E FINANCEIRO
A9: ITEM | B9: SERVIÇO | C9: VALORES DO ITEM | E9: 30 dias | F9: 60 dias | G9: 90 dias | H9: 120 dias | I9: 150 dias | J9: 180 dias
C10: R$ | D10: %
A11: 01 | B11: ADMINISTRAÇÃO LOCAL | E11: =C12/6 -> 2086.6446 | F11: =E11 -> 2086.6446 | G11: =E11 -> 2086.6446 | H11: =E11 -> 2086.6446 | I11: =E11 -> 2086.6446 | J11: =E11 -> 2086.6446
C12: ='PLANILHA ORÇAMENTÁRIA'!J9 -> 12519.868 | D12: =C12/C28 -> 0.04882994 | E12: =E11/C12 -> 0.16666667 | F12: =E12 -> 0.16666667 | G12: =E12 -> 0.16666667 | H12: =E12 -> 0.16666667 | I12: =E12 -> 0.16666667 | J12: =E12 -> 0.16666667
A13: 02 | B13: SERVIÇOS PRELIMINARES | E13: =C14-G13-J13-F13 -> 44165.186 | F13: =C14*0.05 -> 2597.9521 | G13: =C14*0.05 -> 2597.9521 | J13: =G13 -> 2597.9521
C14: ='PLANILHA ORÇAMENTÁRIA'!J29 -> 51959.042 | D14: =C14/C28 -> 0.20265046 | E14: =E13/C14 -> 0.85 | F14: =F13/C14 -> 0.05 | G14: =G13/C14 -> 0.05 | J14: =J13/C14 -> 0.05
A15: 03 | B15: MOVIMENTO DE TERRA | E15: =C16*0.5 -> 4905.785 | F15: =C16-E15 -> 4905.785
C16: ='PLANILHA ORÇAMENTÁRIA'!J40 -> 9811.57 | D16: =C16/C28 -> 0.038267048 | E16: =E15/C16 -> 0.5 | F16: =F15/C16 -> 0.5
A17: 04 | B17: FABRICACAO/EXECUCAO DE CBUQ/PRE-MISTURADOS | F17: =$C18*F18 -> 3458.83
C18: ='PLANILHA ORÇAMENTÁRIA'!J44 -> 3458.83 | D18: =C18/C28 -> 0.013490116 | F18: 1
A19: 05 | B19: INSTALAÇÕES HIDRO-SANITÁRIAS | F19: =C20 -> 390.99
C20: ='PLANILHA ORÇAMENTÁRIA'!J49 -> 390.99 | D20: =C20/C28 -> 0.0015249377 | F20: =F19/C20 -> 1
A21: 06 | B21: INSTALAÇÕES ELÉTRICAS | F21: =C22*0.3 -> 14441.961 | G21: =C22*0.6 -> 28883.922 | H21: =C22-(F21+G21) -> 4813.987
C22: ='PLANILHA ORÇAMENTÁRIA'!J62 -> 48139.87 | D22: =C22/C28 -> 0.18775494 | F22: =F21/C22 -> 0.3 | G22: =G21/C22 -> 0.6 | H22: =H21/C22 -> 0.1
A23: 07 | B23: SERVIÇOS COMPLEMENTARES EXTERNOS | H23: =C24/3 -> 43206.393 | I23: =C24/3 -> 43206.393 | J23: =C24/3 -> 43206.393
C24: ='PLANILHA ORÇAMENTÁRIA'!J94 -> 129619.18 | D24: =C24/C28 -> 0.50554023 | H24: =H23/C24 -> 0.33333333 | I24: =I23/C24 -> 0.33333333 | J24: =J23/C24 -> 0.33333333
A25: 08 | B25: TRATAMENTO, CONSERVAÇÃO E LIMPEZA | J25: =C26 -> 498.01
C26: ='PLANILHA ORÇAMENTÁRIA'!J97 -> 498.01 | D26: =C26/C28 -> 0.0019423367 | J26: =J25/C26 -> 1
B28: TOTAL GERAL | C28: =SUM(C12:C26) -> 256397.36 | D28: =SUM(D12:D26) -> 1
C29: VALOR DO SERVIÇO EXECUTADO NO MÊS | D29: R$ | E29: =E11+E13+E15 -> 51157.615 | F29: =F15+F11+F17+F13+F19+F21 -> 27882.163 | G29: =G11+G21+G13 -> 33568.519 | H29: =H21+H11+H23 -> 50107.024 | I29: =I11+I23 -> 45293.037 | J29: =J11+J25+J23+J13 -> 48389
C30: PORCENTAGEM | D30: % | E30: =E29/C28 -> 0.19952474 | F30: =F29/C28 -> 0.1087459 | G30: =G29/C28 -> 0.13092381 | H30: =H29/$C$28 -> 0.19542723 | I30: =I29/$C$28 -> 0.17665173 | J30: =J29/$C$28 -> 0.18872659
C31: VALOR ACUMULADO DOS SERVIÇOS EXECUTADOS | D31: R$ | E31: =E29 -> 51157.615 | F31: =F29+E31 -> 79039.778 | G31: =G29+F31 -> 112608.3 | H31: =H29+G31 -> 162715.32 | I31: =I29+H31 -> 208008.36 | J31: =J29+I31 -> 256397.36
C32: PORCENTAGEM ACUMULADO | D32: % | E32: =E31/$C$28 -> 0.19952474 | F32: =F31/$C$28 -> 0.30827064 | G32: =G31/$C$28 -> 0.43919445 | H32: =H31/$C$28 -> 0.63462168 | I32: =I31/$C$28 -> 0.81127341 | J32: =J31/$C$28 -> 1

Sheet ELE-01
A1: PREFEITURA MUNICIPAL DE JOÃO NEIVA SECRETARIA MUNICIPAL DE OBRAS E SERVIÇOS URBANOS
C4: Obra: REFORMA DA PRAÇA NOSSA SENHORA DO LÍBANO | G4: LS: | H4: BDI: | I4: Data-base
C5: Local: CENTRO - JOÃO NEIVA/ES | G5: 0.8954 | H5: 0.2654
A6: COMPOSIÇÃO ANALÍTICA DE PREÇO UNITÁRIO | I6: 43313
I7: ELE-01
A8: SERVIÇO: | B8: POSTE CÔNICO CONTÍNUO FLANGEADO, RETO, EM AÇO GALVANIZADO, PINTADO COM TINTA PROTETORA NA COR GRAFITE, ALTURA ÚTIL 3,00M, DIÂMETRO DA BASE 95MM, COM LUMINÁRIA DECORATIVA LED PARA ILUMINAÇÃO PÚBLICA, ACABAMENTO COM PINTURA ELETROSTATICA, POTÊNCIA 112W A 113W E BASE DE CONCRETO PARA FIXAÇÃO DO POSTE COM DIMENSÕES 40X40X50CM
A9: UND: | B9: M2
A11: MÃO-DE-OBRA
A12: CÓD. | B12: ORGÃO | C12: DESCRIÇÃO | F12: UND | G12: COEF | H12: R$ UNIT. | I12: R$ PARCIAL
A13: 88247 | B13: SINAPI | C13: AUXILIAR DE ELETRICISTA COM ENCARGOS COMPLEMENTARES | D13: AUXILIAR DE ELETRICISTA COM ENCARGOS COMPLEMENTARES | E13: AUXILIAR DE ELETRICISTA COM ENCARGOS COMPLEMENTARES | F13: H | G13: 0.1 | H13: 15.29 | I13: =G13*H13 -> 1.529
A14: 88264 | B14: SINAPI | C14: ELETRICISTA COM ENCARGOS COMPLEMENTARES | D14: ELETRICISTA COM ENCARGOS COMPLEMENTARES | E14: ELETRICISTA COM ENCARGOS COMPLEMENTARES | F14: H | G14: 7 | H14: 19.84 | I14: =G14*H14 -> 138.88
C16: Obs.: Coeficientes baseados no item SINAPI - 73769/001 POSTE ACO CONICO CONTINUO CURVO SIMPLES SEM BASE C/JANELA 9M (INSPECAO) - FORNECIMENTO E INSTALACAO, no item SINAPI - 93043 LÂMPADA LED 10 W BIVOLT BRANCA, FORMATO TRADICIONAL (BASE E27) - FORNECIMENTO E INSTALAÇÃO
A18: TOTAL A | I18: =SUM(I13:I14) -> 140.409
A20: MATERIAIS/ SERVIÇOS
A21: CÓD. | B21: ORGÃO | C21: DESCRIÇÃO | F21: UND | G21: COEF | H21: R$ UNIT. | I21: R$ PARCIAL
A22: COTAÇÃO | B22: MERCADO | C22: LUMINÁRIA DECORATIVA LED PARA ILUMINAÇÃO PÚBLICA, ACABAMENTO COM PINTURA ELETROSTATICA, POTÊNCIA 112W A 113W | F22: UND | G22: 1 | H22: =COTAÇÃO!R27 -> 1305.24 | I22: =G22*H22 -> 1305.24
A23: 5050 | B23: SINAPI | C23: POSTE CONICO CONTINUO EM ACO GALVANIZADO, RETO, FLANGEADO, H = 3 M, DIAMETRO INFERIOR = *95* MM | D23: POSTE FERRO GALV FLANGEADO CURVO SIMPLES CONICO CONTINUO, C/ BASE H = 4,00M (PROPORÇÃO) | E23: POSTE FERRO GALV FLANGEADO CURVO SIMPLES CONICO CONTINUO, C/ BASE H = 4,00M (PROPORÇÃO) | F23: UND | G23: 1 | H23: 251.26 | I23: =G23*H23 -> 251.26
A24: 73794/001 | B24: SINAPI | C24: PINTURA COM TINTA PROTETORA ACABAMENTO GRAFITE ESMALTE SOBRE SUPERFICIE METALICA, 2 DEMAOS | D24: LIXA P/ FERRO | E24: LIXA P/ FERRO | F24: M2 | G24: =0.95*4 -> 3.8 | H24: 30.21 | I24: =G24*H24 -> 114.798
A25: 73855/001 | B25: SINAPI | C25: CHUMBADOR DE AÇO PARA FIXAÇÃO DE POSTE DE ACO RETO OU CURVO 7 A 9M COM FLANGE - FORNECIMENTO E INSTALACAO | F25: UND | G25: 4 | H25: 448.72 | I25: =G25*H25 -> 1794.88
A26: 94965 | B26: SINAPI | C26: CONCRETO FCK = 25MPA, TRAÇO 1:2,3:2,7 (CIMENTO/ AREIA MÉDIA/ BRITA 1) - PREPARO MECÂNICO COM BETONEIRA 400 L. AF_07/2016 | F26: M3 | G26: =0.4*0.4*0.5 -> 0.08 | H26: 262.73 | I26: =G26*H26 -> 21.0184
C27: Obs.: Considerando base de concreto com dimensões 0,40x0,40x0,50M
A28: 93358 | B28: SINAPI | C28: ESCAVAÇÃO MANUAL DE VALA COM PROFUNDIDADE MENOR OU IGUAL A 1,30 M. AF_ 03/2016 | F28: M3 | G28: =G26 -> 0.08 | H28: 53.99 | I28: =G28*H28 -> 4.3192
A29: TOTAL B | I29: =SUM(I22:I28) -> 3491.5156
A31: EQUIPAMENTOS
A32: CÓD. | B32: ORGÃO | C32: DESCRIÇÃO | F32: UND | G32: COEF | H32: R$ UNIT. | I32: R$ PARCIAL
A36: TOTAL C
A38: RESUMO
A39: TOTAL A | I39: =I18 -> 140.409
A40: TOTAL B | I40: =I29 -> 3491.5156
A41: TOTAL C | I41: =I36 -> 0
A42: TOTAL D ( TOTAL A X LEIS SOCIAIS)
A43: TOTAL E (A+B+C) | I43: =SUM(I39:I41) -> 3631.9246
A44: TOTAL F (BDI 26,54%) | I44: =I43*26.54% -> 963.91279
A45: PREÇO DE VENDA | I45: =I43+I44 -> 4595.8374

Sheet ELE-02
A1: PREFEITURA MUNICIPAL DE JOÃO NEIVA SECRETARIA MUNICIPAL DE OBRAS E SERVIÇOS URBANOS
C4: Obra: REFORMA DA PRAÇA NOSSA SENHORA DO LÍBANO | G4: LS: | H4: BDI: | I4: Data-base
C5: Local: CENTRO - JOÃO NEIVA/ES | G5: 0.8954 | H5: 0.2654
A6: COMPOSIÇÃO ANALÍTICA DE PREÇO UNITÁRIO | I6: 43313
I7: ELE-02
A8: SERVIÇO: | B8: ATERRAMENTO DOS POSTES METÁLICOS, CONSIDERANDO HASTE DE ATERRAMENTO, CONECTORES, CABO DE COBRE NÚ E OLHAL DE FERRO GALVANIZADO COM PARAFUSO 16X150MM
A9: UND: | B9: UND
A11: MÃO-DE-OBRA
A12: CÓD. | B12: ORGÃO | C12: DESCRIÇÃO | F12: UND | G12: COEF | H12: R$ UNIT. | I12: R$ PARCIAL
A17: TOTAL A
A19: MATERIAIS/ SERVIÇOS
A20: CÓD. | B20: ORGÃO | C20: DESCRIÇÃO | F20: UND | G20: COEF | H20: R$ UNIT. | I20: R$ PARCIAL
A21: 96985 | B21: SINAPI | C21: HASTE DE ATERRAMENTO 5/8 PARA SPDA - FORNECIMENTO E INSTALAÇÃO. AF_12 /2017 | F21: UND | G21: 1 | H21: 43.34 | I21: =G21*H21 -> 43.34
A22: 83377 | B22: SINAPI | C22: CONECTOR DE PARAFUSO FENDIDO EM LIGA DE COBRE COM SEPARADOR DE CABOS PARA CABO 50 MM2 - FORNECIMENTO E INSTALACAO | F22: UND | G22: 1 | H22: 8.75 | I22: =G22*H22 -> 8.75
A23: 72251 | B23: SINAPI | C23: CABO DE COBRE NU 16MM2 - FORNECIMENTO E INSTALACAO | F23: M | G23: 1.5 | H23: 12.61 | I23: =G23*H23 -> 18.915
A24: 49506 | B24: IOPES | C24: OLHAL FERRO GALVANIZADO COM PARAFUSO 16X150MM | F24: UND | G24: 1 | H24: 18.98 | I24: =G24*H24 -> 18.98
A26: TOTAL B | I26: =SUM(I21:I24) -> 89.985
A28: EQUIPAMENTOS
A29: CÓD. | B29: ORGÃO | C29: DESCRIÇÃO | F29: UND | G29: COEF | H29: R$ UNIT. | I29: R$ PARCIAL
A32: TOTAL C
A34: RESUMO
A35: TOTAL A
A36: TOTAL B | I36: =I26 -> 89.985
A37: TOTAL C
A38: TOTAL D ( TOTAL A X LEIS SOCIAIS)
A39: TOTAL E (A+B+C) | I39: =I36 -> 89.985
A40: TOTAL F (BDI 26,54%) | I40: =I39*26.54% -> 23.882019
A41: PREÇO DE VENDA | I41: =I39+I40 -> 113.86702

Sheet ELE-03
A1: PREFEITURA MUNICIPAL DE JOÃO NEIVA SECRETARIA MUNICIPAL DE OBRAS E SERVIÇOS URBANOS
C4: Obra: REFORMA DA PRAÇA NOSSA SENHORA DO LÍBANO | G4: LS: | H4: BDI: | I4: Data-base
C5: Local: CENTRO - JOÃO NEIVA/ES | G5: 0.8954 | H5: 0.2654
A6: COMPOSIÇÃO ANALÍTICA DE PREÇO UNITÁRIO | I6: 43313
I7: ELE-03
A8: SERVIÇO: | B8: ATERRAMENTO DO QUADRO DE COMANDO, CONSIDERANDO HASTE DE ATERRAMENTO, CONECTORES, CABO DE COBRE NÚ E OLHAL DE FERRO GALVANIZADO COM PARAFUSO 16X150MM
A9: UND: | B9: UND
A11: MÃO-DE-OBRA
A12: CÓD. | B12: ORGÃO | C12: DESCRIÇÃO | F12: UND | G12: COEF | H12: R$ UNIT. | I12: R$ PARCIAL
A17: TOTAL A
A19: MATERIAIS/ SERVIÇOS
A20: CÓD. | B20: ORGÃO | C20: DESCRIÇÃO | F20: UND | G20: COEF | H20: R$ UNIT. | I20: R$ PARCIAL
A21: 96985 | B21: SINAPI | C21: HASTE DE ATERRAMENTO 5/8 PARA SPDA - FORNECIMENTO E INSTALAÇÃO. AF_12 /2017 | F21: UND | G21: 1 | H21: 43.34 | I21: =G21*H21 -> 43.34
A22: 83377 | B22: SINAPI | C22: CONECTOR DE PARAFUSO FENDIDO EM LIGA DE COBRE COM SEPARADOR DE CABOS PARA CABO 50 MM2 - FORNECIMENTO E INSTALACAO | F22: UND | G22: 1 | H22: 8.75 | I22: =G22*H22 -> 8.75
A23: 72251 | B23: SINAPI | C23: CABO DE COBRE NU 16MM2 - FORNECIMENTO E INSTALACAO | F23: M | G23: 2.7 | H23: 12.61 | I23: =G23*H23 -> 34.047
A24: 49506 | B24: IOPES | C24: OLHAL FERRO GALVANIZADO COM PARAFUSO 16X150MM | F24: UND | G24: 1 | H24: 18.98 | I24: =G24*H24 -> 18.98
A26: TOTAL B | I26: =SUM(I21:I24) -> 105.117
A28: EQUIPAMENTOS
A29: CÓD. | B29: ORGÃO | C29: DESCRIÇÃO | F29: UND | G29: COEF | H29: R$ UNIT. | I29: R$ PARCIAL
A32: TOTAL C
A34: RESUMO
A35: TOTAL A
A36: TOTAL B | I36: =I26 -> 105.117
A37: TOTAL C
A38: TOTAL D ( TOTAL A X LEIS SOCIAIS)
A39: TOTAL E (A+B+C) | I39: =I36 -> 105.117
A40: TOTAL F (BDI 26,54%) | I40: =I39*26.54% -> 27.898052
A41: PREÇO DE VENDA | I41: =I39+I40 -> 133.01505

Sheet ELE-04
A1: PREFEITURA MUNICIPAL DE JOÃO NEIVA SECRETARIA MUNICIPAL DE OBRAS E SERVIÇOS URBANOS
C4: Obra: REFORMA DA PRAÇA NOSSA SENHORA DO LÍBANO | G4: LS: | H4: BDI: | I4: Data-base
C5: Local: CENTRO - JOÃO NEIVA/ES | G5: 0.8954 | H5: 0.2654
A6: COMPOSIÇÃO ANALÍTICA DE PREÇO UNITÁRIO | I6: 43313
I7: ELE-04
A8: SERVIÇO: | B8: FORNECIMENTO E INSTALAÇÃO DE QUADRO DE COMANDO
A9: UND: | B9: M2
A11: MÃO-DE-OBRA
A12: CÓD. | B12: ORGÃO | C12: DESCRIÇÃO | F12: UND | G12: COEF | H12: R$ UNIT. | I12: R$ PARCIAL
A13: 88247 | B13: SINAPI | C13: AUXILIAR DE ELETRICISTA COM ENCARGOS COMPLEMENTARES | D13: AUXILIAR DE ELETRICISTA COM ENCARGOS COMPLEMENTARES | E13: AUXILIAR DE ELETRICISTA COM ENCARGOS COMPLEMENTARES | F13: H | G13: 1 | H13: 15.29 | I13: =G13*H13 -> 15.29
A14: 88264 | B14: SINAPI | C14: ELETRICISTA COM ENCARGOS COMPLEMENTARES | D14: ELETRICISTA COM ENCARGOS COMPLEMENTARES | E14: ELETRICISTA COM ENCARGOS COMPLEMENTARES | F14: H | G14: 1 | H14: 19.84 | I14: =G14*H14 -> 19.84
C16: Obs.: Coeficientes baseados no item SINAPI - 74131/001 QUADRO DE DISTRIBUICAO DE ENERGIA DE EMBUTIR, EM CHAPA METALICA, PARA 3 DISJUNTORES TERMOMAGNETICOS MONOPOLARES SEM BARRAMENTO FORNECIMENTO E INSTALACAO
A18: TOTAL A | I18: =SUM(I13:I14) -> 35.13
A20: MATERIAIS/ SERVIÇOS
A21: CÓD. | B21: ORGÃO | C21: DESCRIÇÃO | F21: UND | G21: COEF | H21: R$ UNIT. | I21: R$ PARCIAL
A22: COTAÇÃO | B22: MERCADO | C22: QUADRO DE COMANDO EM AÇO INOX, COM DISJUNTORES, CONTATOR, DISPOSITIVOS DE PROTEÇÃO CONTRA SURTO, RELÉ, CONFORME DETALHES EM PROJETO | F22: UND | G22: 1 | H22: =COTAÇÃO!R24 -> 9469.03 | I22: =H22*G22 -> 9469.03
A23: COTAÇÃO | B23: MERCADO | C23: CURVA DE AÇO GALVANIZADO, PESADO 90º 1 1/2" COM 2 LUVAS | F23: UND | G23: 3 | H23: =COTAÇÃO!R30 -> 62.473333 | I23: =G23*H23 -> 187.42
A24: COTAÇÃO | B24: MERCADO | C24: ABRAÇADEIRA DE AÇO FITA (ROLO DE 25M) COM CURSOR | F24: UND | G24: 1 | H24: =COTAÇÃO!R31 -> 28.636667 | I24: =G24*H24 -> 28.636667
A26: TOTAL B | I26: =SUM(I22:I25) -> 9685.0867
A28: EQUIPAMENTOS
A29: CÓD. | B29: ORGÃO | C29: DESCRIÇÃO | F29: UND | G29: COEF | H29: R$ UNIT. | I29: R$ PARCIAL
A33: TOTAL C
A35: RESUMO
A36: TOTAL A | I36: =I18 -> 35.13
A37: TOTAL B | I37: =I26 -> 9685.0867
A38: TOTAL C | I38: =I33 -> 0
A39: TOTAL D ( TOTAL A X LEIS SOCIAIS)
A40: TOTAL E (A+B+C) | I40: =SUM(I36:I38) -> 9720.2167
A41: TOTAL F (BDI 26,54%) | I41: =I40*26.54% -> 2579.7455
A42: PREÇO DE VENDA | I42: =I40+I41 -> 12299.962

Sheet COMP-01
A1: PREFEITURA MUNICIPAL DE JOÃO NEIVA SECRETARIA MUNICIPAL DE OBRAS E SERVIÇOS URBANOS
C4: Obra: REFORMA DA PRAÇA NOSSA SENHORA DO LÍBANO | G4: LS: | H4: BDI: | I4: Data-base
C5: Local: CENTRO - JOÃO NEIVA/ES | G5: 0.8954 | H5: 0.2654
A6: COMPOSIÇÃO ANALÍTICA DE PREÇO UNITÁRIO | I6: 43313
I7: COMP-01
A8: SERVIÇO: | B8: EQUIPE DE OBRA, INCLUINDO ENGENHEIRO JUNIOR, TECNICO DE SEGUNDO GRAU
A9: UND: | B9: UND
A10: ORÇAMENTISTA: Renata Ruy De Angeli
A12: MÃO-DE-OBRA
A13: CÓD. | B13: ORGÃO | C13: DESCRIÇÃO | F13: UND | G13: COEF | H13: R$ UNIT. | I13: R$ PARCIAL
A14: 90777 | B14: SINAPI | C14: ENGENHEIRO CIVIL DE OBRA JUNIOR COM ENCARGOS COMPLEMENTARES | F14: H | G14: 60 | H14: 71.12 | I14: =H14*G14 -> 4267.2
A15: 88255 | B15: SINAPI | C15: AUXILIAR TÉCNICO DE ENGENHARIA COM ENCARGOS COMPLEMENTARES | F15: H | G15: 180 | H15: 31.26 | I15: =H15*G15 -> 5626.8
A18: TOTAL A | I18: =I14+I15 -> 9894
A20: MATERIAIS/ SERVIÇOS
A21: CÓD. | B21: ORGÃO | C21: DESCRIÇÃO | F21: UND | G21: COEF | H21: R$ UNIT. | I21: R$ PARCIAL
A25: TOTAL B
A27: RESUMO
A28: TOTAL A | I28: =I18 -> 9894
A29: TOTAL B
A30: TOTAL C ( TOTAL A X LEIS SOCIAIS)
A31: TOTAL D (A+B) | I31: =I28+I29 -> 9894
A32: TOTAL E (BDI 26,54%) | I32: =I31*26.54% -> 2625.8676
A33: PREÇO DE VENDA | I33: =I31+I32 -> 12519.868

Sheet COMP-02
A1: PREFEITURA MUNICIPAL DE JOÃO NEIVA SECRETARIA MUNICIPAL DE OBRAS E SERVIÇOS URBANOS
C4: Obra: REFORMA DA PRAÇA NOSSA SENHORA DO LÍBANO | G4: LS: | H4: BDI: | I4: Data-base
C5: Local: CENTRO - JOÃO NEIVA/ES | G5: 0.8954 | H5: 0.2654
A6: COMPOSIÇÃO ANALÍTICA DE PREÇO UNITÁRIO | I6: 43313
I7: COMP-02
A8: SERVIÇO: | B8: RETIRADA E COLOCAÇÃO DE PLACAS DE SINALIZAÇÃO EXISTENTES NA PRAÇA, PLACAS DE MONUMENTOS, INCLUSIVE ESTOCAGEM PARA ÁREA INDICADA PELA SEMOSU
A9: UND: | B9: UND
A11: MÃO-DE-OBRA
A12: CÓD. | B12: ORGÃO | C12: DESCRIÇÃO | F12: UND | G12: COEF | H12: R$ UNIT. | I12: R$ PARCIAL
A13: 20002 | B13: DER-ES (jan-18) | C13: Servente | F13: H | G13: =2*2 -> 4 | H13: 10.45 | I13: =G13*H13 -> 41.8
C14: Obs. 1: Coeficiente de referência baseado no item DER-ES 41222 Suporte de placa de sinalização vertical em madeira de 1ª qualidade, pintada, fornecimento e instalação Obs.2: Atualização do preço para a data base de agosto-18 pelo INCC (Índice Nacional de Custo da Construção) no site <http://calculoexato.com.br/parprima.aspx?codMenu=FinanAtualizaIndiceJuros>. | G14: =coeficiente de referência* 2,00 (retirada e colocação)
A15: TOTAL A | I15: =I13 -> 41.8
A17: MATERIAIS/ SERVIÇOS
A18: CÓD. | B18: ORGÃO | C18: DESCRIÇÃO | F18: UND | G18: COEF | H18: R$ UNIT. | I18: R$ PARCIAL
A21: TOTAL B
A23: EQUIPAMENTOS
A24: CÓD. | B24: ORGÃO | C24: DESCRIÇÃO | F24: UND | G24: COEF | H24: R$ UNIT. | I24: R$ PARCIAL
A27: TOTAL C
A29: RESUMO
A30: TOTAL A
A31: TOTAL B | I31: =I13 -> 41.8
A32: TOTAL C
A33: TOTAL D ( TOTAL A X LEIS SOCIAIS)
A34: TOTAL E (A+B+C) | I34: =I15 -> 41.8
A35: TOTAL F (BDI 26,54%) | I35: =I34*26.54% -> 11.09372
A36: PREÇO DE VENDA | I36: =I34+I35 -> 52.89372

Sheet COMP-03
A1: PREFEITURA MUNICIPAL DE JOÃO NEIVA SECRETARIA MUNICIPAL DE OBRAS E SERVIÇOS URBANOS
C4: Obra: REFORMA DA PRAÇA NOSSA SENHORA DO LÍBANO | G4: LS: | H4: BDI: | I4: Data-base
C5: Local: CENTRO - JOÃO NEIVA/ES | G5: 0.8954 | H5: 0.2654
A6: COMPOSIÇÃO ANALÍTICA DE PREÇO UNITÁRIO | I6: 43313
I7: COMP-03
A8: SERVIÇO: | B8: REMOÇÃO DE PONTO DE ÔNIBUS EXISTENTE
A9: UND: | B9: UND
A11: MÃO-DE-OBRA
A12: CÓD. | B12: ORGÃO | C12: DESCRIÇÃO | F12: UND | G12: COEF | H12: R$ UNIT. | I12: R$ PARCIAL
A15: TOTAL A
A17: MATERIAIS/ SERVIÇOS
A18: CÓD. | B18: ORGÃO | C18: DESCRIÇÃO | F18: UND | G18: COEF | H18: R$ UNIT. | I18: R$ PARCIAL
A19: 85421 | B19: SINAPI | C19: REMOCAO DE VIDRO COMUM | F19: M2 | G19: =3.6*2.1 -> 7.56 | H19: 11.93 | I19: =G19*H19 -> 90.1908
A20: 97647 | B20: SINAPI | C20: REMOÇÃO DE TELHAS, DE FIBROCIMENTO, METÁLICA E CERÂMICA, DE FORMA MANUAL, SEM REAPROVEITAMENTO. AF_12/2017 | F20: M2 | G20: 7.8 | H20: 2.17 | I20: =G20*H20 -> 16.926 | L20: COBERTURA
A21: 97655 | B21: SINAPI | C21: REMOÇÃO DE TRAMA METÁLICA PARA COBERTURA, DE FORMA MANUAL, SEM REAPROVEITAMENTO. AF_12/2017 | F21: M2 | G21: =7.8+10.4+2 -> 20.2 | H21: 13.82 | I21: =G21*H21 -> 279.164 | L21: =4*1.95 -> 7.8
L23: =4*2.6 -> 10.4
A24: TOTAL B | I24: =SUM(I19:I23) -> 386.2808
L25: ASSENTO
A26: EQUIPAMENTOS | L26: =4*0.5 -> 2
A27: CÓD. | B27: ORGÃO | C27: DESCRIÇÃO | F27: UND | G27: COEF | H27: R$ UNIT. | I27: R$ PARCIAL
A30: TOTAL C
A32: RESUMO
A33: TOTAL A
A34: TOTAL B | I34: =I24 -> 386.2808
A35: TOTAL C
A36: TOTAL D ( TOTAL A X LEIS SOCIAIS)
A37: TOTAL E (A+B+C) | I37: =SUM(I33:I35) -> 386.2808
A38: TOTAL F (BDI 26,54%) | I38: =I37*26.54% -> 102.51892
A39: PREÇO DE VENDA | I39: =I37+I38 -> 488.79972

Sheet COMP-04
A1: PREFEITURA MUNICIPAL DE JOÃO NEIVA SECRETARIA MUNICIPAL DE OBRAS E SERVIÇOS URBANOS
C4: Obra: REFORMA DA PRAÇA NOSSA SENHORA DO LÍBANO | G4: LS: | H4: BDI: | I4: Data-base
C5: Local: CENTRO - JOÃO NEIVA/ES | G5: 0.8954 | H5: 0.2654
A6: COMPOSIÇÃO ANALÍTICA DE PREÇO UNITÁRIO | I6: 43313
I7: COMP-04
A8: SERVIÇO: | B8: FORNECIMENTO E INSTALAÇÃO DE PISO DRENANTE, SUPERFÍCIE ANTIDERRAPANTE, ACABAMENTO POROSO, ESPESSURA DE 6 CM, DIMENSOES DE 40 X 40 CM , COR NATURAL , E RESISTÊNCIA A COMPRESSÃO MÍNIMA DE 20 MPA, ASSENTADOS SOBRE CAMADA DE AREIA GROSSA NA ESPESSURA DE 5 CM, PEDRISCO LAVADO 10 CM, SOLO COMPACTADO MANUALMENTE,MARCA DE REF.: PLACA DRENANTE 40 , FABRICANTE SALVADOR PREMOLDADOS OU SIMILAR.
A9: UND: | B9: M2
A11: MÃO-DE-OBRA
A12: CÓD. | B12: ORGÃO | C12: DESCRIÇÃO | F12: UND | G12: COEF | H12: R$ UNIT. | I12: R$ PARCIAL
A13: 88260 | B13: SINAPI | C13: CALCETEIRO COM ENCARGOS COMPLEMENTARES | F13: H | G13: 0.1595 | H13: 17.17 | I13: =G13*H13 -> 2.738615
A14: 88316 | B14: SINAPI | C14: SERVENTE COM ENCARGOS COMPLEMENTARES | F14: H | G14: 0.1595 | H14: 13.65 | I14: =G14*H14 -> 2.177175
C16: Obs.: Coeficientes baseados no item SINAPI - 93680 EXECUÇÃO DE PÁTIO/ESTACIONAMENTO EM PISO INTERTRAVADO, COM BLOCO RETANGULAR COLORIDO DE 20 X 10 CM, ESPESSURA 6 CM. AF_12/2015
A17: TOTAL A | I17: =SUM(I13:I14) -> 4.91579
A19: MATERIAIS/ SERVIÇOS
A20: CÓD. | B20: ORGÃO | C20: DESCRIÇÃO | F20: UND | G20: COEF | H20: R$ UNIT. | I20: R$ PARCIAL
A21: COTAÇÃO | B21: MERCADO | C21: PISO DRENANTE TIPO PLACA E SUPERFÍCIE ANTIDERRAPANTE, ACABAMENTO POROSO, ESPESSURA DE 6 CM, DIMENSOES DE 40 X 40 CM , COR NATURAL , E RESISTÊNCIA A COMPRESSÃO MÍNIMA DE 20 MPA | F21: M2 | G21: 1 | H21: 40.63 | I21: =G21*H21 -> 40.63
A22: 370 | B22: SINAPI | C22: AREIA MEDIA - POSTO JAZIDA/FORNECEDOR (RETIRADO NA JAZIDA, SEM TRANSPORTE) | F22: M3 | G22: 0.05 | H22: 31.08 | I22: =G22*H22 -> 1.554
A23: 4741 | B23: SINAPI | C23: PO DE PEDRA (POSTO PEDREIRA/FORNECEDOR, SEM FRETE) | F23: M3 | G23: 0.1 | H23: 58.53 | I23: =G23*H23 -> 5.853
A25: TOTAL B | I25: =SUM(I21:I23) -> 48.037
A27: EQUIPAMENTOS
A28: CÓD. | B28: ORGÃO | C28: DESCRIÇÃO | F28: UND | G28: COEF | H28: R$ UNIT. | I28: R$ PARCIAL
A29: 91277 | B29: SINAPI | C29: PLACA VIBRATÓRIA REVERSÍVEL COM MOTOR 4 TEMPOS A GASOLINA, FORÇA CENTRÍFUGA DE 25 KN (2500 KGF), POTÊNCIA 5,5 CV - CHP DIURNO. AF_08/2015 | F29: CHP | G29: 0.0041 | H29: 4.7 | I29: =G29*H29 -> 0.01927
A30: 91278 | B30: SINAPI | C30: PLACA VIBRATÓRIA REVERSÍVEL COM MOTOR 4 TEMPOS A GASOLINA, FORÇA CENTRÍFUGA DE 25 KN (2500 KGF), POTÊNCIA 5,5 CV - CHI DIURNO. AF_08/2015 | F30: CHI | G30: 0.0757 | H30: 0.54 | I30: =G30*H30 -> 0.040878
A31: 91283 | B31: SINAPI | C31: CORTADORA DE PISO COM MOTOR 4 TEMPOS A GASOLINA, POTÊNCIA DE 13 HP, COM DISCO DE CORTE DIAMANTADO SEGMENTADO PARA CONCRETO, DIÂMETRO DE 350 MM, FURO DE 1" (14 X 1") - CHP DIURNO. AF_08/2015 | F31: CHP | G31: 0.0037 | H31: 10.07 | I31: =G31*H31 -> 0.037259
A32: 91285 | B32: SINAPI | C32: CORTADORA DE PISO COM MOTOR 4 TEMPOS A GASOLINA, POTÊNCIA DE 13 HP, COM DISCO DE CORTE DIAMANTADO SEGMENTADO PARA CONCRETO, DIÂMETRO DE 350 MM, FURO DE 1" (14 X 1") - CHI DIURNO. AF_08/2015 | F32: CHI | G32: 0.076 | H32: 0.68 | I32: =G32*H32 -> 0.05168
A35: TOTAL C | I35: =SUM(I29:I32) -> 0.149087
A37: RESUMO
A38: TOTAL A | I38: =I17 -> 4.91579
A39: TOTAL B | I39: =I25 -> 48.037
A40: TOTAL C | I40: =I35 -> 0.149087
A41: TOTAL D ( TOTAL A X LEIS SOCIAIS)
A42: TOTAL E (A+B+C) | I42: =SUM(I38:I40) -> 53.101877
A43: TOTAL F (BDI 26,54%) | I43: =I42*26.54% -> 14.093238
A44: PREÇO DE VENDA | I44: =I42+I43 -> 67.195115

Sheet COMP-05
A1: PREFEITURA MUNICIPAL DE JOÃO NEIVA SECRETARIA MUNICIPAL DE OBRAS E SERVIÇOS URBANOS
C4: Obra: REFORMA DA PRAÇA NOSSA SENHORA DO LÍBANO | G4: LS: | H4: BDI: | I4: Data-base
C5: Local: CENTRO - JOÃO NEIVA/ES | G5: 0.8954 | H5: 0.2654
A6: COMPOSIÇÃO ANALÍTICA DE PREÇO UNITÁRIO | I6: 43313
I7: COMP-05
A8: SERVIÇO: | B8: FORNECIMENTO E INSTALAÇÃO DE PISO DRENANTE, SUPERFÍCIE ANTIDERRAPANTE, ACABAMENTO POROSO, ESPESSURA DE 6 CM, DIMENSOES DE 40 X 40 CM , COR GRAFITE , E RESISTÊNCIA A COMPRESSÃO MÍNIMA DE 20 MPA, ASSENTADOS SOBRE CAMADA DE AREIA MÉDIA NA ESPESSURA DE 5 CM, PEDRISCO LAVADO 10 CM, SOLO COMPACTADO MANUALMENTE. MARCA DE REF.: PLACA DRENANTE 40 , FABRICANTE SALVADOR PREMOLDADOS OU SIMILAR.
A9: UND: | B9: M2
A11: MÃO-DE-OBRA
A12: CÓD. | B12: ORGÃO | C12: DESCRIÇÃO | F12: UND | G12: COEF | H12: R$ UNIT. | I12: R$ PARCIAL
A13: 88260 | B13: SINAPI | C13: CALCETEIRO COM ENCARGOS COMPLEMENTARES | F13: H | G13: 0.1595 | H13: 17.17 | I13: =G13*H13 -> 2.738615
A14: 88316 | B14: SINAPI | C14: SERVENTE COM ENCARGOS COMPLEMENTARES | F14: H | G14: 0.1595 | H14: 13.65 | I14: =G14*H14 -> 2.177175
C16: Obs.: Coeficientes baseados no item SINAPI - 93680 EXECUÇÃO DE PÁTIO/ESTACIONAMENTO EM PISO INTERTRAVADO, COM BLOCO RETANGULAR COLORIDO DE 20 X 10 CM, ESPESSURA 6 CM. AF_12/2015
A17: TOTAL A | I17: =SUM(I13:I14) -> 4.91579
A19: MATERIAIS/ SERVIÇOS
A20: CÓD. | B20: ORGÃO | C20: DESCRIÇÃO | F20: UND | G20: COEF | H20: R$ UNIT. | I20: R$ PARCIAL
A21: COTAÇÃO | B21: MERCADO | C21: PISO DRENANTE TIPO PLACA E SUPERFÍCIE ANTIDERRAPANTE, ACABAMENTO POROSO, ESPESSURA DE 6 CM, DIMENSOES DE 40 X 40 CM , COR GRAFITE , E RESISTÊNCIA A COMPRESSÃO MÍNIMA DE 20 MPA | F21: M2 | G21: 1 | H21: 58.92 | I21: =G21*H21 -> 58.92
A22: 370 | B22: SINAPI | C22: AREIA MEDIA - POSTO JAZIDA/FORNECEDOR (RETIRADO NA JAZIDA, SEM TRANSPORTE) | F22: M3 | G22: 0.05 | H22: 31.08 | I22: =G22*H22 -> 1.554
A23: 4741 | B23: SINAPI | C23: PO DE PEDRA (POSTO PEDREIRA/FORNECEDOR, SEM FRETE) | F23: M3 | G23: 0.1 | H23: 58.53 | I23: =G23*H23 -> 5.853
A26: TOTAL B | I26: =SUM(I21:I23) -> 66.327
A28: EQUIPAMENTOS
A29: CÓD. | B29: ORGÃO | C29: DESCRIÇÃO | F29: UND | G29: COEF | H29: R$ UNIT. | I29: R$ PARCIAL
A30: 91277 | B30: SINAPI | C30: PLACA VIBRATÓRIA REVERSÍVEL COM MOTOR 4 TEMPOS A GASOLINA, FORÇA CENTRÍFUGA DE 25 KN (2500 KGF), POTÊNCIA 5,5 CV - CHP DIURNO. AF_08/2015 | F30: CHP | G30: 0.0041 | H30: 4.7 | I30: =G30*H30 -> 0.01927
A31: 91278 | B31: SINAPI | C31: PLACA VIBRATÓRIA REVERSÍVEL COM MOTOR 4 TEMPOS A GASOLINA, FORÇA CENTRÍFUGA DE 25 KN (2500 KGF), POTÊNCIA 5,5 CV - CHI DIURNO. AF_08/2015 | F31: CHI | G31: 0.0757 | H31: 0.54 | I31: =G31*H31 -> 0.040878
A32: 91283 | B32: SINAPI | C32: CORTADORA DE PISO COM MOTOR 4 TEMPOS A GASOLINA, POTÊNCIA DE 13 HP, COM DISCO DE CORTE DIAMANTADO SEGMENTADO PARA CONCRETO, DIÂMETRO DE 350 MM, FURO DE 1" (14 X 1") - CHP DIURNO. AF_08/2015 | F32: CHP | G32: 0.0037 | H32: 10.07 | I32: =G32*H32 -> 0.037259
A33: 91285 | B33: SINAPI | C33: CORTADORA DE PISO COM MOTOR 4 TEMPOS A GASOLINA, POTÊNCIA DE 13 HP, COM DISCO DE CORTE DIAMANTADO SEGMENTADO PARA CONCRETO, DIÂMETRO DE 350 MM, FURO DE 1" (14 X 1") - CHI DIURNO. AF_08/2015 | F33: CHI | G33: 0.076 | H33: 0.68 | I33: =G33*H33 -> 0.05168
A36: TOTAL C | I36: =SUM(I30:I33) -> 0.149087
A38: RESUMO
A39: TOTAL A | I39: =I17 -> 4.91579
A40: TOTAL B | I40: =I26 -> 66.327
A41: TOTAL C | I41: =I36 -> 0.149087
A42: TOTAL D ( TOTAL A X LEIS SOCIAIS)
