Workbook

Sheet PO
B1: PREFEITURA MUNICIPAL DE JOÃO NEIVA | G1: SEM DESONERAÇÃO
B2: PLANILHA ORÇAMENTÁRIA
B3: OBRA: REVITALIZAÇÃO DA PRACINHA DO TRIÂNGULO E PINTURA DO CANTEIRO CENTRAL
B4: LOCAL: JOÃO NEIVA-ES | E4: L. SOCIAIS: | F4: 1.5727 | H4: TABELA DE REFERÊNCIA:DER/ES
B5: ORÇAMENTISTA: JEFTER DOS SANTOS LADISLAU - CREA: ES- 0043139/D | E5: BDI: | F5: 0.2332 | G5: DATA-BASE: | H5: OUT/2018
A6: ITEM | B6: CÓDIGO | C6: ORGÃO | D6: DESCRIÇÃO SERVIÇO | E6: UNIDADE | F6: QUANTIDADE | G6: CUSTO (R$)
G7: UNITÁRIO | H7: TOTAL
A8: 01 | D8: CANTEIRO DE OBRAS
A9: 1.1 | B9: 41498 | C9: DER-ES | D9: Barracão com sanitário, em chapa compensada 12 mm e pont. 8x8cm, piso cimentado e cobertura em telha de fibroc. 6mm, incl. ponto de luz e cx. inspeção | E9: M2 | F9: =MC!I12 -> 20 | G9: 464.18 | H9: =TRUNC(ROUND(F9*G9,2),2) -> 9283.6
A10: 1.2 | B10: 43089 | C10: DER-ES | D10: Tapume de vedação e proteção, executado com chapas de compensado resinado com 6 mm de espessura, exclusive pintura, em Vias Urbanas | E10: M2 | F10: =MC!I18 -> 160 | G10: 45.29 | H10: =TRUNC(ROUND(F10*G10,2),2) -> 7246.4
A11: 1.3 | B11: 41527 | C11: DER-ES | D11: Reservatório de fibra de vidro de 1000 L, incl. suporte em madeira de 7x12cm, elevado de 4m | E11: UD | F11: =MC!I22 -> 1 | G11: 1764.88 | H11: =TRUNC(ROUND(F11*G11,2),2) -> 1764.88
A12: 1.4 | B12: 41501 | C12: DER-ES | D12: Rede de água c/ padrão de entrada d'água diâm. 3/4" conf. CESAN, incl. tubos e conexões p/aliment., distrib., extravas. e limp., cons. o padrão a 25m | E12: M | F12: =MC!I26 -> 6 | G12: 34.91 | H12: =TRUNC(ROUND(F12*G12,2),2) -> 209.46
A13: 1.5 | B13: 41499 | C13: DER-ES | D13: Rede de esgoto, contendo fossa e filtro, incl. tubos e conexões de ligação entre caixas, considerando distância de 25m | E13: M | F13: =MC!I30 -> 6 | G13: 291.19 | H13: =TRUNC(ROUND(F13*G13,2),2) -> 1747.14
A14: 1.6 | B14: 41503 | C14: DER-ES | D14: Rede de luz, incl. padrão entr. energia trifás. cabo ligação até barracões, quadro distrib., disj. E chave de força, cons. 20m entre padrão entr.e QDG | E14: M | F14: =MC!I34 -> 6 | G14: 421.97 | H14: =TRUNC(ROUND(F14*G14,2),2) -> 2531.82
D15: SUB-TOTAL - 01 | H15: =SUM(H9:H14) -> 22783.3
A17: 02 | D17: SERVIÇOS PRELIMINARES
A18: 2.1 | B18: 41500 | C18: DER-ES | D18: Placa de obra nas dimensões de 2,0 x 4,0 m, padrão SEDURB | E18: M2 | F18: =MC!I39 -> 8 | G18: 261.38 | H18: =TRUNC(ROUND(F18*G18,2),2) -> 2091.04
D19: SUB-TOTAL - 02 | H19: =H18 -> 2091.04
A21: 03 | D21: REMOÇÕES
A22: 3.1 | B22: 40890 | C22: DER-ES | D22: Remoção e reassentamento de blocos de concreto, inclusive perdas | E22: M2 | F22: =MC!I44 -> 3 | G22: 65.61 | H22: =TRUNC(ROUND(F22*G22,2),2) -> 196.83
A23: 3.2 | B23: 10229 | C23: IOPES | D23: Retirada de poste de aço de 4 a 6 m | E23: UND | F23: =MC!I48 -> 1 | G23: ='CORREÇÃO MON'!I10 -> 34.10721 | H23: =TRUNC(ROUND(F23*G23,2),2) -> 34.11
D24: SUB-TOTAL - 03 | H24: =SUM(H22:H23) -> 230.94
A26: 04 | D26: PISO
A27: 4.1 | B27: 43059 | C27: DER-ES | D27: Reaterro de cavas c/ compactação mecânica (compactador manual), em Vias Urbanas | E27: M3 | F27: =MC!I53 -> 12.87 | G27: 46.73 | H27: =TRUNC(ROUND(F27*G27,2),2) -> 601.42
A28: 4.2 | B28: 43018 | C28: DER-ES | D28: Meio fio de concreto pré-moldado (12 x 30 x 15) cm, inclusive caiação e transporte do meio fio em Vias Urbanas | E28: M | F28: =MC!I66 -> 22.44 | G28: 58.74 | H28: =TRUNC(ROUND(F28*G28,2),2) -> 1318.13
A29: 4.3 | B29: 42498 | C29: DER-ES | D29: Pavimentação com blocos de concreto (35 MPa), esp.=06cm, sobre colchão areia esp.=5cm, inclusive fornecim. e transporte blocos e areia, Vias Urbanas | E29: M2 | F29: =MC!I71 -> 42.04 | G29: 82.08 | H29: =TRUNC(ROUND(F29*G29,2),2) -> 3450.64
A30: 4.4 | C30: COMP-1 | D30: Pavimentação com blocos de concreto colorido (35 MPa), esp.=06cm, sobre colchão areia esp.=5cm, inclusive fornecim. e transporte blocos e areia, Vias Urbanas | E30: M2 | F30: =MC!I78 -> 16.28 | G30: ='COMP-1'!K41 -> 52.20561 | H30: =TRUNC(ROUND(F30*G30,2),2) -> 849.91
A31: 4.5 | C31: COMP-4 | D31: Passeio em concreto com acabamento liso | E31: M2 | F31: =MC!I82 -> 2.54 | G31: ='COMP-4'!K31 -> 59.23818 | H31: =TRUNC(ROUND(F31*G31,2),2) -> 150.46
A32: 4.6 | B32: 40912 | C32: DER-ES | D32: Ladrilho hidráulico (argamassa cimento e areia 1:4), fornecimento e assentamento | E32: M2 | F32: =MC!I102 -> 12.088 | G32: 92.76 | H32: =TRUNC(ROUND(F32*G32,2),2) -> 1121.28
D33: SUB-TOTAL - 04 | H33: =SUM(H27:H32) -> 7491.84
A35: 5 | D35: PRAÇA
A36: 5.1 | C36: COMP-2 | D36: Fornecimento e Instalação de Banco de Jardim em Madeira e Pé de Ferro Tamandua | E36: und | F36: =MC!I107 -> 11 | G36: ='COMP-2'!K31 -> 322.9471 | H36: =TRUNC(ROUND(F36*G36,2),2) -> 3552.42
A37: 5.2 | C37: COMP-3 | D37: Fornecimento e Instalação de Lixeira de Plástico Tampa Vai Vem Qua 50 L Az Poste Eld | E37: und | F37: =MC!I111 -> 3 | G37: ='COMP-3'!K31 -> 235.29793 | H37: =TRUNC(ROUND(F37*G37,2),2) -> 705.89
D38: SUB-TOTAL - 05 | H38: =SUM(H36:H37) -> 4258.31
A40: 06 | D40: PAISAGISMO
A41: 06.01 | B41: 42203 | C41: DER-ES | D41: Arborização para paisagismo ( mudas viveiro de espera) com altura maior que 150 cm | E41: und | F41: =MC!I118 -> 3 | G41: 153.43 | H41: =TRUNC(ROUND(F41*G41,2),2) -> 460.29
A42: 06.02 | B42: 42204 | C42: DER-ES | D42: Reflorestamento com espécies nativas da mata atlântica, mudas em sacolas ou tubetes | E42: und | F42: =MC!I125 -> 50 | G42: 36.13 | H42: =TRUNC(ROUND(F42*G42,2),2) -> 1806.5
D43: SUB-TOTAL - 06 | H43: =SUM(H41:H42) -> 2266.79
A45: 07 | D45: ILUMINAÇÃO PÚBLICA
A46: 7.1 | B46: 41129 | C46: DER-ES | D46: Eletroduto tipo Kanaflex diâmetro 1 1/2", fornecimento e assentamento | E46: m | F46: =MC!I131 -> 34 | G46: 8.49 | H46: =TRUNC(ROUND(F46*G46,2),2) -> 288.66
...

Sheet CORREÇÃO MON
D1: PREFEITURA MUNICIPAL DE JOÃO NEIVA
D2: CORREÇÃO MONETÁRIA
D3: OBRA: REVITALIZAÇÃO DA PRACINHA DO TRIÂNGULO E PINTURA DO CANTEIRO CENTRAL
D4: LOCAL: JOÃO NEIVA-ES | H4: L. SOCIAIS: | I4: 157.27%
D5: ORÇAMENTISTA: JEFTER DOS SANTOS LADISLAU - CREA: ES- 0043139/D | H5: BDI: | I5: 0.2332
A6: ITEM | B6: CÓDIGO | C6: ÓRGÃO | D6: SERVIÇO | E6: Encargos sociais IOPES (128,33%) | F6: Sem Encargos sociais | G6: Encargos sociais DER-ES (157,27%) | H6: COM BDI DER-ES (23,32%) | I6: ATUALIZAÇÃO INCC DATA BASE 09/2018 PARA 10/2018 (0,23%)
A7: 3.2 | B7: 10229 | C7: IOPES | D7: Retirada de poste de aço de 4 a 6 m
D8: Mão de obra | E8: 24.49 | F8: =E8/2.2833 -> 10.725704 | G8: =F8*2.5727 -> 27.594019 | H8: =G8*1.2332 -> 34.028944 | I8: =H8*1.0023 -> 34.10721
D9: Materiais/equipamento | E9: 0 | H9: 0 | I9: 0
A10: Total | I10: =SUM(I8:I9) -> 34.10721
A11: 7.2 | B11: 150701 | C11: IOPES | D11: Envelopamento de concreto simples com consumo mínimo de cimento de 250kg/m3, inclusive escavação para profundidade mínima do eletroduto de 50 cm, de 25 x 25 cm, para 1 eletroduto
D12: Mão de obra | E12: 21.2 | F12: =E12/2.2833 -> 9.2848071 | G12: =F12*2.5727 -> 23.887023 | H12: =G12*1.2332 -> 29.457477 | I12: =H12*1.0023 -> 29.525229
D13: Materiais/equipamento | E13: 12.75 | H13: =E13*1.2332 -> 15.7233 | I13: =H13*1.0023 -> 15.759464
A14: Total | I14: =SUM(I12:I13) -> 45.284693
A15: 7.3 | B15: 151403 | C15: IOPES | D15: Fio ou cabo de cobre termoplástico, com isolamento para 750V, seção de 4.0 mm2
D16: Mão de obra | E16: 3.24 | F16: =E16/2.2833 -> 1.4189988 | G16: =F16*2.5727 -> 3.6506583 | H16: =G16*1.2332 -> 4.5019918 | I16: =H16*1.0023 -> 4.5123463
D17: Materiais/equipamento | E17: 1.64 | H17: =E17*1.2332 -> 2.022448 | I17: =H17*1.0023 -> 2.0270996
A18: Total | I18: =SUM(I16:I17) -> 6.539446
A19: 7.4 | B19: 151405 | C19: IOPES | D19: Fio ou cabo de cobre termoplástico, com isolamento para 750V, seção de 10.0 mm2
D20: Mão de obra | E20: 3.78 | F20: =E20/2.2833 -> 1.6554986 | G20: =F20*2.5727 -> 4.2591013 | H20: =G20*1.2332 -> 5.2523237 | I20: =H20*1.0023 -> 5.2644041
D21: Materiais/equipamento | E21: 4.34 | H21: =E21*1.2332 -> 5.352088 | I21: =H21*1.0023 -> 5.3643978
A22: Total | I22: =SUM(I20:I21) -> 10.628802
A23: 7.5 | B23: 160106 | C23: IOPES | D23: Aterramento com haste de terra 5/8"x2.40m, cabo de cobre nú 6mm2 em caixa de concreto de dimensões internas de 30x30x30cm
D24: Mão de obra | E24: 128.48 | F24: =E24/2.2833 -> 56.269435 | G24: =F24*2.5727 -> 144.76437 | H24: =G24*1.2332 -> 178.52343 | I24: =H24*1.0023 -> 178.93403
D25: Materiais/equipamento | E25: 111.45 | H25: =E25*1.2332 -> 137.44014 | I25: =H25*1.0023 -> 137.75625
A26: Total | I26: =SUM(I24:I25) -> 316.69028
A27: 8.2 | B27: 200402 | C27: IOPES | D27: Limpeza geral de obras (quadras, praças e jardins)
D28: Mão de obra | E28: 0.76 | F28: =E28/2.2833 -> 0.33285157 | G28: =F28*2.5727 -> 0.85632725 | H28: =G28*1.2332 -> 1.0560228 | I28: =H28*1.0023 -> 1.0584516
D29: Materiais/equipamento | E29: 0 | H29: =E29*1.2332 -> 0 | I29: =H29*1.0023 -> 0
A30: Total | I30: =SUM(I28:I29) -> 1.0584516

Sheet MC
B1: PREFEITURA MUNICIPAL DE JOÃO NEIVA | I1: SEM DESONERAÇÃO
B2: MEMÓRIA DE CÁLCULO
B3: OBRA: REVITALIZAÇÃO DA PRACINHA DO TRIÂNGULO E PINTURA DO CANTEIRO CENTRAL | I3: TABELA DE REFERÊNCIA:DER/ES
B4: LOCAL: JOÃO NEIVA-ES | F4: L. SOCIAIS: | H4: 1.5727
B5: ORÇAMENTISTA: JEFTER DOS SANTOS LADISLAU - CREA: ES- 0043139/D | G5: BDI: | H5: 0.2332 | I5: DATA-BASE: | J5: OUT/2018
A6: CÓDIGO | B6: DESCRIÇÃO SERVIÇO | C6: QUANT. | D6: EXTENSÃO (m) | E6: LARGURA (m) | F6: PROF. (m) | G6: ÁREA (m²) | H6: VOLUME (m³) | I6: TOTAL | J6: UNIDADE
A8: 01 | B8: CANTEIRO DE OBRAS
A9: 01.01 | B9: Barracão com sanitário, em chapa compensada 12 mm e pont. 8x8cm, piso cimentado e cobertura em telha de fibroc. 6mm, incl. ponto de luz e cx. inspeção
B11: Empreiteiro | D11: 5 | E11: 4 | I11: =D11*E11 -> 20
B12: QUANTIDADE | I12: =I11 -> 20 | J12: MS
A14: 1.02 | B14: Tapume de vedação e proteção, executado com chapas de compensado resinado com 6 mm de espessura, exclusive pintura, em Vias Urbanas
B16: Tapume para isolar a área do barração com sanitários e proteger os materiais | F16: h
B17: Será indicado um terreno da prefeitura para instalação do canteiro | D17: 10 | E17: 8 | F17: 2 | I17: =D17*E17*F17 -> 160
B18: QUANTIDADE | I18: =I17 -> 160 | J18: M2
A20: 1.03 | B20: Reservatório de fibra de vidro de 1000 L, incl. suporte em madeira de 7x12cm, elevado de 4m
B21: Empreiteiro | D21: 1 | I21: 1
B22: QUANTIDADE | I22: =I21 -> 1 | J22: UND
A24: 1.04 | B24: Rede de água c/ padrão de entrada d'água diâm. 3/4" conf. CESAN, incl. tubos e conexões p/aliment., distrib., extravas. e limp., cons. o padrão a 25m
B25: Empreiteiro | D25: 6 | I25: =D25 -> 6
B26: QUANTIDADE | I26: =I25 -> 6 | J26: M
A28: 1.05 | B28: Rede de esgoto, contendo fossa e filtro, incl. tubos e conexões de ligação entre caixas, considerando distância de 25m
B29: Empreiteiro | D29: 6 | I29: =D29 -> 6
B30: QUANTIDADE | I30: =I29 -> 6 | J30: M
A32: 1.06 | B32: Rede de luz, incl. padrão entr. energia trifás. cabo ligação até barracões, quadro distrib., disj. E chave de força, cons. 20m entre padrão entr.e QDG
B33: Empreiteiro | D33: 6 | I33: =D33 -> 6
B34: QUANTIDADE | I34: =I33 -> 6 | J34: M
A36: 02 | B36: SERVIÇOS PRELIMINARES
A37: 02.01 | B37: Placa de obra nas dimensões de 2,0 x 4,0 m, padrão SEDURB
C38: 1 | D38: 2 | E38: 4 | I38: 8
B39: QUANTIDADE | I39: =I38 -> 8 | J39: M2
A41: 03 | B41: DEMOLIÇÕES E RETIRADAS
A42: 03.01 | B42: Remoção e reassentamento de blocos de concreto, inclusive perdas
B43: Rua Arnulfo Neves passagem de eletroduto do poste a pracinha | D43: 10 | E43: 0.3 | I43: =D43*E43 -> 3
B44: QUANTIDADE | I44: =SUM(I43:I43) -> 3 | J44: M2
A46: 03.02 | B46: Retirada de poste de aço de 4 a 6 m
B47: Centro da pracinha | C47: 1 | I47: 1
B48: QUANTIDADE | I48: =SUM(I47:I47) -> 1 | J48: UND
A50: 04 | B50: PISO
A51: 4.01 | B51: Reaterro de cavas c/ compactação mecânica (compactador manual), em Vias Urbanas
B52: Regularização da base da pracinha (área retirada do projeto) | F52: 0.15 | G52: 85.8 | I52: =F52*G52 -> 12.87
...

Sheet Cronograma
B1: PREFEITURA MUNICIPAL DE JOÃO NEIVA
B2: CRONOGRAMA FÍSICO-FINANCEIRO
B3: OBRA: REVITALIZAÇÃO DA PRACINHA DO TRIÂNGULO E PINTURA DO CANTEIRO CENTRAL
B4: LOCAL: JOÃO NEIVA-ES | G4: L. SOCIAIS: | H4: 1.5727
B5: ORÇAMENTISTA: JEFTER DOS SANTOS LADISLAU - CREA: ES- 0043139/D | G5: BDI: | H5: 0.2332 | J5: SEM DESONERAÇÃO
A6: ITEM | B6: DESCRIÇÃO | D6: VALORES (R$) | E6: PERÍODO (mês) LICITAÇÃO | H6: PERÍODO (mês) EXECUÇÃO
E7: 1 | F7: 2 | G7: 3 | H7: 4 | I7: 5 | J7: 6
A8: 01 | B8: CANTEIRO DE OBRAS | C8: Físico (%) | D8: =PO!H15 -> 22783.3 | E8: ---------- | F8: ---------- | G8: ---------- | H8: 0.333333 | I8: 0.333333 | J8: 0.333333
C9: Financeiro (R$) | E9: ---------- | F9: ---------- | G9: ---------- | H9: =D8*H8 -> 7594.4257 | I9: =D8*I8 -> 7594.4257 | J9: =D8*J8 -> 7594.4257
A10: 02 | B10: SERVIÇOS PRELIMINARES | C10: Físico (%) | D10: =PO!H19 -> 2091.04 | E10: ---------- | F10: ---------- | G10: ---------- | H10: 0.333333 | I10: 0.333333 | J10: 0.333333
C11: Financeiro (R$) | E11: ---------- | F11: ---------- | G11: ---------- | H11: =D10*H10 -> 697.01264 | I11: =D10*I10 -> 697.01264 | J11: =D10*J10 -> 697.01264
A12: 03 | B12: REMOÇÕES | C12: Físico (%) | D12: =PO!H24 -> 230.94 | E12: ---------- | F12: ---------- | G12: ---------- | H12: 0.333333 | I12: 0.333333 | J12: 0.333333
C13: Financeiro (R$) | E13: ---------- | F13: ---------- | G13: ---------- | H13: =D12*H12 -> 76.979923 | I13: =D12*I12 -> 76.979923 | J13: =D12*J12 -> 76.979923
A14: 04 | B14: PISO | C14: Físico (%) | D14: =PO!H33 -> 7491.84 | E14: ---------- | F14: ---------- | G14: ---------- | H14: 0.333333 | I14: 0.333333 | J14: 0.333333
C15: Financeiro (R$) | E15: ---------- | F15: ---------- | G15: ---------- | H15: =D14*H14 -> 2497.2775 | I15: =D14*I14 -> 2497.2775 | J15: =D14*J14 -> 2497.2775
A16: 05 | B16: PRAÇA | C16: Físico (%) | D16: =PO!H38 -> 4258.31 | E16: ---------- | F16: ---------- | G16: ---------- | H16: 0.333333 | I16: 0.333333 | J16: 0.333333
C17: Financeiro (R$) | E17: ---------- | F17: ---------- | G17: ---------- | H17: =D16*H16 -> 1419.4352 | I17: =D16*I16 -> 1419.4352 | J17: =D16*J16 -> 1419.4352
A18: 06 | B18: PAISAGISMO | C18: Físico (%) | D18: =PO!H43 -> 2266.79 | E18: ---------- | F18: ---------- | G18: ---------- | H18: 0.333333 | I18: 0.333333 | J18: 0.333333
C19: Financeiro (R$) | E19: ---------- | F19: ---------- | G19: ---------- | H19: =D18*H18 -> 755.59591 | I19: =D18*I18 -> 755.59591 | J19: =D18*J18 -> 755.59591
A20: 07 | B20: ILIMINAÇÃO PÚBLICA | C20: Físico (%) | D20: =PO!H53 -> 9349.77 | E20: ---------- | F20: ---------- | G20: ---------- | H20: 0.333333 | I20: 0.333333 | J20: 0.333333
C21: Financeiro (R$) | E21: ---------- | F21: ---------- | G21: ---------- | H21: =D20*H20 -> 3116.5869 | I21: =D20*I20 -> 3116.5869 | J21: =D20*J20 -> 3116.5869
A22: 08 | B22: SERVIÇOS COMPLEMENTARES | C22: Físico (%) | D22: =PO!H58 -> 4576.86 | E22: ---------- | F22: ---------- | G22: ---------- | H22: 0.333333 | I22: 0.333333 | J22: 0.333333
C23: Financeiro (R$) | E23: ---------- | F23: ---------- | G23: ---------- | H23: =D22*H22 -> 1525.6185 | I23: =D22*I22 -> 1525.6185 | J23: =D22*J22 -> 1525.6185
A24: Total Parcial (%) | D24: =SUM(D8:D23) -> 53048.85 | H24: =H26/J27 -> 0.333333 | I24: =I26/J27 -> 0.333333 | J24: =J26/J27 -> 0.333333
A25: Total Acumulado (%) | H25: =H24 -> 0.333333 | I25: =H25+I24 -> 0.666666 | J25: =I25+J24 -> 0.999999
A26: Total Financeiro (R$) | H26: =H9+H11+H13+H15+H17+H19+H21+H23 -> 17682.932 | I26: =I9+I11+I13+I15+I17+I19+I21+I23 -> 17682.932 | J26: =J9+J11+J13+J15+J17+J19+J21+J23 -> 17682.932
A27: Total Acumulado (R$) | H27: =H26 -> 17682.932 | I27: =I26+H27 -> 35365.865 | J27: =D24 -> 53048.85

Sheet COTAÇÃO
B1: PREFEITURA MUNICIPAL DE JOÃO NEIVA
B2: COTAÇÃO
B3: OBRA: REVITALIZAÇÃO DA PRACINHA DO TRIÂNGULO E PINTURA DO CANTEIRO CENTRAL
B4: LOCAL: JOÃO NEIVA-ES
B5: ORÇAMENTISTA: JEFTER DOS SANTOS LADISLAU - CREA: ES- 0043139/D
A6: ITEM | B6: DESCRIÇÃO | C6: FORNECEDOR 1 | D6: CONTATO | E6: PREÇO | F6: DATA | G6: FORNECEDOR 2 | H6: CONTATO | I6: PREÇO | J6: DATA | K6: FORNECEDOR 3 | L6: CONTATO | M6: PREÇO | N6: DATA | O6: MENOR PREÇO | P6: OBSERVAÇÕES
A8: 1 | B8: Banco de Jardim em Madeira e Pé de Ferro Tamandua (100cm x 58cm x 70cm) | C8: Americanas.com | D8: https://www.americanas.com.br/produto/46820347/banco-de-jardim-em-madeira-e-pe-de-ferro-tamandua-namoradeira-tzp-100cm?WT.srch=1&acc=e789ea56094489dffd798f86ff51c7a9&epar=bp_pl_00_go_pla_casaeconst_geral_gmv&gclid=EAIaIQobChMIrvDLlJfs5AIVEgSRCh0Mmg7bEAQYAiABEgI9ffD_BwE&i=599cf6afeec3dfb1f8e31ba9&o=5bef0351ebb19ac62ce76c45&opn=YSMESP&sellerId=55931588000199 | E8: 235.84 | F8: 43733 | G8: Submarino.com | H8: https://www.submarino.com.br/produto/46820347/banco-de-jardim-em-madeira-e-pe-de-ferro-tamandua-namoradeira-tzp-100cm?pfm_carac=Banco%20De%20Jardim%20Em%20Madeira%20E%20P%C3%A9%20De%20Ferro%20Tamandu%C3%A1%20Namoradeira&pfm_index=0&pfm_page=search&pfm_pos=grid&pfm_type=search_page%20&sellerId | I8: 297.44 | J8: 43733 | K8: shoptime.com | L8: https://www.shoptime.com.br/produto/46820347/banco-de-jardim-em-madeira-e-pe-de-ferro-tamandua-namoradeira-tzp-100cm?pfm_carac=Banco%20de%20Jardim%20em%20Madeira%20e%20P%C3%A9%20de%20Ferro%20Tamandua&pfm_index=1&pfm_page=search&pfm_pos=grid&pfm_type=search_page%20 | M8: 268 | N8: 43733 | O8: =MIN(E8,I8,M8) -> 235.84
A9: 2 | B9: Lixeira de Plástico Tampa Vai Vem Qua 50 L Az Poste Eld | C9: Americanas.com | D9: https://www.americanas.com.br/produto/179816068/lixeira-coleta-seletiva-plastico-tampa-vai-vem-qua-50-l-az-poste-eld?pfm_carac=Lixeira%20Coleta%20Seletiva%20Pl%C3%A1stico%20Tampa%20Vai%20Vem%20Qua%2050%20L%20Az%20Poste%20Eld&pfm_index=0&pfm_page=search&pfm_pos=grid&pfm_type=search_page%20&sellerId | E9: 174.6 | F9: 43733 | G9: Submarino.com | H9: https://www.submarino.com.br/produto/179816068/lixeira-coleta-seletiva-plastico-tampa-vai-vem-qua-50-l-az-poste-eld?WT.srch=1&aid=5d73d4ee8e49e50f5234a030&chave=vnzpla_5d73d4ee8e49e50f5234a030_16863584000169_179816068&epar=bp_pl_00_go_pla_b2wads&gclid=Cj0KCQjwlJfsBRDUARIsAIDHsWpmqvzqDG1qctbRkvworbCxDfTzPcPulPi7VNV1CdN4QuxiBbXQC_EaAnAcEALw_wcB&opn=XMLGOOGLE&pid=179816068&sellerId=16863584000169&sid=16863584000169 | I9: 174.6 | J9: 43733 | K9: shoptime.com | L9: https://www.shoptime.com.br/produto/179816068/lixeira-coleta-seletiva-plastico-tampa-vai-vem-qua-50-l-az-poste-eld?pfm_carac=Lixeira%20Coleta%20Seletiva%20Pl%C3%A1stico%20Tampa%20Vai%20Vem%20Qua%2050%20L%20Az%20Poste%20Eld&pfm_index=0&pfm_page=search&pfm_pos=grid&pfm_type=search_page%20 | M9: 198.41 | N9: 43733 | O9: =MIN(E9,I9,M9) -> 174.6
A10: 3 | B10: Poste Aço Fosf. P27/2 Preto com Vidro | C10: shoptime.com | D10: https://www.shoptime.com.br/produto/15885242/poste-aco-fosf-p27-2-preto-com-vidro-ideal?WT.srch=1&acc=a76c8289649a0bef0524c56c85e71570&epar=bp_pl_00_go_pla_el_geral_3p&gclid=CjwKCAjw2qHsBRAGEiwAMbPoDCKA6i-U5rshvtdmsEm6WMMvN7IP5Cec73B5TrrLSysnsOmQjd64SRoCy6MQAvD_BwE&i=58368bd0eec3dfb1f8093de1&o=57f43a52eec3dfb1f8372f25&opn=GOOGLEXML&sellerId=25302749000114&sellerid=25302749000114&wt.srch=1 | E10: 498.39 | F10: 43733 | G10: extra.com.br | H10: https://www.extra.com.br/construcao/Iluminacao/poste-aco-fosf-p27-2-preto-com-vidro-ideal-9673562.html?utm_medium=cpc&utm_source=gp_pla&IdSku=9673562&idLojista=23677&utm_campaign=ferr_casa_e_construcao_shopping&gclid=CjwKCAjw2qHsBRAGEiwAMbPoDIQ54JkqSZMZwarmPWjArDLn0F_pSsVISPKQZJOdFam3tUXP60nFaxoCTI8QAvD_BwE | I10: 498.39 | J10: 43733 | K10: casasbahia.com.br | L10: https://www.casasbahia.com.br/MaterialparaConstrucao/Iluminacao/poste-aco-fosf-p27-2-preto-com-vidro-ideal-9673562.html?utm_medium=Cpc&utm_source=GP_PLA&IdSku=9673562&idLojista=23677&utm_campaign=ferr_shopping&gclid=CjwKCAjw2qHsBRAGEiwAMbPoDDfOXyi645WR0fNHEL5IT5vGu1mI_hyXBqHbE-9cV7KYU-QmDwCJSRoCZm0QAvD_BwE | M10: 498.39 | N10: 43733 | O10: =MIN(E10,I10,M10) -> 498.39
A11: 4 | B11: Quadro elétrico de comando (400mmx300mmx20mm) | C11: autoeletronica.net | D11: https://www.autoeletronica.net/produtos/quadro-de-comando-40x30x20-s-flange | E11: 180.95 | F11: 43733 | G11: americanas.com.br | H11: https://www.americanas.com.br/produto/60410142/quadro-de-comando-cemar-40x30x20?WT.srch=1&acc=e789ea56094489dffd798f86ff51c7a9&epar=bp_pl_00_go_pla_casaeconst_geral_gmv&gclid=EAIaIQobChMI3fyLzI7s5AIVhQqRCh13Rg0HEAkYBiABEgLzV_D_BwE&i=5a713ab9eec3dfb1f8431d76&o=5ca2842f6c28a3cb5095a6c1&opn=YSMESP&sellerId=26674415000134 | I11: 400.39 | J11: 43733 | K11: shoptime.com.br | L11: https://www.shoptime.com.br/produto/60410142/quadro-de-comando-cemar-40x30x20?WT.srch=1&acc=a76c8289649a0bef0524c56c85e71570&epar=bp_pl_00_go_pla_casaeconst_geral_gmv&gclid=EAIaIQobChMI3fyLzI7s5AIVhQqRCh13Rg0HEAkYDiABEgJ_-PD_BwE&i=5a714849eec3dfb1f84ac599&o=5ca284356c28a3cb5095a6e4&opn=GOOGLEXML&sellerId=26674415000134&sellerid=26674415000134&wt.srch=1 | M11: 454.99 | N11: 43733 | O11: =MIN(E11,I11,M11) -> 180.95
A12: 5 | B12: Contator Bipolar 220V Weg - CWM25-00-20D02 | C12: submarino.com | D12: https://www.submarino.com.br/produto/197592141/contator-bipolar-24v-weg-cwm25-00-20d02?WT.srch=1&acc=d47a04c6f99456bc289220d5d0ff208d&epar=bp_pl_00_go_g35219&gclid=Cj0KCQjw_absBRD1ARIsAO4_D3sWkbQXhqoud-r9qLqxHtsjFsUAqzR208DVaieS1UdiOlCpJecH-CgaAv-5EALw_wcB&i=5c99b49349f937f6252fda23&o=5d685aeb6c28a3cb5089382f&opn=XMLGOOGLE&sellerId=20072704000268 | E12: 70.06 | F12: 43733 | G12: americanas.com | H12: https://www.americanas.com.br/produto/197592731/contator-bipolar-220v-weg-cwm25-00-20d23?WT.srch=1&acc=e789ea56094489dffd798f86ff51c7a9&epar=bp_pl_00_go_pla_casaeconst_geral_gmv&gclid=Cj0KCQjw_absBRD1ARIsAO4_D3s_HOvNejhvkZp-jHcAQD6UMruQgNhBFAEKQN0YM8myqYYOWlUwb9saAmwNEALw_wcB&i=5c999b5a49f937f62527f322&o=5d685c646c28a3cb5089405e&opn=YSMESP&sellerId=20072704000268 | I12: 70.64 | J12: 43733 | K12: shoptime.com | L12: https://www.shoptime.com.br/produto/184883302?WT.srch=1&acc=a76c8289649a0bef0524c56c85e71570&epar=bp_pl_00_go_pla_casaeconst_geral_gmv&gclid=Cj0KCQjw_absBRD1ARIsAO4_D3tfI1c2ZfK1mx50PkW4jh7knFZkxjJTjdgzdfCh4YIZ8dPFkFIwi2EaAplxEALw_wcB&i=5bb6e48aeec3dfb1f8e1e2fc&o=5d6556e76c28a3cb50840b34&opn=GOOGLEXML&sellerId=27079294000145&sellerid=27079294000145&wt.srch=1 | M12: 72.3 | N12: 43733 | O12: =MIN(E12,I12,M12) -> 70.06
A13: 6 | B13: Protetor Contra Raio Dps 275v 45ka - Clamper | C13: magazineluiza.com.br | D13: https://www.magazineluiza.com.br/protetor-contra-raio-dps-275v-45ka-clamper-/p/6335780/cj/eltr/?&utm_source=google&partner_id=16610&seller_id=mercadodobrazil&product_group_id=376808955025&ad_group_id=48543698555&aw_viq=pla&gclid=Cj0KCQjw_absBRD1ARIsAO4_D3ueUg3RxqREg0W5LwA8cux1k1LQeJNLuUi92oJIzXXNgIx2PqHBRwcaAlQeEALw_wcB | E13: 38.58 | F13: 43733 | G13: waz.com.br | H13: https://www.waz.com.br/dps-vcl-275v-45ka-slim-clamper-3985-112346-html/p?idsku=112346&gclid=Cj0KCQjw_absBRD1ARIsAO4_D3uFHSwptNvqsVnyJ-50qff4WfUmRo4CBgzySrLpx1yjqGWy49Idcl8aAik2EALw_wcB | I13: 43.99 | J13: 43733 | K13: extra.com.br | L13: https://www.extra.com.br/construcao/EletricaparaConstrucao/Disjuntores/protetor-de-surtos-dps-clamper-vcl-45ka-anti-raio-14410512.html?utm_medium=cpc&utm_source=gp_pla&IdSku=14410512&idLojista=12231&utm_campaign=ferr_casa_e_construcao_shopping&gclid=Cj0KCQjw_absBRD1ARIsAO4_D3vU5Zwj_UP1qmvRMYbb4VkudT-LdKHNL7vP_IdIsat8WCOtlmkkKfsaApDiEALw_wcB | M13: 47.5 | N13: 43733 | O13: =MIN(E13,I13,M13) -> 38.58
A14: 7 | B14: Botão Duplo Pulsador 22mm 1na+1nf P20apl-1c Com Capa Protetora | C14: americanas.com | D14: https://www.americanas.com.br/produto/104006927/botao-duplo-pulsador-22mm-1na-1nf-p20apl-1c-com-capa-protetora-metaltex?WT.srch=1&acc=e789ea56094489dffd798f86ff51c7a9&epar=bp_pl_00_go_pla_casaeconst_geral_gmv&gclid=Cj0KCQjw_absBRD1ARIsAO4_D3vdbqKUJnI1h4pmENUJ6di-oCdhdzUcR7TxN7X-r3Hnc3M2NsFOmu4aAiYOEALw_wcB&i=5cb006db49f937f6258de38d&o=5d3f5bca6c28a3cb5043d1d6&opn=YSMESP&sellerId=85014793000150 | E14: 22.57 | F14: 43733 | G14: magazineluiza.com.br | H14: https://www.magazineluiza.com.br/botao-duplo-pulsador-22mm-1na-1nf-p20apl-1c-com-capa-protetora-metaltex-/p/cj1606f210/am/bots/?&utm_source=google&partner_id=25361&seller_id=eletrorastro&product_group_id=336600256244&ad_group_id=48543698795&aw_viq=pla&gclid=Cj0KCQjw_absBRD1ARIsAO4_D3tGJPdUJUwihy1ZapCuMXHDODIagYu677U6eR1m64FZd9SG5HdP99waAlWKEALw_wcB | I14: 24.59 | J14: 43733 | K14: shoptime.com | L14: https://www.shoptime.com.br/produto/104006927/botao-duplo-pulsador-22mm-1na-1nf-p20apl-1c-com-capa-protetora-metaltex?WT.srch=1&acc=a76c8289649a0bef0524c56c85e71570&epar=bp_pl_00_go_pla_casaeconst_geral_gmv&gclid=Cj0KCQjw_absBRD1ARIsAO4_D3shQyiYPC8u8G9MU77RjtJBjM3FbsxRuTWIrVszkuYRaBant_PfoxgaAhm0EALw_wcB&i=5d7bf80349f937f6250f7f12&o=5d3f5bca6c28a3cb5043d1d3&opn=GOOGLEXML&sellerId=85014793000150&sellerid=85014793000150&wt.srch=1 | M14: 25.65 | N14: 43733 | O14: =MIN(E14,I14,M14) -> 22.57
A15: 8 | B15: Botão Comutador Knob curto CSW-CK2F45-WH - WEG | C15: casasbahia.com.br | D15: https://www.casasbahia.com.br/MaterialparaConstrucao/EletricaparaConstrucao/QuadrosCaixasEletricas/botao-comutador-knob-curto-csw-ck2f45-wh-weg-1500154868.html?utm_medium=Cpc&utm_source=GP_PLA&IdSku=1500154868&idLojista=12231&utm_campaign=ferr_shopping&gclid=Cj0KCQjw_absBRD1ARIsAO4_D3szwViKPvK671ygFnkunlSf-ev5L2HYvTTWSq-eKJRdGw4Nn58AWTQaAsjvEALw_wcB | E15: 43 | F15: 43733 | G15: pontofrio.com.br | H15: https://www.pontofrio.com.br/construcao/EletricaparaConstrucao/QuadrosCaixasEletricas/botao-comutador-knob-curto-csw-ck2f45-wh-weg-1500154868.html?utm_medium=cpc&utm_source=gp_pla&IdSku=1500154868&idLojista=12231&utm_campaign=ferr_casa_e_construcao_shopping&gclid=Cj0KCQjw_absBRD1ARIsAO4_D3vvT-AxhC9BkKt6ud7FczX6kLa92gJWpfZD0RJ1jGUSUZGygp9U384aAlGfEALw_wcB | I15: 43 | J15: 43733 | K15: lojasetta.com | L15: https://www.lojasetta.com/chave-comutadora-2-posicoes-fixa-csw-ck2f45-weg/176835/produto/?gclid=Cj0KCQjw_absBRD1ARIsAO4_D3tXEdNbQpAg4Q8B8KslzrAmSPp5EQ0g8rOrrr6OY5sgc0GqqOt2SmkaAvcPEALw_wcB | M15: 37.07 | N15: 43733 | O15: =MIN(E15,I15,M15) -> 37.07
A16: 9 | B16: Canaleta PVC Aberta 50x50mm 2m - | C16: casasbahia.com.br | D16: https://www.casasbahia.com.br/MaterialparaConstrucao/EletricaparaConstrucao/Eletrodutos/canaleta-pvc-aberta-50x50mm-2m-hellermanntyton-12934635.html?utm_medium=Cpc&utm_source=GP_PLA&IdSku=12934635&idLojista=32318&utm_campaign=ferr_shopping&gclid=Cj0KCQjw_absBRD1ARIsAO4_D3tPGL6259mJ-JXlin4PTeR34I_Tx5NMVZ-LujY_A37tm_c6qjG3nkcaAtVaEALw_wcB | E16: 54.9 | F16: 43733 | G16: loroymerlin.com.br | H16: https://www.leroymerlin.com.br/canaleta-50x50mm-2metros-hellermann_88243771?region=grande_sao_paulo&gclid=Cj0KCQjw_absBRD1ARIsAO4_D3t1JRPyHl8Eyg41NC8MY2VHmTVkd3-M5Inbsik4CWCz2m2mR4y2fBUaAkjQEALw_wcB | I16: 68.9 | J16: 43733 | K16: extra.com.br | L16: https://www.extra.com.br/construcao/EletricaparaConstrucao/Eletrodutos/canaleta-pvc-aberta-50x50mm-2m-hellermanntyton-12934635.html?utm_medium=cpc&utm_source=gp_pla&IdSku=12934635&idLojista=32318&utm_campaign=ferr_casa_e_construcao_shopping&gclid=Cj0KCQjw_absBRD1ARIsAO4_D3vFpzLTAfEs2FqTwiVsComS0_uSRFD-5fBY-ImpEyJr9D3ZNWTF9bYaAjgaEALw_wcB | M16: 54.9 | N16: 43733 | O16: =MIN(E16,I16,M16) -> 54.9
A17: 10 | B17: Trilho ts 35 x 7,5mm liso zincado branco 1mt | C17: magazineluiza.com.br | D17: https://www.magazineluiza.com.br/trilho-ts-35-x-75mm-liso-zincado-branco-1mt-aiedem-/p/jdk1h98k38/cj/trel/?&utm_source=google&utm_medium=pla&utm_campaign=PLA_marketplace&seller_id=mceig-materiaiseletricos&product_group_id=376808955025&ad_group_id=48543698555&aw_viq=pla&gclid=Cj0KCQjw_absBRD1ARIsAO4_D3skZl-S8GoWTTeUv57gSbqu_PX7pK5zUBGkJq_gshQIESHRvgGPIAgaAqnDEALw_wcB | E17: 17.95 | F17: 43733 | G17: submarino.com.br | H17: https://www.submarino.com.br/produto/55571574/suporte-para-disjuntor-din-trilho-35mm-x-1-metro?WT.srch=1&acc=d47a04c6f99456bc289220d5d0ff208d&epar=bp_pl_00_go_g35167&gclid=Cj0KCQjw_absBRD1ARIsAO4_D3vHg77xmsp-yGTzpuoXScJlM6znOmqkMf7kWNet0oy9lJjOIensubAaAm__EALw_wcB&i=5a7156a6eec3dfb1f85019aa&o=5c8951706c28a3cb5082485e&opn=XMLGOOGLE&sellerId=26674415000134 | I17: 29.91 | J17: 43733 | K17: mceigvirtual.com.br | L17: https://www.mceigvirtual.com.br/trilho-ts-35-x-7-5mm-liso-zincado-branco-1mt-aiedem-p986057 | M17: 9.02 | N17: 43733 | O17: =MIN(E17,I17,M17) -> 9.02
A18: 11 | B18: BORNE SAK MTB 2,5EN 2,5MM 26A BEGE | C18: eletrorastro.com.br | D18: https://www.eletrorastro.com.br/produto/borne-sak-mtb-2-5en-2-5mm-26a-bege-metaltex-68534?utm_source=GoogleShopping&utm_medium=&utm_campaign=GoogleShopping&gclid=Cj0KCQjw_absBRD1ARIsAO4_D3uOOfgo6PnDK0kW-qxeHZj1X_FoGMercrtjWDaZ5CLzLhDqKzzh7iEaAh82EALw_wcB | E18: 2.16 | F18: 43733 | G18: submarino.com.br | H18: https://www.submarino.com.br/produto/49390241/borne-passante-a-parafuso-mtb2-5en?WT.srch=1&acc=d47a04c6f99456bc289220d5d0ff208d&epar=bp_pl_00_go_g35219&gclid=Cj0KCQjw_absBRD1ARIsAO4_D3uoNtInRS6uAWUN07RQM4bppcDl5zqaf2doPKWEjbC4Sojc6zRRNqwaAiEZEALw_wcB&i=5b77a8f4eec3dfb1f82a9834&o=5c2df8d76c28a3cb5047d408&opn=XMLGOOGLE&sellerId=1134726000180 | I18: 2.44 | J18: 43733 | K18: lojasetta.com.br | L18: https://www.lojasetta.com/borne-passante-a-parafuso-mtb25en/179530/produto/?gclid=Cj0KCQjw_absBRD1ARIsAO4_D3s-9BsOuZkCLuBklHdQykQBywXY0O7rYkHbi1nKD6g0eQ5D-vkdXkEaAoqGEALw_wcB | M18: 2.45 | N18: 43733 | O18: =MIN(E18,I18,M18) -> 2.16
A19: 12 | B19: Barramento Terra 80a 11 Pólos Verde | C19: cec.com.br | D19: https://www.cec.com.br/material-eletrico/disjuntores-e-armacoes/barramento-terra-80a-11-polos-verde?produto=1347916&utm_content=material-eletrico&utm_medium=cpc&utm_campaign=GoogleShop&utm_source=google-shopping&idpublicacao=791d2005-d206-4804-b297-71cab438caf1&gclid=Cj0KCQjw_absBRD1ARIsAO4_D3syZzRMDVkWY6qBdvfNYgU3W7BG-lWMzlA60DqUlU2yEYzyUhJ485oaAkXPEALw_wcB | E19: 17.49 | F19: 43733 | G19: americanas.com | H19: https://www.americanas.com.br/produto/43357024/barramento-terra-11-terminais-verde-130mm-sbt11-steck?WT.srch=1&acc=e789ea56094489dffd798f86ff51c7a9&epar=bp_pl_00_go_pla_casaeconst_geral_gmv&gclid=Cj0KCQjw_absBRD1ARIsAO4_D3sGM13SLK1_SwyR65cNV1XCxZlN_lOCWhdXHOsoMVEkar3C1d9b7kEaAnhBEALw_wcB&i=5b973114eec3dfb1f8c2b717&o=5bb63188ebb19ac62cbe22e9&opn=YSMESP&sellerId=20526132000169 | I19: 20.84 | J19: 43733 | K19: submarino.com.br | L19: https://www.submarino.com.br/produto/43357024/barramento-terra-11-terminais-verde-130mm-sbt11-steck?WT.srch=1&acc=d47a04c6f99456bc289220d5d0ff208d&epar=bp_pl_00_go_g35219&gclid=Cj0KCQjw_absBRD1ARIsAO4_D3tqbCXt6iWLg8NLgKSqHBJtJaCcHI18YXhZv_PQ6WOJ26zi3aZBCyoaAtIYEALw_wcB&i=5b974d0deec3dfb1f8caf78a&o=5bb63012ebb19ac62cbe1f45&opn=XMLGOOGLE&sellerId=20526132000169 | M19: 20.84 | N19: 43733 | O19: =MIN(E19,I19,M19) -> 17.49
A20: 13 | B20: BARRAMENTO NEUTRO/TERRA 8 DIN | C20: americanas.com | D20: https://www.americanas.com.br/produto/36241148/barramento-neutro-terra-8-din-forceline?WT.srch=1&acc=e789ea56094489dffd798f86ff51c7a9&epar=bp_pl_00_go_pla_casaeconst_geral_gmv&gclid=Cj0KCQjw_absBRD1ARIsAO4_D3sE2p21W9yx96GJoQlNWsydvyMjkz_mYC3vPofjC1G9kpUT_LDGLfYaAtV2EALw_wcB&i=5af3cc27eec3dfb1f849517e&o=5b19cc4febb19ac62c6b4667&opn=YSMESP&sellerId=59404947000100 | E20: 15.46 | F20: 43733 | G20: cec.com.br | H20: https://www.cec.com.br/material-eletrico/disjuntores-e-armacoes/barramento-neutro-80a-8-polos-azul?produto=1347906 | I20: 13.49 | J20: 43733 | K20: submarino.com.br | L20: https://www.submarino.com.br/produto/36241148/barramento-neutro-terra-8-din-forceline?WT.srch=1&acc=d47a04c6f99456bc289220d5d0ff208d&epar=bp_pl_00_go_g35219&gclid=Cj0KCQjw_absBRD1ARIsAO4_D3uIGFHFzzkOQN95WuvyX1OCJiByk-PQcXshW5-5764nhsm_cvuQCNAaAgMeEALw_wcB&i=5af3dfb1eec3dfb1f84d1a55&o=5b19cae2ebb19ac62c6b4579&opn=XMLGOOGLE&sellerId=59404947000100 | M20: 15.46 | N20: 43733 | O20: =MIN(E20,I20,M20) -> 13.49

Sheet COMP-1
A1: PREFEITURA MUNICIPAL DE JOÃO NEIVA
A2: MEMORIAL DE CÁLCULO
A3: =PO!B3 -> OBRA: REVITALIZAÇÃO DA PRACINHA DO TRIÂNGULO E PINTURA DO CANTEIRO CENTRAL
A4: LOCAL: JOÃO NEIVA-ES
A5: COMPOSIÇÃO ANALÍTICA DE PREÇO UNITÁRIO | K5: Data-base
K6: OUT/2018
K7: COMP-1
A8: SERVIÇO: | B8: Pavimentação com blocos de concreto colorido (35 MPa), esp.=06cm, sobre colchão areia esp.=5cm, inclusive fornecim. e transporte blocos e areia, Vias Urbanas
A9: UND: | B9: M²
A10: ITEM DE REFERÊNCIA DER-ES 42498
A12: EQUIPAMENTOS
A13: CÓD. | B13: ORGÃO | C13: DESCRIÇÃO | F13: UT.PR | G13: UT.IMPR | H13: Vl. Hr. Prod | I13: Vl. Hr. Imp | J13: R$ PARCIAL
A14: 30032 | B14: DER-ES | C14: Rolo AP de pneus AP-26 (8,9t) (MULLER) ou equivalente | F14: 0.1 | G14: 0.9 | H14: 175.45 | I14: 59 | J14: =F14*H14+G14*I14 -> 70.645
A15: TOTAL A | K15: =J14 -> 70.645
A17: MÃO-DE-OBRA/FERRAMENTA
A18: CÓD. | B18: ORGÃO | C18: DESCRIÇÃO | H18: UND | I18: COEF | J18: R$ UNIT. | K18: R$ PARCIAL
A19: 20035 | B19: DER-ES | C19: Calceteiro | H19: h | I19: 1 | J19: 14.43 | K19: =J19*I19 -> 14.43
A20: 20065 | B20: DER-ES | C20: Encarregado de pavimentação | H20: h | I20: 0.5 | J20: 26.3 | K20: =J20*I20 -> 13.15
A21: 20002 | B21: DER-ES | C21: Servente | H21: h | I21: 2 | J21: 11.64 | K21: =J21*I21 -> 23.28
A22: 2000 | B22: DER-ES | C22: Ferramentas manuais | I22: 0.05 | J22: =SUM(K19:K21) -> 50.86 | K22: =I22*J22 -> 2.543
A23: TOTAL B | K23: =SUM(K19:K22) -> 53.403
A25: MATERIAIS
A26: CÓD. | B26: ORGÃO | C26: DESCRIÇÃO | H26: UND | I26: COEF | J26: R$ UNIT. | K26: R$ PARCIAL
A28: 10109 | B28: DER-ES | C28: Areia grossa jazida com carregamento mecânico | H28: m³ | I28: 0.05 | J28: 64.22 | K28: =J28*I28 -> 3.211
A29: 10296 | B29: DER-ES | C29: Bloco para pavimentação intertravado - esp= 06cm, colorido, resistência 35 MPa | H29: m² | I29: 1 | J29: 33.47 | K29: =J29*I29 -> 33.47
A31: TOTAL C | K31: =SUM(K28:K29) -> 36.681
A33: RESUMO
A34: TOTAL A | K34: =J14 -> 70.645
A35: TOTAL B | K35: =K23 -> 53.403
I36: PRODUÇÃO DA EQUIPE (D) | K36: 4.15
G37: (E) CUSTO UNITÁRIO DA PRODUÇÃO ( A+B)/D | K37: =(K34+K35)/K36 -> 29.891084
A38: TOTAL C | K38: =K31 -> 36.681
J39: TOTAL F | K39: =K37+K38 -> 66.572084
A40: TOTAL E (BDI 23,32%) | K40: =K39*0.2332 -> 15.52461
A41: PREÇO DE VENDA | K41: =K40+K38 -> 52.20561

Sheet COMP-2
A1: PREFEITURA MUNICIPAL DE JOÃO NEIVA
A2: MEMORIAL DE CÁLCULO
A3: =PO!B3 -> OBRA: REVITALIZAÇÃO DA PRACINHA DO TRIÂNGULO E PINTURA DO CANTEIRO CENTRAL
A4: LOCAL: JOÃO NEIVA-ES
A5: COMPOSIÇÃO ANALÍTICA DE PREÇO UNITÁRIO | K5: Data-base
K6: OUT/2018
K7: COMP-2
A8: SERVIÇO: | B8: Fornecimaneto e Instalação de Banco de Jardim em Madeira e Pé de Ferro Tamandua
A9: UND: | B9: und
A12: MÃO-DE-OBRA/FERRAMENTA
A13: CÓD. | B13: ORGÃO | C13: DESCRIÇÃO | H13: UND | I13: COEF | J13: R$ UNIT. | K13: R$ PARCIAL
A14: 20109 | B14: DER-ES | C14: Pedreiro de O.A.C. | H14: h | I14: 0.5 | J14: 14.43 | K14: =J14*I14 -> 7.215
A15: 20002 | B15: DER-ES | C15: Servente | H15: h | I15: 1 | J15: 11.64 | K15: =J15*I15 -> 11.64
A16: 2000 | B16: DER-ES | C16: Ferramentas manuais | I16: 0.05 | J16: =SUM(K14:K15) -> 18.855 | K16: =I16*J16 -> 0.94275
A17: TOTAL A | K17: =SUM(K14:K16) -> 19.79775
A19: MATERIAIS
A20: CÓD. | B20: ORGÃO | C20: DESCRIÇÃO | H20: UND | I20: COEF | J20: R$ UNIT. | K20: R$ PARCIAL
B21: COT - 1 | C21: Banco de Jardim em Madeira e Pé de Ferro Tamandua | H21: und | I21: 1 | J21: =COTAÇÃO!O8 -> 235.84 | K21: =I21*J21 -> 235.84
A22: 40358 | B22: DER-ES | C22: Concreto estrutural fck = 15,0 MPa, tudo incluído | H22: m³ | I22: =(0.15*0.15*0.15)*4 -> 0.0135 | J22: 462.19 | K22: =J22*I22 -> 6.239565
A24: TOTAL B | K24: =SUM(K21:K22) -> 242.07957
A26: RESUMO
A27: TOTAL A | K27: =K17 -> 19.79775
A28: TOTAL B | K28: =K24 -> 242.07957
A29: TOTAL A+B | K29: =K27+K28 -> 261.87732
A30: TOTAL E (BDI 23,32%) | K30: =K29*0.2332 -> 61.06979
A31: PREÇO DE VENDA | K31: =K30+K29 -> 322.9471

Sheet COMP-3
A1: PREFEITURA MUNICIPAL DE JOÃO NEIVA
A2: MEMORIAL DE CÁLCULO
A3: =PO!B3 -> OBRA: REVITALIZAÇÃO DA PRACINHA DO TRIÂNGULO E PINTURA DO CANTEIRO CENTRAL
A4: LOCAL: JOÃO NEIVA-ES
A5: COMPOSIÇÃO ANALÍTICA DE PREÇO UNITÁRIO | K5: Data-base
K6: OUT/2018
K7: COMP-3
A8: SERVIÇO: | B8: Fornecimaneto e Instalação de Lixeira de Plástico Tampa Vai Vem Qua 50 L Az Poste Eld
A9: UND: | B9: und
A12: MÃO-DE-OBRA/FERRAMENTA
A13: CÓD. | B13: ORGÃO | C13: DESCRIÇÃO | H13: UND | I13: COEF | J13: R$ UNIT. | K13: R$ PARCIAL
A14: 20109 | B14: DER-ES | C14: Pedreiro de O.A.C. | H14: h | I14: 0.3 | J14: 14.43 | K14: =J14*I14 -> 4.329
A15: 20002 | B15: DER-ES | C15: Servente | H15: h | I15: 0.5 | J15: 11.64 | K15: =J15*I15 -> 5.82
A16: 2000 | B16: DER-ES | C16: Ferramentas manuais | I16: 0.05 | J16: =SUM(K14:K15) -> 10.149 | K16: =J16*I16 -> 0.50745
A17: TOTAL A | K17: =SUM(K14:K16) -> 10.65645
A19: MATERIAIS
A20: CÓD. | B20: ORGÃO | C20: DESCRIÇÃO | H20: UND | I20: COEF | J20: R$ UNIT. | K20: R$ PARCIAL
B21: COT - 2 | C21: Lixeira de Plástico Tampa Vai Vem Qua 50 L Az Poste Eld | H21: und | I21: 1 | J21: =COTAÇÃO!O9 -> 174.6 | K21: =I21*J21 -> 174.6
A22: 40358 | B22: DER-ES | C22: Concreto estrutural fck = 15,0 MPa, tudo incluído | H22: m³ | I22: =(0.2*0.2*0.3) -> 0.012 | J22: 462.19 | K22: =J22*I22 -> 5.54628
A24: TOTAL B | K24: =SUM(K21:K22) -> 180.14628
A26: RESUMO
A27: TOTAL A | K27: =K17 -> 10.65645
A28: TOTAL B | K28: =K24 -> 180.14628
A29: TOTAL A+B | K29: =K27+K28 -> 190.80273
A30: TOTAL E (BDI 23,32%) | K30: =K29*0.2332 -> 44.495197
A31: PREÇO DE VENDA | K31: =K30+K29 -> 235.29793

Sheet COMP-4
A1: PREFEITURA MUNICIPAL DE JOÃO NEIVA
A2: MEMORIAL DE CÁLCULO
A3: =PO!B3 -> OBRA: REVITALIZAÇÃO DA PRACINHA DO TRIÂNGULO E PINTURA DO CANTEIRO CENTRAL
A4: LOCAL: JOÃO NEIVA-ES
A5: COMPOSIÇÃO ANALÍTICA DE PREÇO UNITÁRIO | K5: Data-base
K6: OUT/2018
K7: COMP-4
A8: SERVIÇO: | B8: Passeio em concreto com acabamento liso
A9: UND: | B9: M²
A10: ITEM DE REFERÊNCIA: DER-ES 41240
A12: MÃO-DE-OBRA/FERRAMENTA
A13: CÓD. | B13: ORGÃO | C13: DESCRIÇÃO | H13: UND | I13: COEF | J13: R$ UNIT. | K13: R$ PARCIAL
A14: 20109 | B14: DER-ES | C14: Pedreiro de O.A.C. | H14: h | I14: 0.2 | J14: 14.43 | K14: =J14*I14 -> 2.886
A15: 20002 | B15: DER-ES | C15: Servente | H15: h | I15: 1.2 | J15: 11.64 | K15: =J15*I15 -> 13.968
A16: 2000 | B16: DER-ES | C16: Ferramentas manuais | I16: 0.05 | J16: =SUM(K14:K15) -> 16.854 | K16: =J16*I16 -> 0.8427
A17: TOTAL A | K17: =SUM(K14:K16) -> 17.6967
A19: MATERIAIS
A20: CÓD. | B20: ORGÃO | C20: DESCRIÇÃO | H20: UND | I20: COEF | J20: R$ UNIT. | K20: R$ PARCIAL
A21: 10119 | B21: DER-ES | C21: Brita graduada, especificada sem pó, sem frete | H21: und | I21: 0.1 | J21: 49.19 | K21: =I21*J21 -> 4.919
A22: 40358 | B22: DER-ES | C22: Concreto estrutural fck = 15,0 MPa, tudo incluído | H22: m³ | I22: 0.055 | J22: 462.19 | K22: =J22*I22 -> 25.42045
A24: TOTAL B | K24: =SUM(K21:K22) -> 30.33945
A26: RESUMO
A27: TOTAL A | K27: =K17 -> 17.6967
A28: TOTAL B | K28: =K24 -> 30.33945
A29: TOTAL A+B | K29: =K27+K28 -> 48.03615
A30: TOTAL E (BDI 23,32%) | K30: =K29*0.2332 -> 11.20203
A31: PREÇO DE VENDA | K31: =K30+K29 -> 59.23818

Sheet COMP-5
A1: PREFEITURA MUNICIPAL DE JOÃO NEIVA
A2: MEMORIAL DE CÁLCULO
A3: =PO!B3 -> OBRA: REVITALIZAÇÃO DA PRACINHA DO TRIÂNGULO E PINTURA DO CANTEIRO CENTRAL
A4: LOCAL: JOÃO NEIVA-ES
A5: COMPOSIÇÃO ANALÍTICA DE PREÇO UNITÁRIO | K5: Data-base
K6: OUT/2018
K7: COMP-5
A8: SERVIÇO: | B8: Fornecimento e instalação de poste Aço Fosf. P27/2 Preto com Vidro com base tudo incluso
A9: UND: | B9: und
A12: MÃO-DE-OBRA/FERRAMENTA
A13: CÓD. | B13: ORGÃO | C13: DESCRIÇÃO | H13: UND | I13: COEF | J13: R$ UNIT. | K13: R$ PARCIAL
A14: 20109 | B14: DER-ES | C14: Pedreiro de O.A.C. | H14: h | I14: 0.5 | J14: 14.43 | K14: =J14*I14 -> 7.215
A15: 20002 | B15: DER-ES | C15: Servente | H15: h | I15: 1 | J15: 11.64 | K15: =J15*I15 -> 11.64
A16: 2000 | B16: DER-ES | C16: Ferramentas manuais | I16: 0.05 | J16: =SUM(K14:K15) -> 18.855 | K16: =J16*I16 -> 0.94275
A17: TOTAL A | K17: =SUM(K14:K16) -> 19.79775
A19: MATERIAIS
A20: CÓD. | B20: ORGÃO | C20: DESCRIÇÃO | H20: UND | I20: COEF | J20: R$ UNIT. | K20: R$ PARCIAL
B21: COT -3 | C21: Poste Aço Fosf. P27/2 Preto com Vidro | H21: und | I21: 1 | J21: =COTAÇÃO!O10 -> 498.39 | K21: =I21*J21 -> 498.39
A22: 40312 | B22: DER-ES | C22: Formas planas de madeira com 02 (dois) reaproveitamentos, inclusive fornecimento e transporte das madeiras | H22: m² | I22: 0.8 | J22: 75.14 | K22: =I22*J22 -> 60.112
A23: 40358 | B23: DER-ES | C23: Concreto estrutural fck = 15,0 MPa, tudo incluído | H23: m³ | I23: 0.08 | J23: 462.19 | K23: =J23*I23 -> 36.9752
A24: 10694 | B24: DER-ES | C24: Eletroduto Kanaflex diâmetro 1 1/2 | H24: m | I24: 0.6 | J24: 3.69 | K24: =J24*I24 -> 2.214
A25: TOTAL B | K25: =SUM(K21:K23) -> 595.4772
A27: RESUMO
A28: TOTAL A | K28: =K17 -> 19.79775
A29: TOTAL B | K29: =K25 -> 595.4772
A30: TOTAL A+B | K30: =K28+K29 -> 615.27495
A31: TOTAL E (BDI 23,32%) | K31: =K30*0.2332 -> 143.48212
A32: PREÇO DE VENDA | K32: =K31+K30 -> 758.75707

Sheet COMP-6
A1: PREFEITURA MUNICIPAL DE JOÃO NEIVA
A2: MEMORIAL DE CÁLCULO
A3: =PO!B3 -> OBRA: REVITALIZAÇÃO DA PRACINHA DO TRIÂNGULO E PINTURA DO CANTEIRO CENTRAL
A4: LOCAL: JOÃO NEIVA-ES
A5: COMPOSIÇÃO ANALÍTICA DE PREÇO UNITÁRIO | K5: Data-base
K6: OUT/2018
K7: COMP-6
A8: SERVIÇO: | B8: Quadro elétrico de comando em aço (400mmx300mmx20mm) de acordo com o projeto todos os componentes inclusos.
A9: UND: | B9: und
A11: MÃO-DE-OBRA/FERRAMENTA
A12: CÓD. | B12: ORGÃO | C12: DESCRIÇÃO | H12: UND | I12: COEF | J12: R$ UNIT. | K12: R$ PARCIAL
A13: 20056 | B13: DER-ES | C13: Eletricista | H13: h | I13: 8 | J13: 14.43 | K13: =J13*I13 -> 115.44
A14: 20002 | B14: DER-ES | C14: Servente | H14: h | I14: 8 | J14: 11.64 | K14: =J14*I14 -> 93.12
A15: 2000 | B15: DER-ES | C15: Ferramentas manuais | I15: 0.05 | J15: =SUM(K13:K14) -> 208.56 | K15: =J15*I15 -> 10.428
A16: TOTAL A | K16: =SUM(K13:K15) -> 218.988
A18: MATERIAIS
A19: CÓD. | B19: ORGÃO | C19: DESCRIÇÃO | H19: UND | I19: COEF | J19: R$ UNIT. | K19: R$ PARCIAL
A20: 10809 | B20: DER-ES | C20: Eletroduto de aço galvanizado d=1 1/4" | H20: m | I20: 12 | J20: 22.33 | K20: =I20*J20 -> 267.96
A21: 49570 | B21: IOPES | C21: CABECOTE DE ALUMINIO FUNDIDO 1 1/4" | H21: UND | I21: 1 | J21: 5.84 | K21: =I21*J21 -> 5.84
A22: 69172 | B22: IOPES | C22: FITA PERFURADA WALSYWA 19MM X 30M | H22: UND | I22: 1 | J22: 30.7 | K22: =J22*I22 -> 30.7
B23: COT-4 | C23: Quadro elétrico de comando (400mmx300mmx20mm) | H23: UND | I23: 1 | J23: =COTAÇÃO!O11 -> 180.95 | K23: =J23*I23 -> 180.95
A24: 44668 | B24: IOPES | C24: MINI DISJUNTOR BIPOLAR 40A CURVA C 5KA 220/127V | H24: UND | I24: 1 | J24: 28.96 | K24: =J24*I24 -> 28.96
A25: 44664 | B25: IOPES | C25: MINI DISJUNTOR BIPOLAR 16A CURVA C 5KA 220/127V | H25: UND | I25: 3 | J25: 24.39 | K25: =J25*I25 -> 73.17
A26: 46027 | B26: IOPES | C26: RELE FOTOELETRICO MAG. MOD. RM10A / 220V UN | H26: UND | I26: 1 | J26: 21.06 | K26: =J26*I26 -> 21.06
B27: COT-5 | C27: Contator Bipolar 220V Weg - CWM25-00-20D02 | H27: UND | I27: 1 | J27: =COTAÇÃO!O12 -> 70.06 | K27: =I27*J27 -> 70.06
B28: COT-6 | C28: Protetor Contra Raio Dps 275v 45ka - Clamper | H28: UND | I28: 3 | J28: =COTAÇÃO!O13 -> 38.58 | K28: =I28*J28 -> 115.74
B29: COT-7 | C29: Botão Duplo Pulsador 22mm 1na+1nf P20apl-1c Com Capa Protetora | H29: UND | I29: 1 | J29: =COTAÇÃO!O14 -> 22.57 | K29: =I29*J29 -> 22.57
B30: COT-8 | C30: Botão Comutador Knob curto CSW-CK2F45-WH - WEG | H30: UND | I30: 1 | J30: =COTAÇÃO!O15 -> 37.07 | K30: =I30*J30 -> 37.07
B31: COT-9 | C31: Canaleta PVC Aberta 50x50mm 2m - | H31: UND | I31: 1 | J31: =COTAÇÃO!O16 -> 54.9 | K31: =I31*J31 -> 54.9
B32: COT-10 | C32: Trilho ts 35 x 7,5mm liso zincado branco 1mt | H32: UND | I32: 2 | J32: =COTAÇÃO!O17 -> 9.02 | K32: =I32*J32 -> 18.04
B33: COT-11 | C33: BORNE SAK MTB 2,5EN 2,5MM 26A BEGE | H33: UND | I33: 6 | J33: =COTAÇÃO!O18 -> 2.16 | K33: =I33*J33 -> 12.96
B34: COT-12 | C34: Barramento Terra 80a 11 Pólos Verde | H34: UND | I34: 1 | J34: =COTAÇÃO!O19 -> 17.49 | K34: =I34*J34 -> 17.49
B35: COT-13 | C35: BARRAMENTO NEUTRO/TERRA 8 DIN | H35: UND | I35: 1 | J35: =COTAÇÃO!O20 -> 13.49 | K35: =I35*J35 -> 13.49
A36: TOTAL C | K36: =SUM(K20:K35) -> 970.96
A38: RESUMO
A39: TOTAL A | K39: =K16 -> 218.988
A40: TOTAL B | K40: =K36 -> 970.96
A41: TOTAL A+B | K41: =K39+K40 -> 1189.948
A42: TOTAL E (BDI 23,32%) | K42: =K41*0.2332 -> 277.49587
A43: PREÇO DE VENDA | K43: =K42+K41 -> 1467.4439
