Workbook
Name _R: #REF!
Name _R: #REF!
Name A_km: '[1]Fresagem de Pista Ago-98'!#REF!
Name A_km: '[1]Fresagem de Pista Ago-98'!#REF!
Name ÀREA: '[1]Fresagem de Pista Ago-98'!#REF!
Name ÀREA: '[1]Fresagem de Pista Ago-98'!#REF!
Name ÀREA_ACUM: '[1]Fresagem de Pista Ago-98'!#REF!
Name ÀREA_ACUM: '[1]Fresagem de Pista Ago-98'!#REF!
Name BDI: #REF!
Name BDI: #REF!
Name DATA: '[1]Fresagem de Pista Ago-98'!#REF!
Name DATA: '[1]Fresagem de Pista Ago-98'!#REF!
Name DE_km: '[1]Fresagem de Pista Ago-98'!#REF!
Name DE_km: '[1]Fresagem de Pista Ago-98'!#REF!
Name Dólar: #REF!
Name Dólar: #REF!
Name e__cm: '[1]Fresagem de Pista Ago-98'!#REF!
Name e__cm: '[1]Fresagem de Pista Ago-98'!#REF!
Name Excel_BuiltIn__FilterDatabase_1: #REF!
Name Excel_BuiltIn__FilterDatabase_1: #REF!
Name Excel_BuiltIn__FilterDatabase_1_1: #REF!
Name Excel_BuiltIn__FilterDatabase_1_1: #REF!
Name Excel_BuiltIn_Print_Titles_1: #REF!
Name Excel_BuiltIn_Print_Titles_1: #REF!
Name EXT__m: '[1]Fresagem de Pista Ago-98'!#REF!
Name EXT__m: '[1]Fresagem de Pista Ago-98'!#REF!
Name FDE: #REF!
Name FDE: #REF!
Name FRESAGEM: '[1]Fresagem de Pista Ago-98'!#REF!
Name FRESAGEM: '[1]Fresagem de Pista Ago-98'!#REF!
Name graduad: #REF!
Name graduad: #REF!
Name GRADUADA: #REF!
Name GRADUADA: #REF!
Name Imprimir_títulos_IM: #REF!
Name Imprimir_títulos_IM: #REF!
Name INST: #REF!
Name INST: #REF!
Name KSAB: #REF!
Name KSAB: #REF!
Name KSIURB: #REF!
Name KSIURB: #REF!
Name KSSO: #REF!
Name KSSO: #REF!
Name LADO: '[1]Fresagem de Pista Ago-98'!#REF!
Name LADO: '[1]Fresagem de Pista Ago-98'!#REF!
Name LARG: '[1]Fresagem de Pista Ago-98'!#REF!
Name LARG: '[1]Fresagem de Pista Ago-98'!#REF!
Name LD: '[1]Fresagem de Pista Ago-98'!#REF!
Name LD: '[1]Fresagem de Pista Ago-98'!#REF!
Name Lista: #REF!
Name Lista: #REF!
Name ListaFim: #REF!
Name ListaFim: #REF!
Name LLL: #REF!
Name LLL: #REF!
Name PLA: #REF!
Name PLA: #REF!
Name PLANEJADA: #REF!
Name PLANEJADA: #REF!

Sheet 1-PLANILHA PNE
C2: PREFEITURA MUNICIPAL DE JOÃO NEIVA
A3: Obra: Construção de um banheiro PNE para a Quadra de Esportes de Acioli - João Neiva/ES | E3: DATA BASE: | G3: BDI: | H3: 0.309
A4: Local: Rua Felipe Raizer, s/nº, Acioli, João Neiva/ES | E4: 43647 | G4: LS: | H4: 1.2833
A5: PLANILHA ORÇAMENTÁRIA
A6: BASE | B6: CODIGO | C6: Item | D6: Descrição | E6: Un. | F6: Quant | G6: Preço Unitário | H6: Preço do serviço
B9: 01 | C9: 1 | D9: SERVIÇOS PRELIMINARES | H9: =SUM(H10:H12) -> 180.85
A10: IOPES | B10: 10209 | C10: 1.1 | D10: Demolição de alvenaria | E10: m³ | F10: ='2-MEMORIA DE CALCULO PNE'!J10 -> 1.65 | G10: 50.32 | H10: =TRUNC(ROUND(G10*F10,2),2) -> 83.03
A11: IOPES | B11: 10201 | C11: 1.2 | D11: Demolição de piso cimentado inclusive lastro de concreto | E11: m² | F11: ='2-MEMORIA DE CALCULO PNE'!J15 -> 0.99 | G11: 21.81 | H11: =TRUNC(ROUND(G11*F11,2),2) -> 21.59
A12: IOPES | B12: 10501 | C12: 1.3 | D12: Locação de obra com gabarito de madeira | E12: m² | F12: ='2-MEMORIA DE CALCULO PNE'!J27 -> 10.07 | G12: 7.57 | H12: =TRUNC(ROUND(G12*F12,2),2) -> 76.23
B14: 02 | C14: 2 | D14: INSTALAÇÃO DO CANTEIRO DE OBRAS | H14: =SUM(H15:H17) -> 4425.7
A15: IOPES | B15: 020305 | C15: 2.1 | D15: Placa de obra nas dimensões de 2.0 x 4.0 m, padrão IOPES | E15: m² | F15: ='2-MEMORIA DE CALCULO PNE'!J32 -> 8 | G15: 227.53 | H15: =TRUNC(ROUND(G15*F15,2),2) -> 1820.24
A16: IOPES | B16: 020351 | C16: 2.2 | D16: Tapume madeira compensada resinada e= 12mm h=2,20m, estr. c/ mad reflorest., incl mont, pintura esmalte sint, adesivo "IOPES" 60x60cm a cada 10m e faixas c/ pintura esmalte sintético nas cores azul c/ h=30cm e rosa c/ h=10cm | E16: m | F16: ='2-MEMORIA DE CALCULO PNE'!J53 -> 13.85 | G16: 188.12 | H16: =TRUNC(ROUND(G16*F16,2),2) -> 2605.46
B18: 03 | C18: 3 | D18: MOVIMENTO DE TERRA | H18: =SUM(H20:H23) -> 1222.34
B19: 301 | C19: 3.1.0 | D19: ESCAVAÇÕES
A20: IOPES | B20: 30101 | C20: 3.1.1 | D20: Escavação manual em material de 1a. categoria, até 1.50 m de profundidade | E20: m³ | F20: ='2-MEMORIA DE CALCULO PNE'!J62 -> 7 | G20: 47.99 | H20: =TRUNC(ROUND(G20*F20,2),2) -> 335.93
A21: IOPES | B21: 30201 | C21: 3.1.2 | D21: Reaterro apiloado de cavas de fundação, em camadas de 20 cm | E21: m³ | F21: ='2-MEMORIA DE CALCULO PNE'!J71 -> 5.99 | G21: 51.68 | H21: =TRUNC(ROUND(G21*F21,2),2) -> 309.56
A22: IOPES | B22: 30208 | C22: 3.1.3 | D22: Aterro manual para regularização do terreno em argila, inclusive adensamento manual e fornecimento do material (máximo de 100m3) | E22: m³ | F22: ='2-MEMORIA DE CALCULO PNE'!J76 -> 3.02 | G22: 118.78 | H22: =TRUNC(ROUND(G22*F22,2),2) -> 358.72
A23: IOPES | B23: 30304 | C23: 3.1.4 | D23: Índice de preço para remoção de entulho decorrente da execução de obras (Classe A CONAMA - NBR10.004 - Classe II-B), incluindo aluguel da caçamba, carga, transporte e descarga em área licenciada | E23: m³ | F23: ='2-MEMORIA DE CALCULO PNE'!J85 -> 3.44 | G23: 63.41 | H23: =TRUNC(ROUND(G23*F23,2),2) -> 218.13
B25: 04 | C25: 4 | D25: ESTRUTURAS | H25: =SUM(H27:H30) -> 2932.22
B26: 402 | C26: 4.0 | D26: INFRA-ESTRUTURA (FUNDAÇÃO)
A27: IOPES | B27: 40206 | C27: 4.1 | D27: Fôrma de tábua de madeira de 2.5 x 30.0 cm para fundações, levando-se em conta a utilização 5 vezes (incluido o material, corte, montagem, escoramento e desforma) | E27: m² | F27: ='2-MEMORIA DE CALCULO PNE'!J96 -> 14.85 | G27: 68.7 | H27: =TRUNC(ROUND(G27*F27,2),2) -> 1020.2
A28: IOPES | B28: 40231 | C28: 4.2 | D28: Fornecimento, preparo e aplicação de concreto magro com consumo mínimo de cimento de 250 kg/m3 (brita 1 e 2) - (5% de perdas já incluído no custo) | E28: m³ | F28: ='2-MEMORIA DE CALCULO PNE'!J104 -> 0.2 | G28: 508.69 | H28: =TRUNC(ROUND(G28*F28,2),2) -> 101.74
A29: IOPES | B29: 40237 | C29: 4.3 | D29: Fornecimento, preparo e aplicação de concreto Fck=25 MPa (brita 1 e 2) - (5% de perdas já incluído no custo) | E29: m³ | F29: ='2-MEMORIA DE CALCULO PNE'!J115 -> 2.08 | G29: 563.01 | H29: =TRUNC(ROUND(G29*F29,2),2) -> 1171.06
A30: IOPES | B30: 40243 | C30: 4.4 | D30: Fornecimento, dobragem e colocação em fôrma, de armadura CA-50 A média, diâmetro de 6.3 a 10.0 mm | E30: kg | F30: ='2-MEMORIA DE CALCULO PNE'!J128 -> 72.97 | G30: 8.76 | H30: =TRUNC(ROUND(G30*F30,2),2) -> 639.22
B31: 0403 | C31: 5 | D31: SUPER-ESTRUTURA | H31: =SUM(H32:H34) -> 4887.91
A32: IOPES | B32: 040324 | C32: 5.1 | D32: Fornecimento, preparo e aplicação de concreto Fck=25 MPa (brita 1 e 2) - (5% de perdas já incluído no custo) | E32: m³ | F32: ='2-MEMORIA DE CALCULO PNE'!J139 -> 1.92 | G32: 657.28 | H32: =TRUNC(ROUND(G32*F32,2),2) -> 1261.98
A33: IOPES | B33: 040328 | C33: 5.2 | D33: Fornecimento, dobragem e colocação em fôrma, de armadura CA-50 A média, diâmetro de 6.3 a 10.0 mm | E33: kg | F33: ='2-MEMORIA DE CALCULO PNE'!J157 -> 149.16 | G33: 8.76 | H33: =TRUNC(ROUND(G33*F33,2),2) -> 1306.64
A34: IOPES | B34: 040337 | C34: 5.3 | D34: Fôrma em chapa de madeira compensada plastificada 12mm para estrutura em geral, 5 reaproveitamentos, reforçada com sarrafos de madeira 2.5x10cm (incl material, corte, montagem, escoras em eucalipto e desforma) | E34: m² | F34: ='2-MEMORIA DE CALCULO PNE'!J166 -> 27.95 | G34: 82.98 | H34: =TRUNC(ROUND(G34*F34,2),2) -> 2319.29
B35: 06 | C35: 6 | D35: PAREDES E PAINÉIS | H35: =SUM(H37:H39) -> 1824.92
B36: 0503 | C36: 6.1 | D36: VERGAS/CONTRAVERGA
A37: IOPES | B37: 050301 | C37: 6.1.1 | D37: Verga/contraverga reta de concreto armado 10 x 5 cm, Fck = 15 MPa, inclusive forma, armação e desform | E37: m | F37: ='2-MEMORIA DE CALCULO PNE'!J172 -> 4 | G37: 7.28 | H37: =TRUNC(ROUND(G37*F37,2),2) -> 29.12
B38: 0506 | C38: 6.2 | D38: ALVENARIA DE VEDAÇÃO EMPREGANDO ARGAMASSA DE CIMENTO, CAL E AREIA
A39: IOPES | B39: 050601 | C39: 6.2.1 | D39: Alvenaria de blocos de concreto 9x19x39cm, c/ resist. mínimo a compres. 2.5 MPa, assent. c/ arg. De cimento, cal hidratada CH1 e areia no traço 1:0.5:8 esp. das juntas 10mm e esp. das paredes, s/ rev. 9cm | E39: m² | F39: ='2-MEMORIA DE CALCULO PNE'!J188 -> 33.96 | G39: 52.88 | H39: =TRUNC(ROUND(G39*F39,2),2) -> 1795.8
B40: 06 | C40: 7 | D40: ESQUADRIAS DE MADEIRA | H40: =SUM(H42:H43) -> 2133.64
B41: 0601 | C41: 7.0 | D41: MARCOS E ALIZARES
A42: IOPES | B42: 060103 | C42: 7.1 | D42: Marco de madeira de lei de 1ª (Peroba, Ipê, Angelim Pedra ou equivalente) com 15x3 cm de batente, nas dimensões de 0.80 x 2.10 m | E42: und | F42: ='2-MEMORIA DE CALCULO PNE'!J193 -> 2 | G42: 274.97 | H42: =TRUNC(ROUND(G42*F42,2),2) -> 549.94
A43: IOPES | B43: 061303 | C43: 7.2 | D43: Porta em madeira de lei tipo angelim pedra ou equiv.c/enchimento em madeira 1a.qualidade esp. 30mm p/ pintura, inclusive alizares, dobradiças e fechadura externa em latão cromado LaFonte ou equiv., exclusive marco, nas dim.: 0.80 x 2.10 m | E43: und | F43: ='2-MEMORIA DE CALCULO PNE'!J193 -> 2 | G43: 791.85 | H43: =TRUNC(ROUND(G43*F43,2),2) -> 1583.7
B44: 07 | C44: 8 | D44: ESQUADRIAS METÁLICAS | H44: =SUM(H46:H53) -> 5356.09
B45: 0711 | C45: 8.1 | D45: GRADES E PORTÕES
A46: IOPES | B46: 071106 | C46: 8.1.1 | D46: Portão de ferro de correr em barra chata, inclusive chumbamento | E46: m² | F46: ='2-MEMORIA DE CALCULO PNE'!J204 -> 7.48 | G46: 531.87 | H46: =TRUNC(ROUND(G46*F46,2),2) -> 3978.39
...

Sheet 2-MEMORIA DE CALCULO PNE
A1: PREFEITURA MUNICIPAL DE JOÃO NEIVA
A2: MEMÓRIA DE CÁLCULO
A3: ='1-PLANILHA PNE'!A3:D3 -> Obra: Construção de um banheiro PNE para a Quadra de Esportes de Acioli - João Neiva/ES
A4: ='1-PLANILHA PNE'!A4:D4 -> Local: Rua Felipe Raizer, s/nº, Acioli, João Neiva/ES | E4: Data base: jul/2019 | H4: L.S=128,33% | J4: BDI=30,90%
A5: Item | B5: Descrição | C5: Quant | D5: Comprim (m) | E5: Largura (m) | F5: Altura (m) | G5: Espessura (m) | H5: Área (m²) | I5: Volume (m³) | J5: Total
A6: 01 | B6: SERVIÇOS PRELIMINARES
A8: 1.1 | B8: Demolição de alvenaria | J8: ='1-PLANILHA PNE'!E10 -> m³
B9: Demolição de alvenaria na parede lateral voltada para a escola, para instalação de banheiros adaptados | C9: 1 | D9: 3.15 | F9: 2.1 | G9: 0.25 | J9: =ROUND(C9*D9*F9*G9,2) -> 1.65
B10: TOTAL | J10: =TRUNC(ROUND(SUM(J9:J9),2),2) -> 1.65
A12: ='1-PLANILHA PNE'!C11 -> 1.2 | B12: ='1-PLANILHA PNE'!D11 -> Demolição de piso cimentado inclusive lastro de concreto | J12: ='1-PLANILHA PNE'!E11 -> m²
B13: Demolição da calçada para execução dos banheiros rente a parede | C13: 1 | D13: 3.3 | E13: 0.3 | H13: =D13*E13 -> 0.99 | J13: =H13*C13 -> 0.99
B15: TOTAL | J15: =TRUNC(ROUND(J13,2),2) -> 0.99
A17: 1.3 | B17: Locação de obra com gabarito de madeira | J17: ='1-PLANILHA PNE'!E12 -> m²
C18: 3.05 | D18: 3.3 | E18: 1 | H18: =C18*D18*E18 -> 10.065 | J18: =H18 -> 10.065
B27: TOTAL | J27: =TRUNC(ROUND(SUM(J18),2),2) -> 10.07
A28: 2.0 | B28: INSTALAÇÃO DO CANTEIRO DE OBRAS
A30: 2.1 | B30: ='1-PLANILHA PNE'!D15 -> Placa de obra nas dimensões de 2.0 x 4.0 m, padrão IOPES | J30: ='1-PLANILHA PNE'!E15 -> m²
C31: 1 | D31: 4 | E31: 2 | H31: =D31*E31 -> 8 | J31: =H31*C31 -> 8
B32: TOTAL | J32: =TRUNC(ROUND(J31,2),2) -> 8
A34: 2.2 | B34: ='1-PLANILHA PNE'!D16 -> Tapume madeira compensada resinada e= 12mm h=2,20m, estr. c/ mad reflorest., incl mont, pintura esmalte sint, adesivo "IOPES" 60x60cm a cada 10m e faixas c/ pintura esmalte sintético nas cores azul c/ h=30cm e rosa c/ h=10cm | J34: ='1-PLANILHA PNE'!E16 -> m
B35: Frente | D35: 4.55
B36: Lateral | D36: 6.3
B37: Fundos | D37: 3
B38: Total | D38: =SUM(D35:D37) -> 13.85
B53: TOTAL | J53: =TRUNC(ROUND(D38,2),2) -> 13.85
A54: 03 | B54: MOVIMENTO DE TERRA
A55: 301 | B55: ESCAVAÇÕES
A56: 3.1.1 | B56: Escavação manual em material de 1a. categoria, até 1.50 m de profundidade | C56: Quant | D56: Comprim (m) | E56: Largura (m) | F56: Altura (m) | G56: Espessura (m) | H56: Área (m²) | I56: Volume (m³) | J56: Total
B57: SAPATAS
B58: S1=S2=S3=S4 | C58: 4 | D58: 1 | E58: 1 | F58: 1.4 | I58: =C58*D58*E58*F58 -> 5.6 | J58: =I58 -> 5.6
B59: C1=C2 | C59: 2 | D59: 3.05 | E59: =0.15+0.2+0.2 -> 0.55 | F59: 0.2 | I59: =C59*D59*E59*F59 -> 0.671 | J59: =I59 -> 0.671
B60: C3=C4 | C60: 2 | D60: 3.3 | E60: =0.15+0.2+0.2 -> 0.55 | F60: 0.2 | I60: =C60*D60*E60*F60 -> 0.726 | J60: =I60 -> 0.726
B62: TOTAL | J62: =TRUNC(ROUND(SUM(J58:J60),2),2) -> 7
A63: 3.1.2 | B63: Reaterro apiloado de cavas de fundação, em camadas de 20 cm
B64: Será a diferença entre o volume da cava (escavação) e o volume da fundação (concreto). No caso das cintas, será considerado somente o volume abaixo do nível do terreno
B65: volume das sapatas | C65: 4 | D65: 0.6 | E65: 0.6 | F65: 0.3 | I65: =D65*E65*F65*C65 -> 0.432 | J65: =I65 -> 0.432
B66: volume dos pilaretes | C66: 4 | D66: 0.3 | E66: 0.15 | F66: 1.1 | I66: =D66*E66*F66*C66 -> 0.198 | J66: =I66 -> 0.198
B67: volume das cintas | C67: 1 | D67: =3.3+3.3+3.05+3.05 -> 12.7 | E67: 0.15 | F67: 0.2 | I67: =D67*E67*F67*C67 -> 0.381 | J67: =I67 -> 0.381
B68: volume de escavação | J68: =J62 -> 7
B69: volume de concreto | J69: =SUM(J65:J67) -> 1.011
...

Sheet 3- CRONOGRAMA FISICO FINANCEIRO
A1: PREFEITURA MUNICIPAL DE JOÃO NEIVA
A2: CRONOGRAMA FÍSICO-FINANCEIRO
A3: ='1-PLANILHA PNE'!A3:D3 -> Obra: Construção de um banheiro PNE para a Quadra de Esportes de Acioli - João Neiva/ES
A4: ='1-PLANILHA PNE'!A4:D4 -> Local: Rua Felipe Raizer, s/nº, Acioli, João Neiva/ES
A5: ITEM | B5: DESCRIÇÃO | D5: VALORES DO ITEM (% / R$) | E5: PERÍODO (MESES) 2019 | F5: PERÍODO (MESES) 2020
E6: dezembro | F6: janeiro | G6: fevereiro | H6: março | I6: abril | J6: maio
E7: 1 | F7: 2 | G7: 3 | H7: 4 | I7: 5 | J7: 6
A8: 01 | B8: SERVIÇOS PRELIMINARES | C8: Físico (%) | D8: =D9/$D$43 -> 0.0035741827 | E8: Processo licitatório | G8: 1
C9: Financeiro (R$) | D9: ='1-PLANILHA PNE'!H9 -> 180.85 | G9: =D9 -> 180.85
A10: 02 | B10: INSTALAÇÃO DO CANTEIRO DE OBRAS | C10: Físico (%) | D10: =D11/$D$43 -> 0.08746619 | E10: Processo licitatório | G10: 1
C11: Financeiro (R$) | D11: ='1-PLANILHA PNE'!H14 -> 4425.7 | G11: =D11 -> 4425.7
A12: 03 | B12: MOVIMENTO DE TERRA | C12: Físico (%) | D12: =D13/$D$43 -> 0.024157404 | E12: Processo licitatório | G12: 1
C13: Financeiro (R$) | D13: ='1-PLANILHA PNE'!H18 -> 1222.34 | G13: =D13 -> 1222.34
A14: 04 | B14: ESTRUTURAS | C14: Físico (%) | D14: =D15/$D$43 -> 0.05795018 | E14: Processo licitatório | G14: 1
C15: Financeiro (R$) | D15: ='1-PLANILHA PNE'!H25 -> 2932.22 | G15: =D15 -> 2932.22
A16: 05 | B16: SUPER-ESTRUTURA | C16: Físico (%) | D16: =D17/$D$43 -> 0.096600959 | E16: Processo licitatório | G16: 0.2 | H16: 0.8
C17: Financeiro (R$) | D17: ='1-PLANILHA PNE'!H31 -> 4887.91 | G17: =D17*0.2 -> 977.582 | H17: =D17*0.8 -> 3910.328
A18: 06 | B18: PAREDES E PAINÉIS | C18: Físico (%) | D18: =D19/$D$43 -> 0.03606634 | E18: Processo licitatório | H18: 1
C19: Financeiro (R$) | D19: ='1-PLANILHA PNE'!H35 -> 1824.92 | H19: =D19 -> 1824.92
A20: 07 | B20: ESQUADRIAS DE MADEIRA | C20: Físico (%) | D20: =D21/$D$43 -> 0.042167648 | E20: Processo licitatório | H20: 1
C21: Financeiro (R$) | D21: ='1-PLANILHA PNE'!H40 -> 2133.64 | H21: =D21 -> 2133.64
A22: 8 | B22: ESQUADRIAS METÁLICAS | C22: Físico (%) | D22: =D23/$D$43 -> 0.10585371 | E22: Processo licitatório | H22: 1
C23: Financeiro (R$) | D23: ='1-PLANILHA PNE'!H44 -> 5356.09 | H23: =D23 -> 5356.09
A24: 9 | B24: COBERTURA | C24: Físico (%) | D24: =D25/$D$43 -> 0.036239861 | E24: Processo licitatório | I24: 1
C25: Financeiro (R$) | D25: ='1-PLANILHA PNE'!H54 -> 1833.7 | I25: =D25 -> 1833.7
A26: 10 | B26: TETOS E FORROS | C26: Físico (%) | D26: =D27/$D$43 -> 0.11465705 | E26: Processo licitatório | I26: 1
C27: Financeiro (R$) | D27: ='1-PLANILHA PNE'!H63 -> 5801.53 | I27: =D27 -> 5801.53
A28: 11 | B28: PISOS INTERNOS E EXTERNOS | C28: Físico (%) | D28: =D29/$D$43 -> 0.060510508 | E28: Processo licitatório | I28: 1
C29: Financeiro (R$) | D29: ='1-PLANILHA PNE'!H76 -> 3061.77 | I29: =D29 -> 3061.77
A30: 12 | B30: INSTALAÇÕES HIDROSSANITÁRIAS | C30: Físico (%) | D30: =D31/$D$43 -> 0.044791812 | E30: Processo licitatório | H30: 0.7 | I30: 0.3
C31: Financeiro (R$) | D31: ='1-PLANILHA PNE'!H84 -> 2266.42 | H31: =D31*0.7 -> 1586.494 | I31: =D31*0.3 -> 679.926
A32: 13 | B32: INSTALAÇÕES ELÉTRICAS | C32: Físico (%) | D32: =D33/$D$43 -> 0.060892532 | E32: Processo licitatório | H32: 0.7 | I32: 0.3
C33: Financeiro (R$) | D33: ='1-PLANILHA PNE'!H93 -> 3081.1 | H33: =D33*0.7 -> 2156.77 | I33: =D33*0.3 -> 924.33
A34: 14 | B34: APARELHOS HIDROSSANITÁIOS | C34: Físico (%) | D34: =D35/$D$43 -> 0.14075165 | E34: Processo licitatório | I34: 0.3 | J34: 0.7
C35: Financeiro (R$) | D35: ='1-PLANILHA PNE'!H105 -> 7121.89 | I35: =D35*0.3 -> 2136.567 | J35: =D35*0.7 -> 4985.323
A36: 15 | B36: APARELHOS ELÉTRICOS | C36: Físico (%) | D36: =D37/$D$43 -> 0.01168739 | E36: Processo licitatório | I36: 0.3 | J36: 0.7
C37: Financeiro (R$) | D37: ='1-PLANILHA PNE'!H116 -> 591.37 | I37: =D37*0.3 -> 177.411 | J37: =D37*0.7 -> 413.959
A38: 16 | B38: PINTURA | C38: Físico (%) | D38: =D39/$D$43 -> 0.05980417 | E38: Processo licitatório | J38: 1
C39: Financeiro (R$) | D39: ='1-PLANILHA PNE'!H123 -> 3026.03 | J39: =D39 -> 3026.03
A40: 17 | B40: TRATAMENTO, CONSERVAÇÃO E LIMPEZA | C40: Físico (%) | D40: =D41/$D$43 -> 0.016828402 | E40: Processo licitatório | J40: 1
...

Sheet COMP-01
B1: COMPOSIÇÃO ANALÍTICA DE PREÇO UNITARIO | M1: Data -base
M2: 43647
M3: COMP 01
A4: SERVIÇO: | B4: Barra de apoio em aço inox polido, diâm. 3cm, comprimento de 80 cm, para sanitário deficientes
A5: UNID: | B5: =[2]PREÇOS!E148 -> und
A6: MÃO-DE-OBRA
A7: CÓD. | B7: ORGÃO | C7: DESCRIÇÃO | F7: UND | G7: COEF | H7: C. PROD. | I7: PR. PROD. | J7: LS (%) | K7: PR. UNIT. | L7: FATOR AC. | M7: SUBTOTAL
A8: 10101 | B8: IOPES | C8: Ajudante | F8: h | G8: 0,015 | H8: 1 | I8: 5.67 | J8: 128.33 | K8: =I8*((J8/100)+1) -> 12.946311 | L8: - | M8: =K8*G8 -> 0.19419466
A9: 10139 | B9: IOPES | C9: Pedreiro | F9: h | G9: 0.128 | H9: 1 | I9: 6.72 | J9: 128.33 | K9: =I9*((J9/100)+1) -> 15.343776 | L9: - | M9: =K9*G9 -> 1.9640033
A10: 10146 | B10: IOPES | C10: Servente | F10: h | G10: 0.1061 | H10: 1 | I10: 4.94 | J10: 128.33 | K10: =I10*((J10/100)+1) -> 11.279502 | L10: - | M10: =K10*G10 -> 1.1967552
A13: TOTAL A (JÁ COM OS ENCARGOS SOCIAIS) | I13: =TRUNC(ROUND(SUM(M8:M10),2),2) -> 3.35
A15: MATERIAIS/ SERVIÇOS
A16: CÓD. | B16: ORGÃO | C16: DESCRIÇÃO | F16: UND | G16: COEF | H16: C. PROD. | I16: PR. PROD. | J16: PR. IMPROD. | K16: PR. UNIT. | L16: FATOR AC. | M16: SUBTOTAL
A17: 36081 | B17: SINAPI (jul-2019) | C17: Barra de apoio reta, em aço inox polido, comprimento 80cm, diametro minimo 3 cm | F17: und | G17: 1 | H17: 1 | I17: 90 | J17: 0 | K17: =I17 -> 90 | L17: - | M17: =G17*K17 -> 90
A18: 20503 | B18: IOPES | C18: Areia lavada média | F18: m3 | G18: 0.0002 | H18: 1 | I18: 66.6 | J18: 0 | K18: =I18 -> 66.6 | L18: - | M18: =G18*K18 -> 0.01332
A19: 20508 | B19: IOPES | C19: Cimento CP III - 40 | F19: kg | G19: 0.1165 | H19: 1 | I19: 0.34 | J19: 0 | K19: =I19 -> 0.34 | L19: - | M19: =G19*K19 -> 0.03961
A24: TOTAL B | I24: =TRUNC(ROUND(SUM(M17:M19),2),2) -> 90.05
A26: RESUMO
A27: TOTAL A | I27: =I13 -> 3.35
A28: TOTAL B | I28: =I24 -> 90.05
A29: TOTAL C ( TOTAL A X LEIS SOCIAIS) | I29: =I27 -> 3.35
A30: TOTAL D (A+B) | I30: =I28+I29 -> 93.4
A31: TOTAL E (BDI 30,9%) | I31: =I30*30.9% -> 28.8606
A32: PREÇO DE VENDA | K32: =TRUNC(ROUND(I30+I31,2),2) -> 122.26
