Workbook

Sheet PLANILHA ORÇAMENTÁRIA
A1: PREFEITURA DE JOÃO NEIVA
A4: OBRA: REPAROS DIVERSOS NAS QUADRAS DAS ESCOLAS PEDRO NOLASCO E MARIA OLÍRIA
A5: LOCAL: JOÃO NEIVA/ES
A6: TABELA DE REFERÊNCIA: IOPES/SINAPI
A7: DATA BASE: FEV/2020
A8: BDI: 34,53%
A9: LEIS SOCIAIS: 157,27 %
A10: RESP. TÉCNICO: | D10: BRUNA PEROVANO SIRTULI | J10: 1.3453
D11: BRASILINO CAPUCHO RIBEIRO DA COSTA
A12: PLANILHA ORÇAMENTÁRIA
A13: ITEM | B13: CÓDIGO | C13: ORGÃO | D13: DESCRIÇÃO DOS SERVIÇOS | E13: Und. | F13: QUANT. | G13: VALORES - R$
G14: UNITÁRIO | H14: TOTAL
A16: 01 | D16: REMOÇÕES
A17: 1.1 | B17: 010280 | C17: IOPES | D17: Remoção de cobertura em telha metálica, exclusive estrutura | E17: m² | F17: ='MEMÓRIA DE CÁLCULO'!L13 -> 67.5 | G17: =6.3*J10 -> 8.47539 | H17: =F17*G17 -> 572.08882
D18: SUB-TOTAL 02 | H18: =SUM(H17:H17) -> 572.08882
A20: 02 | D20: COBERTURA
A21: 2.1 | B21: 020346 | C21: IOPES | D21: Locação de andaime metálico - tipo torre | E21: m | F21: ='MEMÓRIA DE CÁLCULO'!L18 -> 22 | G21: =8.42*J10 -> 11.327426 | H21: =F21*G21 -> 249.20337
A22: 2.2 | B22: 090219 | C22: IOPES | D22: Cobertura em telha ondulada de alumínio, esp. 0.5mm, inclusive acessórios de fixação | E22: m² | F22: ='MEMÓRIA DE CÁLCULO'!L20 -> 187.5 | G22: =49.99*J10 -> 67.251547 | H22: =F22*G22 -> 12609.665
A23: 2.3 | B23: 026678 | C23: IOPES | D23: Conjunto p/fixação telha alumínio ondulada - reparo de telhas existentes | E23: und | F23: ='MEMÓRIA DE CÁLCULO'!L24 -> 100 | G23: =0.81*J10 -> 1.089693 | H23: =F23*G23 -> 108.9693
D24: SUB-TOTAL 03 | H24: =SUM(H21:H23) -> 12967.838
A26: 03 | D26: ESQUADRIAS METÁLICAS
A27: 3.1 | C27: COMP-01 | D27: Reparo em portão metálico | E27: und | F27: ='MEMÓRIA DE CÁLCULO'!L27 -> 1 | G27: =COMPOSIÇÕES!H16*J10 -> 255.09579 | H27: =F27*G27 -> 255.09579
D28: SUB-TOTAL 04 | H28: =SUM(H27:H27) -> 255.09579
A30: TOTAL GERAL | H30: =H24+H18+H28 -> 13795.022

Sheet MEMÓRIA DE CÁLCULO
A1: PREFEITURA DE JOÃO NEIVA
A4: OBRA: REPAROS DIVERSOS NAS QUADRAS DAS ESCOLAS PEDRO NOLASCO E MARIA OLÍRIA
A5: LOCAL: JOÃO NEIVA/ES
A6: TABELAS DE REFERENCIA: IOPES/SINAPI
A7: DATA BASE: FEV/2020
A8: BDI: 34,53%
A9: LEIS SOCIAIS: 157,27 %
A10: MEMÓRIA DE CÁLCULO
A11: ITEM | B11: CÓDIGO | C11: ORGÃO | D11: DESCRIÇÃO DOS SERVIÇOS | E11: Und. | F11: QUANT. | G11: COMPRIM. (m) | H11: LARGURA (m) | I11: ALTURA (m) | J11: PROFUND. (m) | K11: ÁREA (m²) | L11: TOTAL
A12: 01 | D12: ='PLANILHA ORÇAMENTÁRIA'!D16 -> REMOÇÕES
A13: 1.1 | B13: 010280 | C13: IOPES | D13: Remoção de cobertura em telha metálica, exclusive estrutura | E13: m² | L13: =SUM(K14:K16) -> 67.5
D14: Escola Pedro Nolasco - Quadra | K14: 7.5
D15: Escola Maria Olíria - Quadra | K15: 52.5
D16: Escola Maria Olíria - Arquibancada | K16: 7.5
A17: 02 | D17: ='PLANILHA ORÇAMENTÁRIA'!D20 -> COBERTURA
A18: 2.1 | B18: 020346 | C18: IOPES | D18: Locação de andaime metálico - tipo torre | E18: m | I18: 22 | L18: 22
D19: Altura de 11m em cada quadra
A20: 2.2 | B20: 090219 | C20: IOPES | D20: Cobertura em telha ondulada de alumínio, esp. 0.5mm, inclusive acessórios de fixação | E20: m² | L20: =SUM(K21:K23) -> 187.5
D21: Escola Pedro Nolasco - Quadra | K21: 22.5
D22: Escola Maria Olíria - Quadra | K22: 150
D23: Escola Maria Olíria - Arquibancada | K23: 15
A24: 2.3 | B24: 026678 | C24: IOPES | D24: Conjunto p/fixação telha alumínio ondulada - reparo de telhas existentes | E24: Und. | F24: 100 | L24: =F24 -> 100
D25: 4 Conjuntos por telha
A26: 03 | D26: ESQUADRIAS METÁLICAS
A27: 3.1 | C27: COMP-01 | D27: Retirada de esquadrias metálicas | E27: Und. | F27: 1 | L27: =F27 -> 1
D28: Portão de entrada da quadra Pedro Nolasco

Sheet COMPOSIÇÕES
A1: PREFEITURA MUNICIPAL DE JOÃO NEIVA
A3: OBRA: REPAROS DIVERSOS NAS QUADRAS DAS ESCOLAS PEDRO NOLASCO E MARIA OLÍRIA | E3: DATA BASE
A4: LOCAL: JOÃO NEIVA/ES | E4: 43862
A5: COMPOSIÇÃO ANALÍTICA DE PREÇO UNITÁRIO
A6: ITEM | B6: CÓDIGO | C6: ORGÃO | D6: DESCRIÇÃO | E6: UNID | F6: QUANT | G6: UNITÁRIO | H6: TOTAL
A7: 3.1 | B7: COMP-01 | D7: Reparo em portão metálico
A8: 3.1.1 | B8: 88317 | C8: SINAPI | D8: SOLDADOR COM ENCARGOS COMPLEMENTARES | E8: h | F8: 4 | G8: 22.17 | H8: =F8*G8 -> 88.68
A9: 3.1.2 | B9: 88316 | C9: SINAPI | D9: SERVENTE COM ENCARGOS COMPLEMENTARES | E9: h | F9: 4 | G9: 14.27 | H9: =F9*G9 -> 57.08
A10: 3.1.3 | B10: 43468 | C10: SINAPI | D10: FERRAMENTAS - FAMILIA SOLDADOR - HORISTA (ENCARGOS COMPLEMENTARES) | E10: h | F10: 4 | G10: 0.84 | H10: =F10*G10 -> 3.36
A11: 3.1.4 | B11: 546 | C11: SINAPI | D11: BARRA DE FERRO RETANGULAR, BARRA CHATA | E11: kg | F11: 2 | G11: 4.88 | H11: =G11*F11 -> 9.76
A12: 3.1.5 | B12: 26018 | C12: SINAPI | D12: DISCO DE CORTE PARA METAL COM DUAS TELAS | E12: und | F12: 1 | G12: 15.81 | H12: =G12*F12 -> 15.81
A13: 3.1.6 | B13: 26019 | C13: SINAPI | D13: DISCO DE DESBASTE PARA METAL FERROSO EM GERAL, COM TRES TELAS | E13: und | F13: 1 | G13: 14.93 | H13: =G13*F13 -> 14.93
A14: CUSTO TOTAL | H14: =SUM(H8:H13) -> 189.62
A15: PRODUTIVIDADE (und) | H15: 1
A16: CUSTO POR UNIDADE | H16: =H14/1 -> 189.62

Sheet CRONOGRAMA
A1: PREFEITURA MUNICIPAL DE JOÃO NEIVA
A4: CRONOGRAMA FÍSICO-FINANCEIRO
A7: OBRA: REPAROS DIVERSOS NAS QUADRAS DAS ESCOLAS PEDRO NOLASCO E MARIA OLÍRIA
A9: ITEM | B9: DESCRIÇÃO | C9: VALORES % / R$ | D9: 1º MÊS | E9: 2º MÊS
A10: 01 | B10: ='PLANILHA ORÇAMENTÁRIA'!D16 -> REMOÇÕES | D10: 0.5 | E10: 0.5
C11: ='PLANILHA ORÇAMENTÁRIA'!H18 -> 572.08882 | D11: =C11*D10 -> 286.04441 | E11: =C11*E10 -> 286.04441
A12: 02 | B12: ='PLANILHA ORÇAMENTÁRIA'!D20 -> COBERTURA | D12: 0.5 | E12: 0.5
C13: ='PLANILHA ORÇAMENTÁRIA'!H24 -> 12967.838 | D13: =D12*C13 -> 6483.9189 | E13: =E12*C13 -> 6483.9189
A14: 03 | B14: ='PLANILHA ORÇAMENTÁRIA'!D26 -> ESQUADRIAS METÁLICAS | D14: 1
C15: ='PLANILHA ORÇAMENTÁRIA'!H28 -> 255.09579 | D15: =D14*C15 -> 255.09579
A16: TOTAL
C17: =C15+C13+C11 -> 13795.022
A18: VALOR DOS SERVIÇOS EXECUTADOS NO MÊS | D18: =D11+D13+D15 -> 7025.0591 | E18: =E11+E13+E15 -> 6769.9633
A19: PERCENTUAL DOS SERVIÇOS EXECUTADOS NO MÊS | D19: =D18/C17 -> 0.50924594 | E19: =E18/C17 -> 0.49075406
A20: VALOR ACUMULADO DOS SERVIÇOS EXECUTADOS | D20: =D18 -> 7025.0591 | E20: =D20+E18 -> 13795.022
A21: PERCENTUAL ACUMULADO DOS SERVIÇOS EXECUTADOS | D21: =D19 -> 0.50924594 | E21: =D21+E19 -> 1
