Workbook
Name \0: #REF!
Name \1: [1]PLANILHA!#REF!
Name \11: [2]PLANILHA!#REF!
Name \a: #REF!
Name \c: '[3]Bm 8'!#REF!
Name \d: '[3]Bm 8'!#REF!
Name \f: #N/A
Name \p: #N/A
Name \q: '[3]Bm 8'!#REF!
Name \s: '[3]Bm 8'!#REF!
Name \w: [4]PLANILHA!#REF!
Name \x: '[3]Bm 8'!#REF!
Name __________________BOR1: '[3]Bm 8'!#REF!
Name ______________BOR1: '[3]Bm 8'!#REF!
Name _____________BOR1: '[3]Bm 8'!#REF!
Name ____________BOR1: '[3]Bm 8'!#REF!
Name ___________BOR1: '[3]Bm 8'!#REF!
Name __________BOR1: '[3]Bm 8'!#REF!
Name _________BOR1: '[3]Bm 8'!#REF!
Name ________BOR1: '[3]Bm 8'!#REF!
Name ________NIL1: #REF!
Name _______BOR1: '[3]Bm 8'!#REF!
Name _______NIL1: #REF!
Name ______BOR1: '[3]Bm 8'!#REF!
Name ______NIL1: #REF!
Name _____BOR1: '[3]Bm 8'!#REF!
Name ____BOR1: '[3]Bm 8'!#REF!
Name ____NIL1: #REF!
Name ____xlnm._FilterDatabase: #REF!
Name ____xlnm.Print_Area: #REF!
Name ____xlnm.Print_Area_1: #REF!
Name ____xlnm.Print_Area_2: #REF!
Name ___BOR1: '[3]Bm 8'!#REF!
Name ___NIL1: #REF!
Name ___ta105: #REF!
Name ___ta105: #REF!
Name ___ta105: #REF!
Name ___ta105: #REF!
Name ___ta105: #REF!
Name ___ta105: #REF!
Name ___ta105: #REF!
Name ___ta105: #REF!
Name ___ta105: #REF!
Name ___ta105: #REF!
Name ___ta105: #REF!
Name ___ta105: #REF!
Name ___ta105: #REF!
Name ___ta105: #REF!
Name ___ta105: #REF!
Name ___ta105: #REF!
Name ___ta105: #REF!
Name ___ta105: #REF!
Name ___ta105: #REF!
Name ___ta105: #REF!
Name ___ta105: #REF!
Name ___ta105: #REF!
Name ___ta105: #REF!
Name ___ta105: #REF!
Name ___ta105: #REF!
Name ___ta157: #REF!

Sheet Orçamento
A1: Orgão: | C1: Prefeitura Municipal de João Neiva - ES | I1: Extensão: | K1: 31,60 m | L1: Referencial de preço Sem Desoneração
I2: Fonte de dados: | K2: DER/ES | L2: Fonte de dados: | N2: SINAPI/ES
A3: Empresa: | C3: Tonon Projetos - Consultoria e Topografia LTDA | I3: BDI: | K3: 0.2332 | L3: BDI: | N3: 0.2332
A4: Serviços: | C4: Elaboração de Projeto de Reforma da Ponte de Ferro | I4: Encargos horista (DER/ES): | K4: 1.5727 | L4: Data base (SINAPI/ES): | N4: 43770
A5: Trecho: | C5: Reforma de Ponte de Ferro | I5: Encargos mensalista (DER/ES): | K5: 0.8404 | L5: Fonte de dados: | N5: IOPES/ES
I6: Data base (DER/ES): | K6: 43770 | L6: Data base (IOPES/ES): | N6: 43770
A7: Cod. | B7: Item | C7: Discrimanação | K7: Unid. | L7: Quant. | M7: Preço (R$)
M8: Unitário | N8: Total
B9: 1 | C9: LIMPEZA
A10: 40402 DER/ES | B10: 1.1 | C10: Hidrojateamento de superfícies metálicas | K10: m² | L10: =TRUNC(ROUND(641.78,2),2) -> 641.78 | M10: =TRUNC(ROUND('01- 40402'!L42,2),2) -> 11.6 | N10: =TRUNC(ROUND(L10*M10,2),2) -> 7444.65
A11: 102069 DER/ES | B11: 1.2 | C11: Limpeza em superfície de concreto com jateamento d'água sob pressão | K11: m² | L11: =TRUNC(ROUND(331.312,2),2) -> 331.31 | M11: =TRUNC(ROUND('01-102069'!L40,2),2) -> 3.76 | N11: =TRUNC(ROUND(L11*M11,2),2) -> 1245.73
A12: 43009 DER/ES | B12: 1.3 | C12: Limpeza e preparo de superfície de aço em Vias Urbanas | K12: m² | L12: =TRUNC(ROUND(13.727,2),2) -> 13.73 | M12: =TRUNC(ROUND('01-43009'!L40,2),2) -> 105.14 | N12: =TRUNC(ROUND(L12*M12,2),2) -> 1443.57
L13: SUBTOTAL | N13: =SUM(N10:N12) -> 10133.95
B15: 2 | C15: RECUPERAÇÃO DA ESTRUTURA
A16: COMP. 1 | B16: 2.1 | C16: Recuperação de Alma de Pilar | K16: m | L16: =TRUNC(ROUND(9,2),2) -> 9 | M16: =TRUNC(ROUND('2-COMP.1'!I14,2),2) -> 290.33 | N16: =TRUNC(ROUND(L16*M16,2),2) -> 2612.97
A17: COMP. 2 | B17: 2.2 | C17: Recuperação do Perfil Superior da Ponte | K17: m | L17: =TRUNC(ROUND(27.78,2),2) -> 27.78 | M17: =TRUNC(ROUND('2-COMP.2'!I14,2),2) -> 247.57 | N17: =TRUNC(ROUND(L17*M17,2),2) -> 6877.49
A18: COMP. 3 | B18: 2.3 | C18: Remoção de Guarda-corpo | K18: m | L18: =TRUNC(ROUND(31.2,2),2) -> 31.2 | M18: =TRUNC(ROUND('2-COMP.3'!I10,2),2) -> 29.19 | N18: =TRUNC(ROUND(L18*M18,2),2) -> 910.73
A19: 190418 IOPES/ES | B19: 2.4 | C19: Pintura de superfície metálica com uma demão de primer Epoxi e duas demãos de tinta à base de Epoxi | K19: m² | L19: =TRUNC(ROUND(781.2,2),2) -> 781.2 | M19: =TRUNC(ROUND('2-190418'!E30,2),2) -> 34.67 | N19: =TRUNC(ROUND(L19*M19,2),2) -> 27084.2
A20: 190602 IOPES/ES | B20: 2.5 | C20: Pintura com tinta à base de resinas acrílicas, marcas de referência Suvinil, Coral ou Metalatex, sobre piso de concreto, a duas demãos | K20: m² | L20: =TRUNC(ROUND(331.312,2),2) -> 331.31 | M20: =TRUNC(ROUND('2-190602'!E27,2),2) -> 35.32 | N20: =TRUNC(ROUND(L20*M20,2),2) -> 11701.87
A21: COMP. 5 | B21: 2.6 | C21: Piso passarela metálica | K21: m | L21: =TRUNC(ROUND(34.17,2),2) -> 34.17 | M21: =TRUNC(ROUND('04-COMP. 6'!L39,2),2) -> 847.71 | N21: =TRUNC(ROUND(L21*M21,2),2) -> 28966.25
A22: COMP. 4 | B22: 2.7 | C22: Guarda corpo Passarela metálica | K22: m | L22: =TRUNC(ROUND(34.17,2),2) -> 34.17 | M22: =TRUNC(ROUND('03-COMP. 4'!L44,2),2) -> 674.42 | N22: =TRUNC(ROUND(L22*M22,2),2) -> 23044.93
L23: SUBTOTAL | N23: =SUM(N16:N22) -> 101198.44
B25: 3 | C25: INSTALAÇÃO DA PASSARELA
A26: 41403 DER/ES | B26: 3.1 | C26: Passarela metálica p/ pontes rodoviárias com 1,0m de largura, piso em chapa xadrez esp 1/4", em perfis laminados, inclusive pintura | K26: m | L26: =TRUNC(ROUND(31.26,2),2) -> 31.26 | M26: =TRUNC(ROUND('03-41403'!L48,2),2) -> 1055.96 | N26: =TRUNC(ROUND(L26*M26,2),2) -> 33009.31
A27: COMP. 4 | B27: 3.2 | C27: Guarda corpo Passarela metálica | K27: m | L27: 31.26 | M27: =TRUNC(ROUND(M22,2),2) -> 674.42 | N27: =TRUNC(ROUND(L27*M27,2),2) -> 21082.37
A28: 040202 IOPES/ES | B28: 3.3 | C28: Fornecimento, preparo e aplicação de concreto ciclópico Fck=15MPa com 30% de pedra de mão | K28: m³ | L28: 1.15 | M28: =TRUNC(ROUND('3-040202'!E30,2),2) -> 527.83 | N28: =TRUNC(ROUND(L28*M28,2),2) -> 607
A29: 040238 IOPES/ES | B29: 3.4 | C29: Fôrma de chapa compensada resinada 12mm, levando-se em conta a utilização 3 vezes (incluido o material, corte,montagem, escoramento e desfôrma) | K29: m² | L29: 11.16 | M29: =TRUNC(ROUND('3-040238'!E30,2),2) -> 74.05 | N29: =TRUNC(ROUND(L29*M29,2),2) -> 826.4
A30: 030101 IOPES/ES | B30: 3.5 | C30: Escavação manual em material de 1a. categoria, até 1.50 m de profundidade | K30: m³ | L30: 0.74 | M30: =TRUNC(ROUND('3-030101'!E25,2),2) -> 50.94 | N30: =TRUNC(ROUND(L30*M30,2),2) -> 37.7
A31: 030208 IOPES/ES | B31: 3.6 | C31: Aterro manual para regularização do terreno em argila, inclusive adensamento manual e fornecimento do material (máximo de 100m3) | K31: m³ | L31: 14.7 | M31: =TRUNC(ROUND('3-030208'!E26,2),2) -> 121.31 | N31: =TRUNC(ROUND(L31*M31,2),2) -> 1783.26
A32: 040235 IOPES/ES | B32: 3.7 | C32: Fornecimento, preparo e aplicação de concreto Fck=20 MPa (brita 1 e 2) - (5% de perdas já incluído no custo) | K32: m³ | L32: 0.95 | M32: =TRUNC(ROUND('3-040235'!E35,2),2) -> 551.98 | N32: =TRUNC(ROUND(L32*M32,2),2) -> 524.38
L33: SUBTOTAL | N33: =SUM(N26:N32) -> 57870.42
B35: 4 | C35: ELÉTRICO
A36: COMP. 6 | B36: 4.1 | C36: Instalação de Refletores de LED DE 200 W com suporte metálico de 0,60 m. | K36: und | L36: 10 | M36: =TRUNC(ROUND('04-COMP. 6'!L39,2),2) -> 847.71 | N36: =TRUNC(ROUND(L36*M36,2),2) -> 8477.1
A37: 151420 IOPES/ES | B37: 4.2 | C37: Cabo de cobre termoplástico, com isolamento para 1000V, seção de 10 mm2 | K37: m | L37: 186 | M37: =TRUNC(ROUND(O37*P37,2),2) -> 11.15 | N37: =TRUNC(ROUND(L37*M37,2),2) -> 2073.9 | O37: 9.04 | P37: 1.2332
A38: 83399 SINAPI | B38: 4.3 | C38: Rele fotoeletrico p/ comando de iluminação externa 220V/1000W - fornecimento e isntalação | K38: und | L38: 4 | M38: =TRUNC(ROUND(O38*P38,2),2) -> 38.65 | N38: =TRUNC(ROUND(L38*M38,2),2) -> 154.6 | O38: 31.34 | P38: 1.2332
A39: 151336 IOPES/ES | B39: 4.4 | C39: Disjuntor DR bipolar 16A a 25A, corrente nominal 30 mA | K39: und | L39: 4 | M39: =TRUNC(ROUND('3-151336'!E29,2),2) -> 139.52 | N39: =TRUNC(ROUND(L39*M39,2),2) -> 558.08
A40: 151820 IOPES/ES | B40: 4.5 | C40: Ponto padrão de interruptor de 1 tecla intermediário - considerando eletroduto PVC rígido de 3/4" inclusive conexões (3.3m), fio isolado PVC de 2.5mm2 (15.8m) e caixa estampada 4x2" (1 und) | K40: und | L40: 2 | M40: =TRUNC(ROUND(O40*P40,2),2) -> 149.66 | N40: =TRUNC(ROUND(L40*M40,2),2) -> 299.32 | O40: 121.36 | P40: 1.2332
A41: 41135 DER/ES | B41: 4.6 | C41: Isolador de Porcelana tipo roldana com rack 3 x 16, instalação | K41: und | L41: 2 | M41: =TRUNC(ROUND(117.48,2),2) -> 117.48 | N41: =TRUNC(ROUND(L41*M41,2),2) -> 234.96
A42: 150312 IOPES/ES | B42: 4.7 | C42: Quadro de distribuição de energia, de embutir, com 3 divisões modulares, sem barramento | K42: und | L42: 1 | M42: =TRUNC(ROUND(O42*P42,2),2) -> 108.85 | N42: =TRUNC(ROUND(L42*M42,2),2) -> 108.85 | O42: 88.27 | P42: 1.2332
L43: SUBTOTAL | N43: =SUM(N36:N42) -> 11906.81
...

Sheet 01- 40402
B2: COMPOSIÇÃO DE PREÇO UNITÁRIO DE SERVIÇO
B6: Data Base :Novembro/2019
B7: Serviço: 40402 - Hidrojateamento de superfícies metálicas
B10: Unidade: Ud
B11: (A)Equipamento | C11: Código padrão | D11: Quantidade | F11: Ut. Pr | H11: Ut. Impr | I11: Vl. Hr. Prod | K11: Vl. Hr. Imp | N11: Custo Horário
B12: Conjunto moto bomba diam. 4" | C12: 30080 | D12: 1 | F12: 1 | H12: 0 | I12: 18.52 | K12: 12.62 | N12: =TRUNC((F12*I12)+(H12*K12)*D12,2) -> 18.52
B13: Esmerilhadeira Angular 7" marca de referência BOSCH - 1755 ou equivalente | C13: 30098 | D13: 1.71 | F13: 0.2 | H13: 0.8 | I13: 25.18 | K13: 23.81 | N13: 41.15
B14: Máquina de hidrojateamento | C14: 30147 | D14: 1 | F14: 1 | H14: 0 | I14: 47.66 | K14: 14.92 | N14: =TRUNC((F14*I14)+(H14*K14)*D14,2) -> 47.66
B15: (A)Total: | L15: =SUM(N12:O14) -> 107.33
B17: (B)Mão-de-Obra | C17: Código padrão | D17: Eq. Salarial | F17: Encargos(%) | H17: Sal/Hora | I17: Consumo | N17: Custo Horário
B18: Servente | C18: 20002 | D18: 1 | F18: 157.27 | H18: 12.1 | I18: 0.85 | N18: =TRUNC(I18*H18,2) -> 10.28
B19: (B)Total: | L19: =SUM(N18:O18) -> 10.28
B21: (C)Itens de Incidência | C21: Código padrão | D21: % | F21: M. O. | G21: Equip. | I21: Mat. | J21: Custo
B22: Ferramentas manuais | C22: 2000 | D22: 5 | F22: x | J22: 0.51
B23: (C)Total: | L23: =J22 -> 0.51
B25: Custo Horário da Execução (A) + (B) + (C) | J25: =TRUNC(L15+L19+L23,2) -> 118.12
B26: (D) Produção da Equipe | J26: 30
B27: (E) Custo Unitário da Execução [(A) + (B) + (C)] / (D) | J27: =TRUNC(J25/J26,2) -> 3.93
B29: (F)Materiais | C29: Código padrão | D29: Unid. | F29: Custo Unitário | I29: Consumo | L29: Custo Unitário
B30: Desengraxante alcalino (Solupan) | C30: 10208 | D30: kg | F30: 5.2 | I30: 0.65 | L30: 3.38
B31: Escova de Aço 18 x 6 cm | C31: 10207 | D31: ud | F31: 7 | I31: 0.3 | L31: =F31*I31 -> 2.1
B32: (F)Total: | L32: =SUM(L30:O31) -> 5.48
B34: (G)Serviços | C34: Código padrão | D34: Unid. | F34: Custo Unitário | I34: Consumo | L34: Custo Unitário
B35: (G)Total: | L35: 0
B37: (H)Itens de Transporte | C37: Código padrão | D37: Unid. | E37: Fórmula | I37: XP | J37: XR | K37: Custo | M37: Consumo | O37: Custo Unit.
B38: (H)Total: | L38: 0
B40: Custo Direto Total (E) + (F) + (G) + (H) | L40: =TRUNC(J27+L32+L35+L38,2) -> 9.41
B41: BDI :23,32% | L41: =TRUNC(L40*0.2332,2) -> 2.19
B42: Preço Unitário Total | L42: =SUM(L40:O41) -> 11.6

Sheet 01-102069
B3: COMPOSIÇÃO DE PREÇO UNITÁRIO DE SERVIÇO
B6: Data Base :Novembro/2019
B7: Serviço:102069 -Limpeza em superfície de concreto com jateamento d'água sob pressão
B10: Unidade: M2
B11: (A)Equipamento | C11: Código padrão | D11: Quantidade | F11: Ut.Pr | H11: Ut. Impr | I11: Vl. Hr. Prod | K11: Vl. Hr. Imp | N11: Custo Horário | R11: 5 ENERGIA 18,30 15,08
B12: Caminhão tanque L 1319/48 PBT=12,9t (6.000L) | C12: 30007 | D12: 1 | F12: 0.41 | H12: =1-F12 -> 0.59 | I12: 165.26 | K12: 49.05 | N12: 96.68
B13: Conjunto moto bomba diam. 4" | C13: 30080 | D13: 1 | F13: 0.41 | H13: =1-F13 -> 0.59 | I13: 18.52 | K13: 12.62 | N13: 15.03
B14: Máquina de hidrojateamento | C14: 30147 | D14: 1 | F14: 1 | H14: =1-F14 -> 0 | I14: 47.66 | K14: 14.92 | N14: 47.66
B15: (A)Total: | L15: =SUM(N12:O14) -> 159.37
B17: (B)Mão-de-Obra | C17: Código padrão | D17: Eq. Salarial | F17: Encargos(%) | H17: Sal/Hora | I17: Consumo | N17: Custo Horário
B18: Servente | C18: 20002 | D18: 1 | F18: 157.27 | H18: 12.1 | I18: 1 | N18: =TRUNC(I18*H18,2) -> 12.1
B19: (B)Total: | L19: =SUM(N18:O18) -> 12.1
B21: (C)Itens de Incidência | C21: Código padrão | D21: % | F21: M. O. | G21: Equip. | I21: Mat. | J21: Custo | R21: 2.17
B22: Ferramentas manuais | C22: 2000 | D22: 5 | F22: x | J22: 0.6
B23: (C)Total: | L23: 0.6
B25: Custo Horário da Execução (A) + (B) + (C) | J25: =(L23+L19+L15) -> 172.07
B26: (D) Produção da Equipe | J26: 56.27
B27: (E) Custo Unitário da Execução [(A) + (B) + (C)] / (D) | J27: 3.05
Q28: 24 | R28: 100
B29: (F)Materiais | C29: Código padrão | D29: Unid. | F29: Custo Unitário | I29: Consumo | L29: Custo Unitário | R29: 5 | T29: =(33.67*5)/100 -> 1.6835
B30: (F)Total: | L30: 0
B32: (G)Serviços | C32: Código padrão | D32: Unid. | F32: Custo Unitário | I32: Consumo | L32: Custo Unitário
B33: (G)Total: | L33: 0
B35: (H)Itens de Transporte | C35: Código padrão | D35: Unid. | E35: Fórmula | I35: XP | J35: XR | K35: Custo | M35: Consumo | O35: Custo Unit. | Q35: =L33+L30+L36+J27 -> 3.05
B36: (H)Total: | L36: 0
B38: Custo Direto Total (E) + (F) + (G) + (H) | L38: =TRUNC(J27+L30+L33+L36,2) -> 3.05 | P38: =L38 -> 3.05
B39: BDI :23,32% | L39: =TRUNC(L38*0.2332,2) -> 0.71
B40: Preço Unitário Total | L40: =TRUNC(L38+L39,2) -> 3.76

Sheet 01-43009
B3: COMPOSIÇÃO DE PREÇO UNITÁRIO DE SERVIÇO
B6: Data Base :Novembro/2019
B7: Serviço: 43009 - Limpeza e preparo de superfície de aço em Vias Urbanas
B10: Unidade: M2
B11: (A)Equipamento | C11: Código padrão | D11: Quantidade | F11: Ut.Pr | H11: Ut. Impr | I11: Vl. Hr. Prod | K11: Vl. Hr. Imp | N11: Custo Horário | R11: 5 ENERGIA 18,30 15,08
B12: Compressor de ar XA 187/400 PCM, ATLAS ou equivalente | C12: 30059 | D12: 1 | F12: 0.3 | H12: 0.7 | I12: 111.46 | K12: 21.48 | N12: 48.46
B13: Máquina de jateamento de areia | C13: 30091 | D13: 1 | F13: 0.3 | H13: 0.7 | I13: 15.53 | K13: 14.09 | N13: 14.51
B14: (A)Total: | L14: =SUM(N12:O13) -> 62.97
B16: (B)Mão-de-Obra | C16: Código padrão | D16: Eq. Salarial | F16: Encargos(%) | H16: Sal/Hora | I16: Consumo | N16: Custo Horário
B17: Oficial | C17: 20099 | D17: 1.65 | F17: 157.27 | H17: 19.97 | I17: 0.3 | N17: =TRUNC(I17*H17,2) -> 5.99
B18: Servente | C18: 20002 | D18: 1 | F18: 157.27 | H18: 12.1 | I18: 0.15 | N18: =TRUNC(I18*H18,2) -> 1.81
B19: (B)Total: | L19: =SUM(N17:O18) -> 7.8
B21: (C)Itens de Incidência | C21: Código padrão | D21: % | F21: M. O. | G21: Equip. | I21: Mat. | J21: Custo | R21: 2.17
B22: (C)Total: | L22: 0
B24: Custo Horário da Execução (A) + (B) + (C) | J24: =TRUNC(L19+L22+L14,2) -> 70.77
B25: (D) Produção da Equipe | J25: 0.83
B26: (E) Custo Unitário da Execução [(A) + (B) + (C)] / (D) | J26: =TRUNC(J24/J25,2) -> 85.26
Q27: 24 | R27: 100
B28: (F)Materiais | C28: Código padrão | D28: Unid. | F28: Custo Unitário | I28: Consumo | L28: Custo Unitário | R28: 5 | T28: =(33.67*5)/100 -> 1.6835
B29: (F)Total: | L29: 0
B31: (G)Serviços | C31: Código padrão | D31: Unid. | F31: Custo Unitário | I31: Consumo | L31: Custo Unitário
B32: =VLOOKUP(C32,[23]SERVIÇOS!$B$2:$F$1526,2,0) -> NADA | C32: 0 | D32: =VLOOKUP(C32,[23]SERVIÇOS!$B$2:$F$1526,3,0) -> NADA | F32: =VLOOKUP(C32,[23]SERVIÇOS!$B$2:$F$1526,5,0) -> 0 | L32: =F32*I32 -> 0
B33: (G)Total: | L33: =SUM(L32:O32) -> 0
B35: (H)Itens de Transporte | C35: Código padrão | D35: Unid. | E35: Fórmula | I35: XP | J35: XR | K35: Custo | M35: Consumo | O35: Custo Unit. | Q35: =L33+L29+L36+J26 -> 85.26
B36: (H)Total: | L36: 0
B38: Custo Direto Total (E) + (F) + (G) + (H) | L38: =TRUNC(J26+L29+L33+L36,2) -> 85.26 | P38: =L38 -> 85.26
B39: BDI :23,32% | L39: =TRUNC(L38*0.2332,2) -> 19.88
B40: Preço Unitário Total | L40: =TRUNC(L38+L39,2) -> 105.14

Sheet 2-COMP.1
A1: COMP. 1 | B1: Recuperação de Alma de Pilar | C1: BDI(%): | D1: 0.2332 | E1: Data base: | G1: 43770 | H1: Valores em reais (R$) Unidade: m
A2: MÃO DE OBRA | C2: UNIDADE | D2: COEFICIENTE | F2: PREÇO UNIT. | I2: VALOR TOTAL
A4: 88317 SINAPI | B4: Soldador com Encargos Complementares | C4: H | D4: 1.01636 | F4: 24.82 | I4: =F4*D4 -> 25.226055
A5: 88316 SINAPI | B5: Servente com Encargos Complementares | C5: H | D5: 0.13091 | F5: 15.78 | I5: =F5*D5 -> 2.0657598
G6: Custo Total de Mão de Obra: | I6: =SUM(I4:I5) -> 27.291815
A7: MATERIAL | C7: UNIDADE | E7: QUANTIDADE | G7: PREÇO UNIT. | I7: VALOR TOTAL
A8: 1335 SINAPI | B8: Chapa de aço Grossa, ASTM A36, E=7/8"(22,23) 174,28 KG/M² | C8: KG | E8: 18.75 | G8: 6.26 | I8: =G8*E8 -> 117.375
A9: 10998 SINAPI | B9: ELETRODO REVESTIDO AWS - E-6010, DIAMETRO IGUAL A 4,00 MM | C9: kg | E9: 4.5 | G9: 19.91 | I9: =G9*E9 -> 89.595
A10: 92717 SINAPI | B10: APARELHO PARA CORTE E SOLDA OXI-ACETILENO SOBRE RODAS, INCLUSIVE CILINDROS E MAÇARICOS - CHP DIURNO. AF_12/2015 | C10: CHP | E10: 0.065 | G10: 17.94 | I10: =G10*E10 -> 1.1661
C11: Custo total de Material: | I11: =I8+I9+I10 -> 208.1361
E12: Custo unitário direto total | I12: =I11+I6 -> 235.42791
G13: BDI (%) | I13: 0.2332
G14: Custo total com BDI | I14: =(I12*1.2332) -> 290.3297

Sheet 2-COMP.2
A1: COMP. 2 | B1: Recuperação do Perfil Superior da Ponte | C1: BDI(%): | D1: 0.2332 | E1: Data base: | G1: 43770 | H1: Valores em reais (R$) Unidade: m
A2: MÃO DE OBRA | C2: UNIDADE | D2: COEFICIENTE | F2: PREÇO UNIT. | I2: VALOR TOTAL
A4: 88317 SINAPI | B4: Soldador com Encargos Complementares | C4: H | D4: 1.01636 | F4: 24.82 | I4: =F4*D4 -> 25.226055
A5: 88316 SINAPI | B5: Servente com Encargos Complementares | C5: H | D5: 0.13091 | F5: 15.78 | I5: =F5*D5 -> 2.0657598
G6: Custo Total de Mão de Obra: | I6: =SUM(I4:I5) -> 27.291815
A7: MATERIAL | C7: UNIDADE | E7: QUANTIDADE | G7: PREÇO UNIT. | I7: VALOR TOTAL
A8: 40598 SINAPI | B8: PERFIL UDC ("U" DOBRADO DE CHAPA) SIMPLES DE ACO LAMINADO, GALVANIZADO, ASTM A36, 127 X 50 MM, E= 3 MM | C8: KG | E8: 13.5 | G8: 6.13 | I8: =G8*E8 -> 82.755
A9: 10998 SINAPI | B9: ELETRODO REVESTIDO AWS - E-6010, DIAMETRO IGUAL A 4,00 MM | C9: kg | E9: 4.5 | G9: 19.91 | I9: =G9*E9 -> 89.595
A10: 92716 SINAPI | B10: APARELHO PARA CORTE E SOLDA OXI-ACETILENO SOBRE RODAS, INCLUSIVE CILINDROS E MAÇARICOS - CHP DIURNO. AF_12/2015 | C10: CHP | E10: 0.062 | G10: 17.94 | I10: =G10*E10 -> 1.11228
C11: Custo total de Material: | I11: =I8+I9+I10 -> 173.46228
E12: Custo unitário direto total | I12: =I11+I6 -> 200.75409
G13: BDI (%) | I13: 0.2332
G14: Custo total com BDI | I14: =(I12*1.2332) -> 247.56995

Sheet 2-COMP.3
A1: COMP. 3 | B1: Remoção de Guarda-corpo | C1: BDI(%): | D1: 0.2332 | E1: Data base: | G1: 43770 | H1: Valores em reais (R$) Unidade: m
A2: MÃO DE OBRA | C2: UNIDADE | D2: COEFICIENTE | F2: PREÇO UNIT. | I2: VALOR TOTAL
A4: 88316 SINAPI | B4: Servente com Encargos Complementares | C4: H | D4: 1.5 | F4: 15.78 | I4: =F4*D4 -> 23.67
G5: Custo Total de Mão de Obra: | I5: =SUM(I4:I4) -> 23.67
A6: MATERIAL | C6: UNIDADE | E6: QUANTIDADE | G6: PREÇO UNIT. | I6: VALOR TOTAL
C7: Custo total de Material: | I7: 0
E8: Custo unitário direto total | I8: =I7+I5 -> 23.67
G9: BDI (%) | I9: 0.2332
G10: Custo total com BDI | I10: =(I8*1.2332) -> 29.189844
B28: Remoção de Guarda-corpo

Sheet 2-190418
B1: GOVERNO DO ESTADO DO ESPÍRITO SANTO Secretaria de Estado de Mobilidade e Infraestrutura - SEMOBI Departamento de Edificações e de Rodovias do Estado do Espírito Santo - DER-ES Relatório de Composição de Preços Unitários do Orçamento
A2: Orçamento: 955301 - TABELA CUSTOS LABOR/CT-UFES PADRÃO DER FEVEREIRO/2020(LS=157,27; BDI=0%) Órgão Cliente: DER-ES Órgão Gerente:DER-ES Data Base: Novembro/2019
A5: Planilha: 1 - TABELA CUSTOS LABOR/CT-UFES PADRÃO DER FEVEREIRO/2020(LS=157,27; BDI=0%)
A7: Item: 190418 - Pintura de superfície metálica com uma demão de primer Epoxi e duas demãos de tinta à base de Epoxi Unidade: m2 Base: LABOR Código Base: 190418 Fonte: LABOR Versão: 1
A9: MÃO DE OBRA | C9: unid. | D9: Codigo | E9: Coefic. | F9: C.Prod. | G9: Pr. Prod. | H9: Pr. Improd. | I9: Pr. Unit. | J9: Fator Ac. | K9: Subtotal
A10: AJUDANTE (LABOR) | C10: h | D10: 10101 | E10: 0.2 | F10: 1 | G10: 5.67 | H10: 0 | I10: 14.59 | J10: - | K10: 2.918
A11: PINTOR (LABOR) | C11: h | D11: 10140 | E11: 0.4 | F11: 1 | G11: 6.72 | H11: 0 | I11: 17.29 | J11: - | K11: 6.916
C12: Subtotal: | K12: =SUM(K10:K11) -> 9.834
A13: MATERIAL | C13: unid. | D13: Codigo | E13: Coefic. | F13: C.Prod. | G13: Pr. Prod. | H13: Pr. Improd. | I13: Pr. Unit. | J13: Fator Ac. | K13: Subtotal
A14: PRIMER A BASE DE EPOXI (LABOR) | C14: L | D14: 38021 | E14: 0.11 | F14: 1 | G14: 53.11 | H14: 0 | I14: 53.11 | J14: - | K14: 5.842
A15: SOLVENTE PARA TINTA A BASE DE EPOXI (LABOR) | C15: L | D15: 37564 | E15: 0.02 | F15: 1 | G15: 22.55 | H15: 0 | I15: 22.55 | J15: - | K15: 0.451
A16: TINTA EPOXI PARA ACABAMENTO (LABOR) | C16: L | D16: 37509 | E16: 0.18 | F16: 1 | G16: 64.48 | H16: 0 | I16: 64.48 | J16: - | K16: 11.606
A17: TRINCHA 2" (LABOR) | C17: UM | D17: 38024 | E17: 0.08 | F17: 1 | G17: 4.81 | H17: 0 | I17: 4.81 | J17: - | K17: 0.385
H18: Subtotal: | K18: =SUM(K14:K17) -> 18.284
A20: RESUMO
A21: DISCRIMINAÇÃO | C21: TAXA (%) | D21: VALORES
A22: Mão-de-Obra (A) | C22: 1.5727 | E22: 9.83
A23: Materiais (B) | E23: 18.28
A24: Equipamentos (C) | E24: 0
A25: Produção da Equipe (D) | E25: 1
A26: Custo Horário Total (A+C) | E26: 9.83
A27: Custo Unitário da Execução [ (A/D) + (C/D) ] = E | E27: 9.83
A28: Custo Direto Total (B+E) | E28: =E22+E23 -> 28.11
A29: Bonificação e Despesas Indiretas - BDI | C29: 0.2332 | E29: =E28*0.2332 -> 6.555252
A30: CUSTO UNITÁRIO (Adotado) | E30: =E28+E29 -> 34.665252

Sheet 2-190602
B1: GOVERNO DO ESTADO DO ESPÍRITO SANTO Secretaria de Estado de Mobilidade e Infraestrutura - SEMOBI Departamento de Edificações e de Rodovias do Estado do Espírito Santo - DER-ES Relatório de Composição de Preços Unitários do Orçamento
A2: Orçamento: 955301 - TABELA CUSTOS LABOR/CT-UFES PADRÃO DER FEVEREIRO/2020(LS=157,27; BDI=0%) Órgão Cliente: DER-ES Órgão Gerente:DER-ES Data Base: Novembro/2019
A5: Planilha: 1 - TABELA CUSTOS LABOR/CT-UFES PADRÃO DER FEVEREIRO/2020(LS=157,27; BDI=0%)
A7: Item: 190602 - Pintura com tinta à base de resinas acrílicas, marcas de referência Suvinil, Coral ou Metalatex, sobre piso de concreto, a duas demãos Unidade: m2 Base: LABOR Código Base: 190418 Fonte: LABOR Versão: 1
A9: MÃO DE OBRA | C9: unid. | D9: Codigo | E9: Coefic. | F9: C.Prod. | G9: Pr. Prod. | H9: Pr. Improd. | I9: Pr. Unit. | J9: Fator Ac. | K9: Subtotal
A10: AJUDANTE (LABOR) | C10: h | D10: 10101 | E10: 0.3 | F10: 1 | G10: 5.67 | H10: 0 | I10: 14.59 | J10: - | K10: 4.37
A11: PINTOR (LABOR) | C11: h | D11: 10140 | E11: 1.2 | F11: 1 | G11: 6.72 | H11: 0 | I11: 17.29 | J11: - | K11: 20.748
C12: Subtotal: | K12: =SUM(K10:K11) -> 25.118
A13: MATERIAL | C13: unid. | D13: Codigo | E13: Coefic. | F13: C.Prod. | G13: Pr. Prod. | H13: Pr. Improd. | I13: Pr. Unit. | J13: Fator Ac. | K13: Subtotal
A14: TINTA A BASE DE EMULSAO ACRILICA (PARA PISOS) (LABOR) | C14: L | D14: 37517 | E14: 0.3 | F14: 1 | G14: 11.7 | H14: 0 | I14: 11.7 | J14: - | K14: 3.51
H15: Subtotal: | K15: =SUM(K14:K14) -> 3.51
A17: RESUMO
A18: DISCRIMINAÇÃO | C18: TAXA (%) | D18: VALORES
A19: Mão-de-Obra (A) | C19: 1.5727 | E19: 25.12
A20: Materiais (B) | E20: 3.51
A21: Equipamentos (C) | E21: 0
A22: Produção da Equipe (D) | E22: 1
A23: Custo Horário Total (A+C) | E23: 25.13
A24: Custo Unitário da Execução [ (A/D) + (C/D) ] = E | E24: 25.13
A25: Custo Direto Total (B+E) | E25: 28.64
A26: Bonificação e Despesas Indiretas - BDI | C26: 0.2332 | E26: =E25*0.2332 -> 6.678848
A27: CUSTO UNITÁRIO (Adotado) | E27: =E25+E26 -> 35.318848

Sheet 03-41403
B3: COMPOSIÇÃO DE PREÇO UNITÁRIO DE SERVIÇO
B6: Data Base :Novembro/2019
B7: Serviço: 41403 - Passarela metálica p/ pontes rodoviárias com 1,0m de largura, piso em chapa xadrez esp 1/4", em perfis laminados, inclusive pintura
B10: Unidade: m
B11: (A)Equipamento | C11: Código padrão | D11: Quantidade | F11: Ut.Pr | H11: Ut. Impr | I11: Vl. Hr. Prod | K11: Vl. Hr. Imp | N11: Custo Horário | R11: 5 ENERGIA 18,30 15,08
B12: Caminhão carroceria L 1319 PBT=13,9t (TOCO 8,0t) | C12: 30005 | D12: 1 | F12: 0.3 | H12: 0.7 | I12: 160.37 | K12: 46.3 | N12: 80.52
B13: Guindauto 6t, Madal-Palfinger ou equivalente | C13: 30130 | D13: 1 | F13: 0.3 | H13: 0.7 | I13: 22.78 | K13: 21.65 | N13: 21.98
B14: (A)Total: | L14: =SUM(N12:O13) -> 102.5
B16: (B)Mão-de-Obra | C16: Código padrão | D16: Eq. Salarial | F16: Encargos(%) | H16: Sal/Hora | I16: Consumo | N16: Custo Horário
B17: Encarregado O.A.E. | C17: 20062 | D17: 2.26 | F17: 157.27 | H17: 27.35 | I17: 1 | N17: 27.35
B18: Montador | C18: 20096 | D18: 1.96 | F18: 157.27 | H18: 23,,72 | I18: 2 | N18: 47.44
B19: Servente | C19: 20002 | D19: 1 | F19: 157.27 | H19: 12.1 | I19: 2 | N19: 24.2
B20: (B)Total: | L20: =SUM(N17:O19) -> 98.99
B22: (C)Itens de Incidência | C22: Código padrão | D22: % | F22: M. O. | G22: Equip. | I22: Mat. | J22: Custo | R22: 2.17
B23: Ferramentas manuais | C23: 2000 | D23: 5 | F23: x | J23: 4.94
B24: (C)Total: | L24: =J23 -> 4.94
B26: Custo Horário da Execução (A) + (B) + (C) | J26: =TRUNC(L20+L24+L14,2) -> 206.43
B27: (D) Produção da Equipe | J27: 1.5
B28: (E) Custo Unitário da Execução [(A) + (B) + (C)] / (D) | J28: =TRUNC(J26/J27,2) -> 137.62
Q29: 24 | R29: 100
B30: (F)Materiais | C30: Código padrão | D30: Unid. | F30: Custo Unitário | I30: Consumo | L30: Custo Unitário | R30: 5 | T30: =(33.67*5)/100 -> 1.6835
B31: Cantoneira de aço seção - 2" X 2" x 1/8" | C31: 10143 | D31: kg | F31: 4.16 | I31: 5.11 | L31: 21.25
B32: Cantoneira de aço seçao - 3" X 3" X 3/8" | C32: 10145 | D32: kg | F32: 4.98 | I32: 16.94 | L32: 84.36
B33: Chapa de aço 3/8" | C33: 10150 | D33: kg | F33: 6.67 | I33: 3.3 | L33: 22.01
B34: Chapa xadrez espessura=1/4" | C34: 10854 | D34: kg | F34: 7.89 | I34: 61.2 | L34: 482.86
B35: Eletrodo para soldas - OK 4804 | C35: 10185 | D35: kg | F35: 19 | I35: 0.15 | L35: 2.85
B36: Perfil metálico seção I | C36: 10179 | D36: kg | F36: 5.56 | I36: 7.98 | L36: 44.36
B37: (F)Total: | L37: 657.69
B39: (G)Serviços | C39: Código padrão | D39: Unid. | F39: Custo Unitário | I39: Consumo | L39: Custo Unitário
B40: Pintura em estrutura metálica com tinta epoxídica inclusive primer | C40: 41404 | D40: m² | F40: 27.87 | I40: 2.188 | L40: 60.97
B41: (G)Total: | L41: =L40 -> 60.97
B43: (H)Itens de Transporte | C43: Código padrão | D43: Unid. | E43: Fórmula | I43: XP | J43: XR | K43: Custo | M43: Consumo | O43: Custo Unit. | Q43: =L41+L37+L44+J28 -> 856.28
B44: (H)Total: | L44: 0
B46: Custo Direto Total (E) + (F) + (G) + (H) | L46: =J28+L37+L41 -> 856.28 | P46: =L46 -> 856.28
B47: BDI :23,32% | L47: =TRUNC(L46*0.2332,2) -> 199.68
B48: Preço Unitário Total | L48: =TRUNC(L46+L47,2) -> 1055.96

Sheet 03-COMP. 4
B3: COMPOSIÇÃO DE PREÇO UNITÁRIO DE SERVIÇO
B6: Data Base :Novembro/2019
B7: Serviço: COMP. 4 - Guarda corpo Passarela metálica
B10: Unidade: m
B11: (A)Equipamento | C11: Código padrão | D11: Quantidade | F11: Ut.Pr | H11: Ut. Impr | I11: Vl. Hr. Prod | K11: Vl. Hr. Imp | N11: Custo Horário | R11: 5 ENERGIA 18,30 15,08
B12: (A)Total: | L12: 0
B14: (B)Mão-de-Obra | C14: Código padrão | D14: Eq. Salarial | F14: Encargos(%) | H14: Sal/Hora | I14: Consumo | N14: Custo Horário
B15: Encarregado O.A.E. | C15: 20062 | D15: 2.26 | F15: 157.27 | H15: 27.35 | I15: 1 | N15: =I15*H15 -> 27.35
B16: Montador | C16: 20096 | D16: 1.96 | F16: 157.27 | H16: 23.72 | I16: 2 | N16: =I16*H16 -> 47.44
B17: Servente | C17: 20002 | D17: 1 | F17: 157.27 | H17: 12.1 | I17: 2 | N17: =I17*H17 -> 24.2
B18: (B)Total: | L18: =SUM(N15:O17) -> 98.99
B20: (C)Itens de Incidência | C20: Código padrão | D20: % | F20: M. O. | G20: Equip. | I20: Mat. | J20: Custo | R20: 2.17
B21: Ferramentas manuais | C21: 2000 | D21: 5 | F21: x | J21: 4.76
B22: (C)Total: | L22: 4.76
B24: Custo Horário da Execução (A) + (B) + (C) | J24: =TRUNC(L18+L22+L12,2) -> 103.75
B25: (D) Produção da Equipe | J25: 1.5
B26: (E) Custo Unitário da Execução [(A) + (B) + (C)] / (D) | J26: =TRUNC(J24/J25,2) -> 69.16
Q27: 24 | R27: 100
B28: (F)Materiais | C28: Código padrão | D28: Unid. | F28: Custo Unitário | I28: Consumo | L28: Custo Unitário | R28: 5 | T28: =(33.67*5)/100 -> 1.6835
B29: Cantoneira de aço seção - 2" X 2" x 1/8" | C29: 10143 | D29: kg | F29: 5.11 | I29: 3.27 | L29: =I29*F29 -> 16.7097
B30: PERFIL "U" ENRIJECIDO 200 X 75 X 25 X 2,65MM (7,92KG/M) | C30: 10150 | D30: kg | F30: 6.67 | I30: 51.16 | L30: =I30*F30 -> 341.2372
B31: TELA ARAME GALV. MALHA # 1" QUADRADA - FIO N.12 BWG | C31: 10854 | D31: M² | F31: 40.16 | I31: 1.8 | L31: =I31*F31 -> 72.288
B32: Eletrodo para soldas - OK 4804 | C32: 10185 | D32: kg | F32: 19 | I32: 0.3 | L32: =I32*F32 -> 5.7
B33: (F)Total: | L33: =SUM(L29:O32) -> 435.9349
B35: (G)Serviços | C35: Código padrão | D35: Unid. | F35: Custo Unitário | I35: Consumo | L35: Custo Unitário
B36: Pintura em estrutura metálica com tinta epoxídica inclusive primer | C36: 41404 | D36: m² | F36: 27.87 | I36: 1.5 | L36: =F36*I36 -> 41.805
B37: (G)Total: | L37: =L36 -> 41.805
B39: (H)Itens de Transporte | C39: Código padrão | D39: Unid. | E39: Fórmula | I39: XP | J39: XR | K39: Custo | M39: Consumo | O39: Custo Unit. | Q39: =L37+L33+L40+J26 -> 546.8999
B40: (H)Total: | L40: 0
B42: Custo Direto Total (E) + (F) + (G) + (H) | L42: =J26+L33+L37 -> 546.8999 | P42: =L42 -> 546.8999
B43: BDI :23,32% | L43: =TRUNC(L42*0.2332,2) -> 127.53
B44: Preço Unitário Total | L44: =TRUNC(L42+L43,2) -> 674.42

Sheet 3-040202
B1: GOVERNO DO ESTADO DO ESPÍRITO SANTO Secretaria de Estado de Mobilidade e Infraestrutura - SEMOBI Departamento de Edificações e de Rodovias do Estado do Espírito Santo - DER-ES Relatório de Composição de Preços Unitários do Orçamento
A2: Orçamento: 040202 - TABELA CUSTOS LABOR/CT-UFES PADRÃO DER FEVEREIRO/2020(LS=157,27; BDI=0%) Órgão Cliente: DER-ES Órgão Gerente:DER-ES Data Base: Novembro/2019
A5: Planilha: 1 - TABELA CUSTOS LABOR/CT-UFES PADRÃO DER FEVEREIRO/2020(LS=157,27; BDI=0%)
A7: Item: 040202 - Fornecimento, preparo e aplicação de concreto ciclópico Fck=15MPa com 30% de pedra de mão Unidade: m³ Base: LABOR Código Base: 040202 Fonte: LABOR Versão: 1
A9: MÃO DE OBRA | C9: unid. | D9: Codigo | E9: Coefic. | F9: C.Prod. | G9: Pr. Prod. | H9: Pr. Improd. | I9: Pr. Unit. | J9: Fator Ac. | K9: Subtotal
A10: PEDREIRO (LABOR) | C10: h | D10: 10139 | E10: 2 | F10: 1 | G10: 6.72 | H10: 0 | I10: 17.29 | J10: - | K10: 34.58
A11: SERVENTE (LABOR) | C11: h | D11: 10146 | E11: 16 | F11: 1 | G11: 4.94 | H11: 0 | I11: 12.71 | J11: - | K11: 203.36
C12: Subtotal: | K12: =SUM(K10:K11) -> 237.94
A13: MATERIAL | C13: unid. | D13: Codigo | E13: Coefic. | F13: C.Prod. | G13: Pr. Prod. | H13: Pr. Improd. | I13: Pr. Unit. | J13: Fator Ac. | K13: Subtotal
A14: AREIA LAVADA MEDIA (LABOR) | C14: M³ | D14: 20503 | E14: 0.646 | F14: 1 | G14: 63.75 | H14: 0 | I14: 63.75 | J14: - | K14: 41.183
A15: BRITA 2 (LABOR) | C15: M³ | D15: 20518 | E15: 0.585 | F15: 1 | G15: 83.3 | H15: 0 | I15: 83.3 | J15: - | K15: 48.731
A16: CIMENTO PORTLAND CP III - 40 (LABOR) | C16: KG | D16: 20508 | E16: 196 | F16: 1 | G16: 0.32 | H16: 0 | I16: 0.32 | J16: - | K16: 62.72
A17: PEDRA DE MAO (RACHAO) (LABOR) | C17: M³ | D17: 20521 | E17: 0.4 | F17: 1 | G17: 77.93 | H17: 0 | I17: 77.93 | J17: - | K17: 31.172
H18: Subtotal: | K18: =SUM(K14:K17) -> 183.806
A20: RESUMO
A21: DISCRIMINAÇÃO | C21: TAXA (%) | D21: VALORES
A22: Mão-de-Obra (A) | C22: 1.5727 | E22: 237.94
A23: Materiais (B) | E23: 183.81
A24: Equipamentos (C) | E24: 6.27
A25: Produção da Equipe (D) | E25: 1
A26: Custo Horário Total (A+C) | E26: 244.21
A27: Custo Unitário da Execução [ (A/D) + (C/D) ] = E | E27: 244.21
A28: Custo Direto Total (B+E) | E28: 428.02
A29: Bonificação e Despesas Indiretas - BDI | C29: 0.2332 | E29: =E28*0.2332 -> 99.814264
A30: CUSTO UNITÁRIO (Adotado) | E30: =E28+E29 -> 527.83426

Sheet 3-040238
B1: GOVERNO DO ESTADO DO ESPÍRITO SANTO Secretaria de Estado de Mobilidade e Infraestrutura - SEMOBI Departamento de Edificações e de Rodovias do Estado do Espírito Santo - DER-ES Relatório de Composição de Preços Unitários do Orçamento
A2: Orçamento: 040202 - TABELA CUSTOS LABOR/CT-UFES PADRÃO DER FEVEREIRO/2020(LS=157,27; BDI=0%) Órgão Cliente: DER-ES Órgão Gerente:DER-ES Data Base: Novembro/2019
A5: Planilha: 1 - TABELA CUSTOS LABOR/CT-UFES PADRÃO DER FEVEREIRO/2020(LS=157,27; BDI=0%)
A7: Item: 040238 - Fôrma de chapa compensada resinada 12mm, levando-se em conta a utilização 3 vezes (incluido o material, corte,montagem, escoramento e desfôrma) Unidade: m² Base: LABOR Código Base: 040238 Fonte: LABOR Versão: 1
A9: MÃO DE OBRA | C9: unid. | D9: Codigo | E9: Coefic. | F9: C.Prod. | G9: Pr. Prod. | H9: Pr. Improd. | I9: Pr. Unit. | J9: Fator Ac. | K9: Subtotal
A10: AJUDANTE (LABOR) | C10: h | D10: 10101 | E10: 1.3 | F10: 1 | G10: 5.7 | H10: 0 | I10: 14.59 | J10: - | K10: 18.967
A11: CARPINTEIRO (LABOR) | C11: h | D11: 10111 | E11: 1.3 | F11: 1 | G11: 6.72 | H11: 0 | I11: 17.29 | J11: - | K11: 22.477
C12: Subtotal: | K12: =SUM(K10:K11) -> 41.444
A13: MATERIAL | C13: unid. | D13: Codigo | E13: Coefic. | F13: C.Prod. | G13: Pr. Prod. | H13: Pr. Improd. | I13: Pr. Unit. | J13: Fator Ac. | K13: Subtotal
A14: CHAPA COMPENSADA RESINADA ESP. 12MM (LABOR) | C14: M² | D14: 21032 | E14: 0.43 | F14: 1 | G14: 19.04 | H14: 0 | I14: 19.04 | J14: - | K14: 8.187
A15: DESMOLDANTE PARA FORMAS (LABOR) | C15: L | D15: 28008 | E15: 0.1 | F15: 1 | G15: 11.37 | H15: 0 | I15: 11.37 | J15: - | K15: 1.137
A16: PREGO 18X27 (LABOR) | C16: KG | D16: 26569 | E16: 0.15 | F16: 1 | G16: 7.35 | H16: 0 | I16: 7.35 | J16: - | K16: 1.103
A17: SARRAFO DE MADEIRA PINUS 10 X 2.5CM (LABOR) | C17: M | D17: 20985 | E17: 1.53 | F17: 1 | G17: 5.35 | H17: 0 | I17: 5.35 | J17: - | K17: 8.186
H18: Subtotal: | K18: =SUM(K14:K17) -> 18.613
A20: RESUMO
A21: DISCRIMINAÇÃO | C21: TAXA (%) | D21: VALORES
A22: Mão-de-Obra (A) | C22: 1.5727 | E22: 41.44
A23: Materiais (B) | E23: 18.61
A24: Equipamentos (C) | E24: 0
A25: Produção da Equipe (D) | E25: 1
A26: Custo Horário Total (A+C) | E26: 41.44
A27: Custo Unitário da Execução [ (A/D) + (C/D) ] = E | E27: 41.44
A28: Custo Direto Total (B+E) | E28: 60.05
A29: Bonificação e Despesas Indiretas - BDI | C29: 0.2332 | E29: =E28*0.2332 -> 14.00366
A30: CUSTO UNITÁRIO (Adotado) | E30: =E28+E29 -> 74.05366

Sheet 3-030101
B1: GOVERNO DO ESTADO DO ESPÍRITO SANTO Secretaria de Estado de Mobilidade e Infraestrutura - SEMOBI Departamento de Edificações e de Rodovias do Estado do Espírito Santo - DER-ES Relatório de Composição de Preços Unitários do Orçamento
A2: Orçamento: 040202 - TABELA CUSTOS LABOR/CT-UFES PADRÃO DER FEVEREIRO/2020(LS=157,27; BDI=0%) Órgão Cliente: DER-ES Órgão Gerente:DER-ES Data Base: Novembro/2019
A5: Planilha: 1 - TABELA CUSTOS LABOR/CT-UFES PADRÃO DER FEVEREIRO/2020(LS=157,27; BDI=0%)
A7: Item: 030101 - Escavação manual em material de 1a. categoria, até 1.50 m de profundidade Unidade: m³ Base: LABOR Código Base: 030101 Fonte: LABOR Versão: 1
A9: MÃO DE OBRA | C9: unid. | D9: Codigo | E9: Coefic. | F9: C.Prod. | G9: Pr. Prod. | H9: Pr. Improd. | I9: Pr. Unit. | J9: Fator Ac. | K9: Subtotal
A10: SERVENTE (LABOR) | C10: h | D10: 10146 | E10: 3.25 | F10: 1 | G10: 4.94 | H10: 0 | I10: 12.71 | J10: - | K10: 41.308
C11: Subtotal: | K11: =SUM(K10:K10) -> 41.308
A12: MATERIAL | C12: unid. | D12: Codigo | E12: Coefic. | F12: C.Prod. | G12: Pr. Prod. | H12: Pr. Improd. | I12: Pr. Unit. | J12: Fator Ac. | K12: Subtotal
H13: Subtotal: | K13: 0
A15: RESUMO
A16: DISCRIMINAÇÃO | C16: TAXA (%) | D16: VALORES
A17: Mão-de-Obra (A) | C17: 1.5727 | E17: 41.31
A18: Materiais (B) | E18: 0
A19: Equipamentos (C) | E19: 0
A20: Produção da Equipe (D) | E20: 1
A21: Custo Horário Total (A+C) | E21: 41.31
A22: Custo Unitário da Execução [ (A/D) + (C/D) ] = E | E22: 41.31
A23: Custo Direto Total (B+E) | E23: 41.31
A24: Bonificação e Despesas Indiretas - BDI | C24: 0.2332 | E24: =E23*0.2332 -> 9.633492
A25: CUSTO UNITÁRIO (Adotado) | E25: =E23+E24 -> 50.943492

Sheet 3-030208
B1: GOVERNO DO ESTADO DO ESPÍRITO SANTO Secretaria de Estado de Mobilidade e Infraestrutura - SEMOBI Departamento de Edificações e de Rodovias do Estado do Espírito Santo - DER-ES Relatório de Composição de Preços Unitários do Orçamento
A2: Orçamento: 040202 - TABELA CUSTOS LABOR/CT-UFES PADRÃO DER FEVEREIRO/2020(LS=157,27; BDI=0%) Órgão Cliente: DER-ES Órgão Gerente:DER-ES Data Base: Novembro/2019
A5: Planilha: 1 - TABELA CUSTOS LABOR/CT-UFES PADRÃO DER FEVEREIRO/2020(LS=157,27; BDI=0%)
A7: Item: 030208 - Aterro manual para regularização do terreno em argila, inclusive adensamento manual e fornecimento do material (máximo de 100m3) Unidade: m³ Base: LABOR Código Base: 030208 Fonte: LABOR Versão: 1
A9: MÃO DE OBRA | C9: unid. | D9: Codigo | E9: Coefic. | F9: C.Prod. | G9: Pr. Prod. | H9: Pr. Improd. | I9: Pr. Unit. | J9: Fator Ac. | K9: Subtotal
A10: SERVENTE (LABOR) | C10: h | D10: 10146 | E10: 4.5 | F10: 1 | G10: 4.94 | H10: 0 | I10: 12.71 | J10: - | K10: 57.195
C11: Subtotal: | K11: =SUM(K10:K10) -> 57.195
A12: MATERIAL | C12: unid. | D12: Codigo | E12: Coefic. | F12: C.Prod. | G12: Pr. Prod. | H12: Pr. Improd. | I12: Pr. Unit. | J12: Fator Ac. | K12: Subtotal
A13: BARRO PARA ATERRO (LABOR) | C13: M³ | D13: 20554 | E13: 1.3 | F13: 1 | G13: 31.67 | H13: 0 | I13: 31.67 | J13: - | K13: 41.171
H14: Subtotal: | K14: =SUM(K13:K13) -> 41.171
A16: RESUMO
A17: DISCRIMINAÇÃO | C17: TAXA (%) | D17: VALORES
A18: Mão-de-Obra (A) | C18: 1.5727 | E18: 57.2
A19: Materiais (B) | E19: 41.17
A20: Equipamentos (C) | E20: 0
A21: Produção da Equipe (D) | E21: 1
A22: Custo Horário Total (A+C) | E22: 57.2
A23: Custo Unitário da Execução [ (A/D) + (C/D) ] = E | E23: 57.2
A24: Custo Direto Total (B+E) | E24: 98.37
A25: Bonificação e Despesas Indiretas - BDI | C25: 0.2332 | E25: =E24*0.2332 -> 22.939884
A26: CUSTO UNITÁRIO (Adotado) | E26: =E24+E25 -> 121.30988

Sheet 3-040235
B1: GOVERNO DO ESTADO DO ESPÍRITO SANTO Secretaria de Estado de Mobilidade e Infraestrutura - SEMOBI Departamento de Edificações e de Rodovias do Estado do Espírito Santo - DER-ES Relatório de Composição de Preços Unitários do Orçamento
A2: Orçamento: 040202 - TABELA CUSTOS LABOR/CT-UFES PADRÃO DER FEVEREIRO/2020(LS=157,27; BDI=0%) Órgão Cliente: DER-ES Órgão Gerente:DER-ES Data Base: Novembro/2019
A5: Planilha: 1 - TABELA CUSTOS LABOR/CT-UFES PADRÃO DER FEVEREIRO/2020(LS=157,27; BDI=0%)
A7: Item: 040235 - Fôrma de chapa compensada resinada 12mm, levando-se em conta a utilização 3 vezes (incluido o material, corte,montagem, escoramento e desfôrma) Unidade: m³ Base: LABOR Código Base: 040235 Fonte: LABOR Versão: 1
A9: MÃO DE OBRA | C9: unid. | D9: Codigo | E9: Coefic. | F9: C.Prod. | G9: Pr. Prod. | H9: Pr. Improd. | I9: Pr. Unit. | J9: Fator Ac. | K9: Subtotal
A10: PEDREIRO (LABOR) | C10: h | D10: 10139 | E10: 2.1 | F10: 1 | G10: 6.72 | H10: 0 | I10: 17.29 | J10: - | K10: 36.309
A11: SERVENTE (LABOR) | C11: h | D11: 10146 | E11: 12.6 | F11: 1 | G11: 4.94 | H11: 0 | I11: 12.71 | J11: - | K11: 160.146
C12: Subtotal: | K12: =SUM(K10:K11) -> 196.455
A13: MATERIAL | C13: unid. | D13: Codigo | E13: Coefic. | F13: C.Prod. | G13: Pr. Prod. | H13: Pr. Improd. | I13: Pr. Unit. | J13: Fator Ac. | K13: Subtotal
A14: AREIA LAVADA MEDIA (LABOR) | C14: M³ | D14: 20503 | E14: 0.7056 | F14: 1 | G14: 19.04 | H14: 0 | I14: 63.75 | J14: - | K14: 44.982
A15: BRITA 1 (LABOR) | C15: M³ | D15: 20517 | E15: 0.40005 | F15: 1 | G15: 11.37 | H15: 0 | I15: 83.3 | J15: - | K15: 33.324
A16: BRITA 2 (LABOR) | C16: M³ | D16: 20518 | E16: 0.40005 | F16: 1 | G16: 7.35 | H16: 0 | I16: 83.3 | J16: - | K16: 33.324
A17: CIMENTO PORTLAND CP III - 40 (LABOR) | C17: KG | D17: 20508 | E17: 367.5 | F17: 1 | G17: 5.35 | H17: 0 | I17: 0.32 | J17: - | K17: 117.6
H18: Subtotal: | K18: =SUM(K14:K17) -> 229.23
A20: MATERIAL | C20: unid. | D20: Codigo | E20: Coefic. | F20: C.Prod. | G20: Pr. Prod. | H20: Pr. Improd. | I20: Pr. Unit. | J20: Fator Ac. | K20: Subtotal
A21: BETONEIRA 320 L (E301) (LABOR) | C21: H | D21: 80125 | E21: 0.7497 | F21: 1 | G21: 29.22 | H21: 13.48 | I21: 29.22 | J21: - | K21: 21.906
H22: Subtotal: | K22: =SUM(K21) -> 21.906
A25: RESUMO
A26: DISCRIMINAÇÃO | C26: TAXA (%) | D26: VALORES
A27: Mão-de-Obra (A) | C27: 1.5727 | E27: 196.46
A28: Materiais (B) | E28: 229.23
A29: Equipamentos (C) | E29: 21.91
A30: Produção da Equipe (D) | E30: 1
A31: Custo Horário Total (A+C) | E31: 218.37
A32: Custo Unitário da Execução [ (A/D) + (C/D) ] = E | E32: 218.37
A33: Custo Direto Total (B+E) | E33: 447.6
A34: Bonificação e Despesas Indiretas - BDI | C34: 0.2332 | E34: =E33*0.2332 -> 104.38032
A35: CUSTO UNITÁRIO (Adotado) | E35: =E33+E34 -> 551.98032

Sheet 3-151336
B1: GOVERNO DO ESTADO DO ESPÍRITO SANTO Secretaria de Estado de Mobilidade e Infraestrutura - SEMOBI Departamento de Edificações e de Rodovias do Estado do Espírito Santo - DER-ES Relatório de Composição de Preços Unitários do Orçamento
A2: Orçamento: 040202 - TABELA CUSTOS LABOR/CT-UFES PADRÃO DER FEVEREIRO/2020(LS=157,27; BDI=0%) Órgão Cliente: DER-ES Órgão Gerente:DER-ES Data Base: Novembro/2019
A5: Planilha: 1 - TABELA CUSTOS LABOR/CT-UFES PADRÃO DER FEVEREIRO/2020(LS=157,27; BDI=0%)
A7: Item: 151336 - Disjuntor DR bipolar 16A a 25A, corrente nominal 30 mA Unidade: und Base: LABOR Código Base: 15336 Fonte: LABOR Versão: 1
A9: MÃO DE OBRA | C9: unid. | D9: Codigo | E9: Coefic. | F9: C.Prod. | G9: Pr. Prod. | H9: Pr. Improd. | I9: Pr. Unit. | J9: Fator Ac. | K9: Subtotal
A10: AJUDANTE (LABOR) | C10: h | D10: 10101 | E10: 0.6 | F10: 1 | G10: 5.67 | H10: 0 | I10: 14.59 | J10: - | K10: 8.754
A11: ELETRICISTA (LABOR) | C11: h | D11: 10115 | E11: 0.6 | F11: 1 | G11: 6.72 | H11: 0 | I11: 17.29 | J11: - | K11: 10.374
C12: Subtotal: | K12: =SUM(K10:K11) -> 19.128
A13: MATERIAL | C13: unid. | D13: Codigo | E13: Coefic. | F13: C.Prod. | G13: Pr. Prod. | H13: Pr. Improd. | I13: Pr. Unit. | J13: Fator Ac. | K13: Subtotal
A14: DISPOSITIVO INTERRUPTOR DR BIPOLAR 25A OU 40A OU 63A - 30 MA (LABOR) | C14: unid. | D14: 44736 | E14: 1 | F14: 1 | G14: 94.01 | H14: 0 | I14: 94.01 | J14: - | K14: 94.01
H15: Subtotal: | K15: =SUM(K14:K14) -> 94.01
A19: RESUMO
A20: DISCRIMINAÇÃO | C20: TAXA (%) | D20: VALORES
A21: Mão-de-Obra (A) | C21: 1.5727 | E21: 19.13
A22: Materiais (B) | E22: 94.01
A23: Equipamentos (C) | E23: 0
A24: Produção da Equipe (D) | E24: 1
A25: Custo Horário Total (A+C) | E25: 19.13
A26: Custo Unitário da Execução [ (A/D) + (C/D) ] = E | E26: 19.13
A27: Custo Direto Total (B+E) | E27: 113.14
A28: Bonificação e Despesas Indiretas - BDI | C28: 0.2332 | E28: =E27*0.2332 -> 26.384248
A29: CUSTO UNITÁRIO (Adotado) | E29: =E27+E28 -> 139.52425

Sheet 04-COMP. 6
B3: COMPOSIÇÃO DE PREÇO UNITÁRIO DE SERVIÇO
B6: Data Base : Novembro/2019
B7: Serviço: COMP. 6 - Instalação de Refletores de LED DE 200 W com suporte metálico de 0,60 m.
B10: Unidade: UD
B11: (A)Equipamento | C11: Código padrão | D11: Quantidade | F11: Ut.Pr | H11: Ut. Impr | I11: Vl. Hr. Prod | K11: Vl. Hr. Imp | N11: Custo Horário | R11: 5 ENERGIA 18,30 15,08
B12: (A)Total: | L12: 0
B14: (B)Mão-de-Obra | C14: Código padrão | D14: Eq. Salarial | F14: Encargos(%) | H14: Sal/Hora | I14: Consumo | N14: Custo Horário
B15: Eletricista | C15: 20056 | D15: 1.24 | F15: 157.27 | H15: 15 | I15: 1 | N15: =I15*H15 -> 15
B16: (B)Total: | L16: =SUM(N15:O15) -> 15
B18: (C)Itens de Incidência | C18: Código padrão | D18: % | F18: M. O. | G18: Equip. | I18: Mat. | J18: Custo | R18: 2.17
B19: Ferramentas manuais | C19: 2000 | D19: 5 | F19: x | J19: =L16*5% -> 0.75
B20: (C)Total: | L20: =J19 -> 0.75
B22: Custo Horário da Execução (A) + (B) + (C) | J22: =TRUNC(L16+L20+L12,2) -> 15.75
B23: (D) Produção da Equipe | J23: 1
B24: (E) Custo Unitário da Execução [(A) + (B) + (C)] / (D) | J24: =TRUNC(J22/J23,2) -> 15.75
Q25: 24 | R25: 100
B26: (F)Materiais | C26: Código padrão | D26: Unid. | F26: Custo Unitário | I26: Consumo | L26: Custo Unitário | R26: 5 | T26: =(33.67*5)/100 -> 1.6835
B27: Refletor com Holofote Led 200 w | C27: COTAÇÃO | D27: Unid. | F27: 293.5 | I27: 1 | L27: =I27*F27 -> 293.5
B28: Suporte para refletor Led 60 cm | C28: COTAÇÃO | D28: Unid. | F28: 12.33 | I28: 1 | L28: =I28*F28 -> 12.33
B29: (F)Total: | L29: 671.66
B31: (G)Serviços | C31: Código padrão | D31: Unid. | F31: Custo Unitário | I31: Consumo | L31: Custo Unitário
B32: (G)Total: | L32: 0
B34: (H)Itens de Transporte | C34: Código padrão | D34: Unid. | E34: Fórmula | I34: XP | J34: XR | K34: Custo | M34: Consumo | O34: Custo Unit. | Q34: =L32+L29+L35+J24 -> 687.41
B35: (H)Total: | L35: 0
B37: Custo Direto Total (E) + (F) + (G) + (H) | L37: =J24+L29+L32 -> 687.41 | P37: =L37 -> 687.41
B38: BDI :23,32% | L38: =TRUNC(L37*0.2332,2) -> 160.3
B39: Preço Unitário Total | L39: =TRUNC(L37+L38,2) -> 847.71

Sheet 04-41500
B3: COMPOSIÇÃO DE PREÇO UNITÁRIO DE SERVIÇO
B6: Data Base : Novembro/2019
B7: Serviço: 41500 - Placa de obra nas dimensões de 3,0 x 6,0 m, padrão DER-ES
B10: Unidade: UD
B11: (A)Equipamento | C11: Código padrão | D11: Quantidade | F11: Ut.Pr | H11: Ut. Impr | I11: Vl. Hr. Prod | K11: Vl. Hr. Imp | N11: Custo Horário | R11: 5 ENERGIA 18,30 15,08
B12: (A)Total: | L12: 0
B14: (B)Mão-de-Obra | C14: Código padrão | D14: Eq. Salarial | F14: Encargos(%) | H14: Sal/Hora | I14: Consumo | N14: Custo Horário
B15: (B)Total: | L15: 0
B17: (C)Itens de Incidência | C17: Código padrão | D17: % | F17: M. O. | G17: Equip. | I17: Mat. | J17: Custo | R17: 2.17
B18: (C)Total: | L18: 0
B20: Custo Horário da Execução (A) + (B) + (C) | J20: =TRUNC(L15+L18+L12,2) -> 0
B21: (D) Produção da Equipe | J21: 1
B22: (E) Custo Unitário da Execução [(A) + (B) + (C)] / (D) | J22: =TRUNC(J20/J21,2) -> 0
Q23: 24 | R23: 100
B24: (F)Materiais | C24: Código padrão | D24: Unid. | F24: Custo Unitário | I24: Consumo | L24: Custo Unitário | R24: 5 | T24: =(33.67*5)/100 -> 1.6835
B25: (F)Total: | L25: 0
B27: (G)Serviços | C27: Código padrão | D27: Unid. | F27: Custo Unitário | I27: Consumo | L27: Custo Unitário
B28: (G)Total: | L28: 0
B30: (H)Itens de Transporte | C30: Código padrão | D30: Unid. | E30: Fórmula | I30: XP | J30: XR | K30: Custo | M30: Consumo | O30: Custo Unit. | Q30: =L28+L25+L31+J22 -> 0
B31: (H)Total: | L31: 0
B33: Custo Adotado | L33: 189.61 | P33: =L33 -> 189.61
B34: BDI :23,32% | L34: =TRUNC(L33*0.2332,2) -> 44.21
B35: Preço Unitário Total | L35: =TRUNC(L33+L34,2) -> 233.82

Sheet 04-41530
B3: COMPOSIÇÃO DE PREÇO UNITÁRIO DE SERVIÇO
B6: Data Base : Novembro/2019
B7: Serviço: 41530 - Refeitório c/ paredes chapa de comp. 12mm e pont. 8x8cm, piso ciment. e cob. telhas fibroc. 6mm, incl. ponto de luz e cx. de insp. (1,21m²/func/turno)
B10: Unidade: UD
B11: (A)Equipamento | C11: Código padrão | D11: Quantidade | F11: Ut.Pr | H11: Ut. Impr | I11: Vl. Hr. Prod | K11: Vl. Hr. Imp | N11: Custo Horário | R11: 5 ENERGIA 18,30 15,08
B12: (A)Total: | L12: 0
B14: (B)Mão-de-Obra | C14: Código padrão | D14: Eq. Salarial | F14: Encargos(%) | H14: Sal/Hora | I14: Consumo | N14: Custo Horário
B15: (B)Total: | L15: 0
B17: (C)Itens de Incidência | C17: Código padrão | D17: % | F17: M. O. | G17: Equip. | I17: Mat. | J17: Custo | R17: 2.17
B18: (C)Total: | L18: 0
B20: Custo Horário da Execução (A) + (B) + (C) | J20: =TRUNC(L15+L18+L12,2) -> 0
B21: (D) Produção da Equipe | J21: 1
B22: (E) Custo Unitário da Execução [(A) + (B) + (C)] / (D) | J22: =TRUNC(J20/J21,2) -> 0
Q23: 24 | R23: 100
B24: (F)Materiais | C24: Código padrão | D24: Unid. | F24: Custo Unitário | I24: Consumo | L24: Custo Unitário | R24: 5 | T24: =(33.67*5)/100 -> 1.6835
B25: (F)Total: | L25: 0
B27: (G)Serviços | C27: Código padrão | D27: Unid. | F27: Custo Unitário | I27: Consumo | L27: Custo Unitário
B28: (G)Total: | L28: 0
B30: (H)Itens de Transporte | C30: Código padrão | D30: Unid. | E30: Fórmula | I30: XP | J30: XR | K30: Custo | M30: Consumo | O30: Custo Unit. | Q30: =L28+L25+L31+J22 -> 0
B31: (H)Total: | L31: 0
B33: Custo Adotado | L33: 285.98 | P33: =L33 -> 285.98
B34: BDI :23,32% | L34: =TRUNC(L33*0.2332,2) -> 66.69
B35: Preço Unitário Total | L35: =TRUNC(L33+L34,2) -> 352.67

Sheet 04-41498
B3: COMPOSIÇÃO DE PREÇO UNITÁRIO DE SERVIÇO
B6: Data Base : Novembro/2019
B7: Serviço: 41498 - Barracão com sanitário, em chapa compensada 12 mm e pont. 8x8cm, piso cimentado e cobertura em telha de fibroc. 6mm, incl. ponto de luz e cx. Inspeção
B10: Unidade: UD
B11: (A)Equipamento | C11: Código padrão | D11: Quantidade | F11: Ut.Pr | H11: Ut. Impr | I11: Vl. Hr. Prod | K11: Vl. Hr. Imp | N11: Custo Horário | R11: 5 ENERGIA 18,30 15,08
B12: (A)Total: | L12: 0
B14: (B)Mão-de-Obra | C14: Código padrão | D14: Eq. Salarial | F14: Encargos(%) | H14: Sal/Hora | I14: Consumo | N14: Custo Horário
B15: (B)Total: | L15: 0
B17: (C)Itens de Incidência | C17: Código padrão | D17: % | F17: M. O. | G17: Equip. | I17: Mat. | J17: Custo | R17: 2.17
B18: (C)Total: | L18: 0
B20: Custo Horário da Execução (A) + (B) + (C) | J20: =TRUNC(L15+L18+L12,2) -> 0
B21: (D) Produção da Equipe | J21: 1
B22: (E) Custo Unitário da Execução [(A) + (B) + (C)] / (D) | J22: =TRUNC(J20/J21,2) -> 0
Q23: 24 | R23: 100
B24: (F)Materiais | C24: Código padrão | D24: Unid. | F24: Custo Unitário | I24: Consumo | L24: Custo Unitário | R24: 5 | T24: =(33.67*5)/100 -> 1.6835
B25: (F)Total: | L25: 0
B27: (G)Serviços | C27: Código padrão | D27: Unid. | F27: Custo Unitário | I27: Consumo | L27: Custo Unitário
B28: (G)Total: | L28: 0
B30: (H)Itens de Transporte | C30: Código padrão | D30: Unid. | E30: Fórmula | I30: XP | J30: XR | K30: Custo | M30: Consumo | O30: Custo Unit. | Q30: =L28+L25+L31+J22 -> 0
B31: (H)Total: | L31: 0
B33: Custo Adotado | L33: 527.05 | P33: =L33 -> 527.05
B34: BDI :23,32% | L34: =TRUNC(L33*0.2332,2) -> 122.9
B35: Preço Unitário Total | L35: =TRUNC(L33+L34,2) -> 649.95

Sheet 6-020355
B1: GOVERNO DO ESTADO DO ESPÍRITO SANTO Secretaria de Estado de Mobilidade e Infraestrutura - SEMOBI Departamento de Edificações e de Rodovias do Estado do Espírito Santo - DER-ES Relatório de Composição de Preços Unitários do Orçamento
A2: Orçamento: 955301 - TABELA CUSTOS LABOR/CT-UFES PADRÃO DER FEVEREIRO/2020(LS=157,27; BDI=0%) Órgão Cliente: DER-ES Órgão Gerente:DER-ES Data Base: Novembro/2019
A5: Planilha: 1 - TABELA CUSTOS LABOR/CT-UFES PADRÃO DER FEVEREIRO/2020(LS=157,27; BDI=0%)
A7: Item: 020355 - Aluguel mensal container sanitário, incl porta, básc, 2 ptos luz, 1 pto aterram., 3vasos, 3lavatórios, calha mictório, 6 chuveiros (1 eletrico), torn.,registros, piso comp. Naval pintado, cert NR18 e laudo descontaminação Unidade: m2 Base: LABOR Código Base: 190418 Fonte: LABOR Versão: 1
A9: MÃO DE OBRA | C9: unid. | D9: Codigo | E9: Coefic. | F9: C.Prod. | G9: Pr. Prod. | H9: Pr. Improd. | I9: Pr. Unit. | J9: Fator Ac. | K9: Subtotal
C10: Subtotal: | K10: 0
A11: MATERIAL | C11: unid. | D11: Codigo | E11: Coefic. | F11: C.Prod. | G11: Pr. Prod. | H11: Pr. Improd. | I11: Pr. Unit. | J11: Fator Ac. | K11: Subtotal
A12: ALUGUEL CONTAINER SANITARIO COLET 6X2.40X2.40M (LABOR) | C12: ms | D12: 72282 | E12: 1 | F12: 1 | G12: 716 | H12: 0 | I12: 716 | J12: - | K12: 716
H13: Subtotal: | K13: =SUM(K12:K12) -> 716
A15: RESUMO
A16: DISCRIMINAÇÃO | C16: TAXA (%) | D16: VALORES
A17: Mão-de-Obra (A) | C17: 1.5727 | E17: 0
A18: Materiais (B) | E18: 716
A19: Equipamentos (C) | E19: 0
A20: Produção da Equipe (D) | E20: 1
A21: Custo Horário Total (A+C) | E21: 0
A22: Custo Unitário da Execução [ (A/D) + (C/D) ] = E | E22: 0
A23: Custo Direto Total (B+E) | E23: 716
A24: Bonificação e Despesas Indiretas - BDI | C24: 0.2332 | E24: =E23*0.2332 -> 166.9712
A25: CUSTO UNITÁRIO (Adotado) | E25: =E23+E24 -> 882.9712

Sheet 04-41501
B3: COMPOSIÇÃO DE PREÇO UNITÁRIO DE SERVIÇO
B6: Data Base : Novembro/2019
B7: Serviço: 41501 - Rede de água c/ padrão de entrada d'água diâm. 3/4" conf. CESAN, incl. tubos e conexões p/ aliment., distrib., extravas. e limp., cons. o padrão a 25m
B10: Unidade: UD
B11: (A)Equipamento | C11: Código padrão | D11: Quantidade | F11: Ut.Pr | H11: Ut. Impr | I11: Vl. Hr. Prod | K11: Vl. Hr. Imp | N11: Custo Horário | R11: 5 ENERGIA 18,30 15,08
B12: (A)Total: | L12: 0
B14: (B)Mão-de-Obra | C14: Código padrão | D14: Eq. Salarial | F14: Encargos(%) | H14: Sal/Hora | I14: Consumo | N14: Custo Horário
B15: (B)Total: | L15: 0
B17: (C)Itens de Incidência | C17: Código padrão | D17: % | F17: M. O. | G17: Equip. | I17: Mat. | J17: Custo | R17: 2.17
B18: (C)Total: | L18: 0
B20: Custo Horário da Execução (A) + (B) + (C) | J20: =TRUNC(L15+L18+L12,2) -> 0
B21: (D) Produção da Equipe | J21: 1
B22: (E) Custo Unitário da Execução [(A) + (B) + (C)] / (D) | J22: =TRUNC(J20/J21,2) -> 0
Q23: 24 | R23: 100
B24: (F)Materiais | C24: Código padrão | D24: Unid. | F24: Custo Unitário | I24: Consumo | L24: Custo Unitário | R24: 5 | T24: =(33.67*5)/100 -> 1.6835
B25: (F)Total: | L25: 0
B27: (G)Serviços | C27: Código padrão | D27: Unid. | F27: Custo Unitário | I27: Consumo | L27: Custo Unitário
B28: (G)Total: | L28: 0
B30: (H)Itens de Transporte | C30: Código padrão | D30: Unid. | E30: Fórmula | I30: XP | J30: XR | K30: Custo | M30: Consumo | O30: Custo Unit. | Q30: =L28+L25+L31+J22 -> 0
B31: (H)Total: | L31: 0
B33: Custo Adotado | L33: 32.24 | P33: =L33 -> 32.24
B34: BDI :23,32% | L34: =TRUNC(L33*0.2332,2) -> 7.51
B35: Preço Unitário Total | L35: =TRUNC(L33+L34,2) -> 39.75

Sheet 04-41503
B3: COMPOSIÇÃO DE PREÇO UNITÁRIO DE SERVIÇO
B6: Data Base : Novembro/2019
B7: Serviço: 41503 - Rede de luz, incl. padrão entr. energia trifás. cabo ligação até barracões, quadro distrib., disj. e chave de força, cons. 20m entre padrão entr.e QDG
B10: Unidade: UD
B11: (A)Equipamento | C11: Código padrão | D11: Quantidade | F11: Ut.Pr | H11: Ut. Impr | I11: Vl. Hr. Prod | K11: Vl. Hr. Imp | N11: Custo Horário | R11: 5 ENERGIA 18,30 15,08
B12: (A)Total: | L12: 0
B14: (B)Mão-de-Obra | C14: Código padrão | D14: Eq. Salarial | F14: Encargos(%) | H14: Sal/Hora | I14: Consumo | N14: Custo Horário
B15: (B)Total: | L15: 0
B17: (C)Itens de Incidência | C17: Código padrão | D17: % | F17: M. O. | G17: Equip. | I17: Mat. | J17: Custo | R17: 2.17
B18: (C)Total: | L18: 0
B20: Custo Horário da Execução (A) + (B) + (C) | J20: =TRUNC(L15+L18+L12,2) -> 0
B21: (D) Produção da Equipe | J21: 1
B22: (E) Custo Unitário da Execução [(A) + (B) + (C)] / (D) | J22: =TRUNC(J20/J21,2) -> 0
Q23: 24 | R23: 100
B24: (F)Materiais | C24: Código padrão | D24: Unid. | F24: Custo Unitário | I24: Consumo | L24: Custo Unitário | R24: 5 | T24: =(33.67*5)/100 -> 1.6835
B25: (F)Total: | L25: 0
B27: (G)Serviços | C27: Código padrão | D27: Unid. | F27: Custo Unitário | I27: Consumo | L27: Custo Unitário
B28: (G)Total: | L28: 0
B30: (H)Itens de Transporte | C30: Código padrão | D30: Unid. | E30: Fórmula | I30: XP | J30: XR | K30: Custo | M30: Consumo | O30: Custo Unit. | Q30: =L28+L25+L31+J22 -> 0
B31: (H)Total: | L31: 0
B33: Custo Adotado | L33: 368.93 | P33: =L33 -> 368.93
B34: BDI :23,32% | L34: =TRUNC(L33*0.2332,2) -> 86.03
B35: Preço Unitário Total | L35: =TRUNC(L33+L34,2) -> 454.96

Sheet 100390
B2: COMPOSIÇÃO DE PREÇO UNITÁRIO DE SERVIÇO
B6: Data Base : outubro/2018
B7: Serviço: 100390 - Administração Local
B10: Unidade: Ud
B11: (A)Equipamento | C11: Código padrão | D11: Quantidade | F11: Ut.Pr | H11: Ut. Impr | I11: Vl. Hr. Prod | K11: Vl. Hr. Imp | N11: Custo Horário | R11: 5 ENERGIA 18,30 15,08
B12: (A)Total: | L12: 0
B14: (B)Mão-de-Obra | C14: Código padrão | D14: Eq. Salarial | F14: Encargos(%) | H14: Sal/Hora | I14: Consumo | N14: Custo Horário
B15: Almoxarife | C15: 20094 | D15: 1.65 | F15: 157.27 | H15: 19.2 | I15: 80 | N15: =TRUNC(I15*H15,2) -> 1536
B16: Auxiliar de administração | C16: 20021 | D16: 0 | F16: 84.04 | H16: 3502.09 | I16: 0.5 | N16: =TRUNC(I16*H16,2) -> 1751.04
B17: Auxiliar de topografia | C17: 20029 | D17: 0 | F17: 84.04 | H17: 3896.47 | I17: 0.2 | N17: =TRUNC(I17*H17,2) -> 779.29
B18: Engenheiro Junior | C18: 20070 | D18: 0 | F18: 84.04 | H18: 15993.83 | I18: 0.2 | N18: =TRUNC(I18*H18,2) -> 3198.76
B19: Topógrafo | C19: 20014 | D19: 0 | F19: 84.04 | H19: 6498.26 | I19: 0.2 | N19: =TRUNC(I19*H19,2) -> 1299.65
B20: Vigia | C20: 20019 | D20: 1 | F20: 157.27 | H20: 11.64 | I20: 160 | N20: =TRUNC(I20*H20,2) -> 1862.4
B21: (B)Total: | L21: =SUM(N15:O20) -> 10427.14
B23: (C)Itens de Incidência | C23: Código padrão | D23: % | F23: M. O. | G23: Equip. | I23: Mat. | J23: Custo | R23: 2.17
B24: (C)Total: | L24: 0
B26: Custo Horário da Execução (A) + (B) + (C) | J26: =TRUNC(L21+L24+L12,2) -> 10427.14
B27: (D) Produção da Equipe | J27: 1
B28: (E) Custo Unitário da Execução [(A) + (B) + (C)] / (D) | J28: =TRUNC(J26/J27,2) -> 10427.14
Q29: 24 | R29: 100
B30: (F)Materiais | C30: Código padrão | D30: Unid. | F30: Custo Unitário | I30: Consumo | L30: Custo Unitário | R30: 5 | T30: =(33.67*5)/100 -> 1.6835
B31: Aluguel mensal de mobiliário - escritório | C31: 10582 | D31: mês | F31: 756.55 | I31: 0.25 | L31: =TRUNC(F31*I31,2) -> 189.13
B32: Aluguel computador com : Processador 2,80 GHz , Memória RAM 4,00GB, Sistema Operacional 32 Bits, Windows com Pacote Office e Impressora Jato de Tinta | C32: 10591 | D32: mês | F32: 249.36 | I32: 0.25 | L32: =TRUNC(F32*I32,2) -> 62.34
B33: Estaçao total LEICA TC-800 | C33: 10425 | D33: mês | F33: 903.03 | I33: 0.5 | L33: =TRUNC(F33*I33,2) -> 451.51
B34: (F)Total: | L34: =SUM(L31:O33) -> 702.98
B36: (G)Serviços | C36: Código padrão | D36: Unid. | F36: Custo Unitário | I36: Consumo | L36: Custo Unitário
B37: =VLOOKUP(C37,[23]SERVIÇOS!$B$2:$F$1526,2,0) -> NADA | C37: 0 | D37: =VLOOKUP(C37,[23]SERVIÇOS!$B$2:$F$1526,3,0) -> NADA | F37: =VLOOKUP(C37,[23]SERVIÇOS!$B$2:$F$1526,5,0) -> 0 | L37: =F37*I37 -> 0
B38: (G)Total: | L38: =SUM(L37:O37) -> 0
B40: (H)Itens de Transporte | C40: Código padrão | D40: Unid. | E40: Fórmula | I40: XP | J40: XR | K40: Custo | M40: Consumo | O40: Custo Unit. | Q40: =L38+L34+L41+J28 -> 11130.12
B41: (H)Total: | L41: 0
B43: Custo Direto Total (E) + (F) + (G) + (H) | L43: =TRUNC(J28+L34+L38+L41,2) -> 11130.12 | P43: =L43 -> 11130.12
B44: BDI :23,32% | L44: =TRUNC(L43*0.2332,2) -> 2595.54
B45: Preço Unitário Total | L45: =TRUNC(L43+L44,2) -> 13725.66
B46: * De acordo com a RESOLUÇÃO SETOP 02/2016, a composição da Administração Local para as obras públicas rodoviárias não podem ultrapassar o valor de 6,99% do valor total da obra
