Workbook

Sheet PLANILHA ORÇAMENTÁRIA
B1: PREFEITURA MUNICIPAL DE JOÃO NEIVA
B2: PLANILHA ORÇAMENTÁRIA
B3: OBRA: CONSTRUÇÃO DO CRAS NO MUNICÍPIO DE JOÃO NEIVA | E3: L. SOCIAIS: | F3: 1.5727 | G3: TABELA DE REFERÊNCIA: DER/ES
B4: LOCAL: JOÃO NEIVA-ES | E4: BDI: | F4: 0.3196 | H4: DATA-BASE: | I4: ABR/21
B5: ORÇAMENTISTA: JEFYSON SILVA LOUREIRO - ENGENHEIRO CIVIL - CREA/ES 0047233/D
A6: ITEM | B6: CÓDIGO | C6: ORGÃO | D6: DESCRIÇÃO SERVIÇO | E6: UNIDADE | F6: QUANTIDADE | G6: CUSTO (R$)
G7: UNITÁRIO | H7: UNITÁRIO C/ BDI | I7: TOTAL
A8: 1 | B8: 01 | D8: SERVIÇOS PRELIMINARES
A9: 1.1 | B9: 0102 | C9: DER-ES | D9: DEMOLIÇÕES E RETIRADAS | I9: =TRUNC(ROUND(F9*H9,2),2) -> 0
A10: 1.1.1 | B10: 010209 | C10: DER-ES | D10: Demolição de alvenaria | E10: m3 | F10: =MC!J11 -> 8.16405 | G10: 44.72 | H10: =TRUNC(ROUND(G10*1.3196,2),2) -> 59.01 | I10: =TRUNC(ROUND(F10*H10,2),2) -> 481.76
A11: 1.1.2 | B11: 010210 | C11: DER-ES | D11: Demolição manual de concreto simples (EMOP 05.001.001) | E11: m3 | F11: =MC!J17 -> 9.831285 | G11: 209.92 | H11: =TRUNC(ROUND(G11*1.3196,2),2) -> 277.01 | I11: =TRUNC(ROUND(F11*H11,2),2) -> 2723.36
A12: 1.1.3 | B12: 010224 | C12: DER-ES | D12: Retirada de grades, gradis, alambrados, cercas e portões | E12: m2 | F12: =MC!J23 -> 51.135 | G12: 13.12 | H12: =TRUNC(ROUND(G12*1.3196,2),2) -> 17.31 | I12: =TRUNC(ROUND(F12*H12,2),2) -> 885.15
A13: 1.1.4 | B13: 010255 | C13: DER-ES | D13: Remoção de telhas cerâmicas, tipo colonial, inclusive cumeeiras | E13: m2 | F13: =MC!J27 -> 42.833 | G13: 17.91 | H13: =TRUNC(ROUND(G13*1.3196,2),2) -> 23.63 | I13: =TRUNC(ROUND(F13*H13,2),2) -> 1012.14
A14: 1.1.5 | B14: 010325 | C14: DER-ES | D14: Demolição de estrutura de madeira para telhado | E14: m2 | F14: =MC!J31 -> 42.833 | G14: 21.93 | H14: =TRUNC(ROUND(G14*1.3196,2),2) -> 28.94 | I14: =TRUNC(ROUND(F14*H14,2),2) -> 1239.59
A15: 1.2 | B15: 0104 | C15: DER-ES | D15: LIMPEZA DO TERRENO | H15: =TRUNC(ROUND(G15*1.3196,2),2) -> 0 | I15: =TRUNC(ROUND(F15*H15,2),2) -> 0
A16: 1.2.1 | B16: 010401 | C16: DER-ES | D16: Corte de capoeira fina, a foice (manual) | E16: m2 | F16: =MC!J36 -> 336.27 | G16: 1.02 | H16: =TRUNC(ROUND(G16*1.3196,2),2) -> 1.35 | I16: =TRUNC(ROUND(F16*H16,2),2) -> 453.96
A17: 1.2.2 | B17: 010402 | C17: DER-ES | D17: Raspagem e limpeza do terreno (manual) | E17: m2 | F17: =MC!J40 -> 336.27 | G17: 3.28 | H17: =TRUNC(ROUND(G17*1.3196,2),2) -> 4.33 | I17: =TRUNC(ROUND(F17*H17,2),2) -> 1456.05
A18: 1.2.3 | B18: 010403 | C18: DER-ES | D18: Corte e destocamento de árvores com diâmetro de até 15 cm | E18: und | F18: =MC!J44 -> 7 | G18: 39.36 | H18: =TRUNC(ROUND(G18*1.3196,2),2) -> 51.94 | I18: =TRUNC(ROUND(F18*H18,2),2) -> 363.58
A19: 1.2.4 | B19: 010404 | C19: DER-ES | D19: Corte e destocamento de árvores com diâmetro superior a 30 cm | E19: und | F19: =MC!J48 -> 22 | G19: 97.88 | H19: =TRUNC(ROUND(G19*1.3196,2),2) -> 129.16 | I19: =TRUNC(ROUND(F19*H19,2),2) -> 2841.52
A20: 1.3 | B20: 0105 | C20: DER-ES | D20: LOCAÇÃO DE OBRA | H20: =TRUNC(ROUND(G20*1.3196,2),2) -> 0 | I20: =TRUNC(ROUND(F20*H20,2),2) -> 0
A21: 1.3.1 | B21: 010501 | C21: DER-ES | D21: Locação de obra com gabarito de madeira | E21: m2 | F21: =MC!J52 -> 160.74 | G21: 9.11 | H21: =TRUNC(ROUND(G21*1.3196,2),2) -> 12.02 | I21: =TRUNC(ROUND(F21*H21,2),2) -> 1932.09
D22: SUB-TOTAL 01 | I22: =SUM(I9:I21) -> 13389.2
A23: 2 | B23: 02 | D23: INSTALAÇÃO DO CANTEIRO DE OBRAS
A24: 2.1 | B24: 0203 | C24: DER-ES | D24: TAPUMES, BARRACÕES E COBERTURAS | H24: =TRUNC(ROUND(G24*1.3196,2),2) -> 0 | I24: =TRUNC(ROUND(F24*H24,2),2) -> 0
A25: 2.1.1 | B25: 020305 | C25: DER-ES | D25: Placa de obra nas dimensões de 2.0 x 4.0 m, padrão IOPES | E25: m2 | F25: =MC!J58 -> 8 | G25: 285.33 | H25: =TRUNC(ROUND(G25*1.3196,2),2) -> 376.52 | I25: =TRUNC(ROUND(F25*H25,2),2) -> 3012.16
A26: 2.1.2 | B26: 020350 | C26: DER-ES | D26: Tapume Telha Metálica Ondulada em aço galvalume 0,50mm Branca h=2,20m, incl. montagem estr. mad.8"x8", c/adesivo "IOPES" 60x60cm a cada 10m, incl. faixas pint. esmalte sint. cores azul c/ h=30cm e rosa c/ h=10cm (Reaproveitamento 2x) | E26: m | F26: =MC!J63 -> 40.61 | G26: 175.26 | H26: =TRUNC(ROUND(G26*1.3196,2),2) -> 231.27 | I26: =TRUNC(ROUND(F26*H26,2),2) -> 9391.87
A27: 2.1.3 | B27: 020346 | C27: DER-ES | D27: Locação de andaime metálico para fachada - tipo torre (aluguel mensal) | E27: m | F27: =MC!J67 -> 54 | G27: 7.73 | H27: =TRUNC(ROUND(G27*1.3196,2),2) -> 10.2 | I27: =TRUNC(ROUND(F27*H27,2),2) -> 550.8
A28: 2.2 | B28: 0207 | C28: DER-ES | D28: INSTALAÇÃO DO CANTEIRO DE OBRAS (UTILIZAÇÃO 1 VEZ), PROJETO PADRÃO LABOR - NR.18 (OBRAS COM PRAZO DE EXECUÇÃO SUPERIOR A 12 MESES) | H28: =TRUNC(ROUND(G28*1.3196,2),2) -> 0 | I28: =TRUNC(ROUND(F28*H28,2),2) -> 0
A29: 2.2.1 | B29: 020713 | C29: DER-ES | D29: Rede de luz, incl. padrão entrada de energia trifás., cabo de ligação até barracões, quadro de distrib., disj. e chave de força (quando necessário), cons. 20m entre padrão entrada e QDG, conf. projeto (1 utilização) | E29: m | F29: =MC!J72 -> 20 | G29: 603.46 | H29: =TRUNC(ROUND(G29*1.3196,2),2) -> 796.33 | I29: =TRUNC(ROUND(F29*H29,2),2) -> 15926.6
A30: 2.2.2 | B30: 020714 | C30: DER-ES | D30: Rede de esgoto, contendo fossa e filtro, inclusive tubos e conexões de ligação entre caixas, considerando distância de 25m, conforme projeto (1 utilização) | E30: m | F30: =MC!J76 -> 25 | G30: 329.4 | H30: =TRUNC(ROUND(G30*1.3196,2),2) -> 434.68 | I30: =TRUNC(ROUND(F30*H30,2),2) -> 10867
A31: 2.3 | B31: 0208 | C31: DER-ES | D31: INSTALAÇÃO DO CANTEIRO DE OBRAS (UTILIZAÇÃO 2 VEZES), PROJETO PADRÃO LABOR NR.18 (OBRAS COM PRAZO DE EXECUÇÃO DE 6 A 12 MESES) | H31: =TRUNC(ROUND(G31*1.3196,2),2) -> 0 | I31: =TRUNC(ROUND(F31*H31,2),2) -> 0
A32: 2.3.1 | B32: 020801 | C32: DER-ES | D32: Barracão para escritório com sanitário área 14.50m2, de chapa de compens. 12mm e pontalete 8x8cm, piso cimentado e cobertura de telha de fibroc. 6mm, incl. ponto de luz e cx. de inspeção, conf. projeto (2 utilizações) | E32: m2 | F32: =MC!J80 -> 14.5 | G32: 509.18 | H32: =TRUNC(ROUND(G32*1.3196,2),2) -> 671.91 | I32: =TRUNC(ROUND(F32*H32,2),2) -> 9742.7
A33: 2.3.2 | B33: 020802 | C33: DER-ES | D33: Barracão para almoxarifado área de 10.90m2, de chapa de compensado 12mm e pontaletes 8x8cm, piso cimentado e cobertura de telha de fibrocimento de 6mm, inclusive ponto de luz, conf. projeto (2 utilizações) | E33: m2 | F33: =MC!J84 -> 10.9 | G33: 362.32 | H33: =TRUNC(ROUND(G33*1.3196,2),2) -> 478.12 | I33: =TRUNC(ROUND(F33*H33,2),2) -> 5211.51
A34: 2.3.3 | B34: 020804 | C34: DER-ES | D34: Refeitório com paredes de chapa de compens. 12mm e pontaletes 8x8cm, piso ciment. e cobert. de telhas fibroc. 6mm, incl. ponto de luz e cx. de inspeção (cons. 1.21m2/func./turno), conf. projeto (2 utilizações) | E34: m2 | F34: =MC!J88 -> 20 | G34: 313.84 | H34: =TRUNC(ROUND(G34*1.3196,2),2) -> 414.14 | I34: =TRUNC(ROUND(F34*H34,2),2) -> 8282.8
A35: 2.3.4 | B35: 020805 | C35: DER-ES | D35: Unidade de sanitário e vestiário para até 20 func. área 18.15m2, paredes de chapa compens. 12mm e pontalete 8x8cm, piso cimentado, cobert. telha fibroc. 6mm, incl. inst. de luz e cx. de inspeção, conf. projeto (2 utilizações) | E35: und | F35: =MC!J92 -> 1 | G35: 9951.19 | H35: =TRUNC(ROUND(G35*1.3196,2),2) -> 13131.59 | I35: =TRUNC(ROUND(F35*H35,2),2) -> 13131.59
A36: 2.3.5 | B36: 020809 | C36: DER-ES | D36: Galpão para corte e armação com área de 6.00m2, de peças de madeira 8x8cm e contraventamento de 5x7cm, cobertura de telhas de fibroc. de 6mm, inclusive ponto e cabo de alimentação da máquina, conf.projeto (2 utilizações) | E36: m2 | F36: =MC!J96 -> 6 | G36: 165.43 | H36: =TRUNC(ROUND(G36*1.3196,2),2) -> 218.3 | I36: =TRUNC(ROUND(F36*H36,2),2) -> 1309.8
A37: 2.3.6 | B37: 020811 | C37: DER-ES | D37: Reservatório de poliestileno de 1000 L, inclusive suporte em madeira de 7x12cm e 5x7cm, elevado de 4m, conforme projeto (2 utilizações) | E37: und | F37: =MC!J100 -> 1 | G37: 2059.16 | H37: =TRUNC(ROUND(G37*1.3196,2),2) -> 2717.27 | I37: =TRUNC(ROUND(F37*H37,2),2) -> 2717.27
A38: 2.3.7 | B38: 020812 | C38: DER-ES | D38: Rede de água, com padrão de entrada d'água diâm. 3/4", conf. espec. CESAN, incl. tubos e conexões para alimentação, distribuição, extravasor e limpeza, cons. o padrão a 25m, conf. projeto (2 utilizações) | E38: m | F38: =MC!J104 -> 25 | G38: 28.36 | H38: =TRUNC(ROUND(G38*1.3196,2),2) -> 37.42 | I38: =TRUNC(ROUND(F38*H38,2),2) -> 935.5
D39: SUB-TOTAL 02 | I39: =SUM(I24:I38) -> 81079.6
A40: 3 | B40: 03 | D40: MOVIMENTO DE TERRA
...

Sheet MC
B1: PREFEITURA MUNICIPAL DE JOÃO NEIVA
B2: MEMÓRIA DE CÁLCULO | I2: TABELA DE REFERÊNCIA:DER/ES
B3: OBRA: CONSTRUÇÃO DO CRAS NO MUNICÍPIO DE JOÃO NEIVA | G3: L. SOCIAIS: | H3: 1.5727
B4: LOCAL: JOÃO NEIVA-ES | G4: BDI: | H4: 0.2332 | I4: DATA-BASE: | J4: ABR/21
A5: ITEM | B5: DESCRIÇÃO SERVIÇO | C5: UNIDADE | D5: Qnt | E5: C (m) | F5: L (m) | G5: H (m) | H5: A(m2) | I5: V(m3) | J5: QUANT. DO SERVIÇO
A6: 1 | B6: SERVIÇOS PRELIMINARES
A7: 1.1 | B7: DEMOLIÇÕES E RETIRADAS
A8: 1.1.1 | B8: Demolição de alvenaria | C8: m3 | D8: Qnt | E8: C (m) | F8: L (m) | G8: H (m) | H8: A(m2) | I8: V(m3) | J8: QUANT. DO SERVIÇO
B9: Muro | E9: =14.05-2.6 -> 11.45 | F9: 0.15 | G9: 2.1 | I9: =E9*F9*G9 -> 3.60675 | J9: =I9 -> 3.60675
B10: Paredes garagem | E10: =10.15+3.66 -> 13.81 | F10: 0.15 | G10: 2.2 | I10: =E10*F10*G10 -> 4.5573 | J10: =I10 -> 4.5573
I11: Total | J11: =SUM(J9:J10) -> 8.16405
A13: 1.1.2 | B13: Demolição manual de concreto simples (EMOP 05.001.001) | C13: m3 | D13: Qnt | E13: C (m) | F13: L (m) | G13: H (m) | H13: A(m2) | I13: V(m3) | J13: QUANT. DO SERVIÇO
B14: Calçada | E14: 16.85 | F14: 1.53 | G14: 0.15 | I14: =E14*F14*G14 -> 3.867075 | J14: =I14 -> 3.867075
B15: Meio-fio | E15: 21.77 | F15: 0.12 | G15: 0.15 | I15: =E15*F15*G15 -> 0.39186 | J15: =I15 -> 0.39186
B16: Piso garagem | E16: 10.15 | F16: 3.66 | G16: 0.15 | I16: =E16*F16*G16 -> 5.57235 | J16: =I16 -> 5.57235
I17: Total | J17: =SUM(J14:J16) -> 9.831285
A19: 1.1.3 | B19: Retirada de grades, gradis, alambrados, cercas e portões | C19: m2 | D19: Qnt | E19: C (m) | F19: L (m) | G19: H (m) | H19: A(m2) | I19: V(m3) | J19: QUANT. DO SERVIÇO
B20: Portões ferro | E20: =4.6+3.2+3.8+5.85+3.5 -> 20.95 | G20: 2.1 | H20: =E20*G20 -> 43.995 | J20: =H20 -> 43.995
B21: Portão garagem | E21: 2.6 | G21: 2.1 | H21: =E21*G21 -> 5.46 | J21: =H21 -> 5.46
B22: Portão pedestres garagem | E22: 0.8 | G22: 2.1 | H22: =E22*G22 -> 1.68 | J22: =H22 -> 1.68
I23: Total | J23: =SUM(J20:J22) -> 51.135
A25: 1.1.4 | B25: Remoção de telhas cerâmicas, tipo colonial, inclusive cumeeiras | C25: m2 | D25: Qnt | E25: C (m) | F25: L (m) | G25: H (m) | H25: A(m2) | I25: V(m3) | J25: QUANT. DO SERVIÇO
B26: Cobertura garagem | E26: 10.55 | F26: 4.06 | H26: =E26*F26 -> 42.833 | J26: =H26 -> 42.833
I27: Total | J27: =SUM(J26) -> 42.833
A29: 1.1.5 | B29: Demolição de estrutura de madeira para telhado | C29: m2 | D29: Qnt | E29: C (m) | F29: L (m) | G29: H (m) | H29: A(m2) | I29: V(m3) | J29: QUANT. DO SERVIÇO
B30: Cobertura garagem | E30: 10.55 | F30: 4.06 | H30: =E30*F30 -> 42.833 | J30: =H30 -> 42.833
I31: Total | J31: =SUM(J30) -> 42.833
A33: 1.2 | B33: LIMPEZA DO TERRENO
A34: 1.2.1 | B34: Corte de capoeira fina, a foice (manual) | C34: m2 | D34: Qnt | E34: C (m) | F34: L (m) | G34: H (m) | H34: A(m2) | I34: V(m3) | J34: QUANT. DO SERVIÇO
B35: Área do terreno | H35: 336.27 | J35: =H35 -> 336.27
I36: Total | J36: =SUM(J35) -> 336.27
A38: 1.2.2 | B38: Raspagem e limpeza do terreno (manual) | C38: m2 | D38: Qnt | E38: C (m) | F38: L (m) | G38: H (m) | H38: A(m2) | I38: V(m3) | J38: QUANT. DO SERVIÇO
B39: Área do terreno | H39: 336.27 | J39: =H39 -> 336.27
I40: Total | J40: =SUM(J39) -> 336.27
A42: 1.2.3 | B42: Corte e destocamento de árvores com diâmetro de até 15 cm | C42: und | D42: Qnt | E42: C (m) | F42: L (m) | G42: H (m) | H42: A(m2) | I42: V(m3) | J42: QUANT. DO SERVIÇO
D43: 7 | J43: =D43 -> 7
I44: Total | J44: =SUM(J43) -> 7
A46: 1.2.4 | B46: Corte e destocamento de árvores com diâmetro superior a 30 cm | C46: und | D46: Qnt | E46: C (m) | F46: L (m) | G46: H (m) | H46: A(m2) | I46: V(m3) | J46: QUANT. DO SERVIÇO
D47: 22 | J47: =D47 -> 22
I48: Total | J48: =SUM(J47) -> 22
...

Sheet CRONOGRAMA
B1: PREFEITURA MUNICIPAL DE JOÃO NEIVA
B2: PLANILHA ORÇAMENTÁRIA
B3: OBRA: CONSTRUÇÃO DO CRAS NO MUNICÍPIO DE JOÃO NEIVA | E3: L. SOCIAIS: | F3: 1.5727 | G3: TABELA DE REFERÊNCIA: DER/ES
B4: LOCAL: JOÃO NEIVA-ES | E4: BDI: | F4: 0.3196 | H4: DATA-BASE: | I4: ABR/21
B5: ORÇAMENTISTA: JEFYSON SILVA LOUREIRO - ENGENHEIRO CIVIL - CREA/ES 0047233/D
A6: ITEM | B6: ETAPAS | C6: VALORES | E6: PERÍODO (MESES)
E7: 1 | F7: 2 | G7: 3 | H7: 4 | I7: 5 | J7: 6 | K7: 7 | L7: 8 | M7: 9 | N7: 10 | O7: 11 | P7: 12
A8: 01 | B8: ='PLANILHA ORÇAMENTÁRIA'!D8 -> SERVIÇOS PRELIMINARES | C8: Físico (%) | D8: =D9/$D$50 -> 0.010166404 | E8: =E9/$D$9 -> 1 | Q8: =SUM(E8:P8) -> 1
C9: Financeiro (R$) | D9: ='PLANILHA ORÇAMENTÁRIA'!I22 -> 13389.2 | E9: =D9 -> 13389.2 | Q9: =SUM(E9:P9) -> 13389.2
A10: 02 | B10: ='PLANILHA ORÇAMENTÁRIA'!D23 -> INSTALAÇÃO DO CANTEIRO DE OBRAS | C10: Físico (%) | D10: =D11/$D$50 -> 0.061563645 | E10: =E11/$D$11 -> 0.5 | F10: =F11/$D$11 -> 0.5 | Q10: =SUM(E10:P10) -> 1
C11: Financeiro (R$) | D11: ='PLANILHA ORÇAMENTÁRIA'!I39 -> 81079.6 | E11: =D11/2 -> 40539.8 | F11: =D11/2 -> 40539.8 | Q11: =SUM(E11:P11) -> 81079.6
A12: 03 | B12: ='PLANILHA ORÇAMENTÁRIA'!D40 -> MOVIMENTO DE TERRA | C12: Físico (%) | D12: =D13/$D$50 -> 0.036756161 | F12: =F13/$D$13 -> 0.8 | G12: =G13/$D$13 -> 0.2 | Q12: =SUM(E12:P12) -> 1
C13: Financeiro (R$) | D13: ='PLANILHA ORÇAMENTÁRIA'!I48 -> 48408.03 | F13: =D13*0.8 -> 38726.424 | G13: =D13-F13 -> 9681.606 | Q13: =SUM(E13:P13) -> 48408.03
A14: 04 | B14: ='PLANILHA ORÇAMENTÁRIA'!D49 -> ESTRUTURAS | C14: Físico (%) | D14: =D15/$D$50 -> 0.17364153 | F14: =F15/$D$15 -> 0.2 | G14: =G15/$D$15 -> 0.2 | H14: =H15/$D$15 -> 0.2 | I14: =I15/$D$15 -> 0.2 | J14: =J15/$D$15 -> 0.2 | Q14: =SUM(E14:P14) -> 1
C15: Financeiro (R$) | D15: ='PLANILHA ORÇAMENTÁRIA'!I65 -> 228686.68 | E15: 0 | F15: =D15/5 -> 45737.336 | G15: =D15/5 -> 45737.336 | H15: =D15/5 -> 45737.336 | I15: =D15/5 -> 45737.336 | J15: =D15/5 -> 45737.336 | Q15: =SUM(E15:P15) -> 228686.68
A16: 05 | B16: ='PLANILHA ORÇAMENTÁRIA'!D66 -> PAREDES E PAINÉIS | C16: Físico (%) | D16: =D17/$D$50 -> 0.041545818 | I16: =I17/$D$17 -> 0.25 | J16: =J17/$D$17 -> 0.25 | K16: =K17/$D$17 -> 0.5 | Q16: =SUM(E16:P16) -> 1
C17: Financeiro (R$) | D17: ='PLANILHA ORÇAMENTÁRIA'!I75 -> 54716.03 | E17: 0 | I17: =D17/4 -> 13679.008 | J17: =D17/4 -> 13679.008 | K17: =D17*0.5 -> 27358.015 | Q17: =SUM(E17:P17) -> 54716.03
A18: 06 | B18: ='PLANILHA ORÇAMENTÁRIA'!D76 -> ESQUADRIAS DE MADEIRA | C18: Físico (%) | D18: =D19/$D$50 -> 0.028683257 | L18: =L19/$D$19 -> 0.3 | M18: =M19/$D$19 -> 0.7 | Q18: =SUM(E18:P18) -> 1
C19: Financeiro (R$) | D19: ='PLANILHA ORÇAMENTÁRIA'!I85 -> 37775.98 | E19: 0 | L19: =D19*0.3 -> 11332.794 | M19: =D19*0.7 -> 26443.186 | Q19: =SUM(E19:P19) -> 37775.98
A20: 07 | B20: ='PLANILHA ORÇAMENTÁRIA'!D86 -> ESQUADRIAS METÁLICAS | C20: Físico (%) | D20: =D21/$D$50 -> 0.073608752 | M20: =M21/$D$21 -> 0.5 | N20: =N21/$D$21 -> 0.5 | Q20: =SUM(E20:P20) -> 1
C21: Financeiro (R$) | D21: ='PLANILHA ORÇAMENTÁRIA'!I94 -> 96943.06 | M21: =D21/2 -> 48471.53 | N21: =D21-M21 -> 48471.53 | Q21: =SUM(E21:P21) -> 96943.06
A22: 08 | B22: ='PLANILHA ORÇAMENTÁRIA'!D95 -> VIDROS E ESPELHOS | C22: Físico (%) | D22: =D23/$D$50 -> 0.01495745 | M22: =M23/D23 -> 0.9 | O22: =O23/D23 -> 0.1 | Q22: =SUM(E22:P22) -> 1
C23: Financeiro (R$) | D23: ='PLANILHA ORÇAMENTÁRIA'!I100 -> 19699.03 | E23: 0 | M23: =D23*0.9 -> 17729.127 | O23: =D23-M23 -> 1969.903 | Q23: =SUM(E23:P23) -> 19699.03
A24: 09 | B24: ='PLANILHA ORÇAMENTÁRIA'!D101 -> COBERTURA | C24: Físico (%) | D24: =D25/$D$50 -> 0.045352426 | L24: =L25/D25 -> 1 | Q24: =SUM(E24:P24) -> 1
C25: Financeiro (R$) | D25: ='PLANILHA ORÇAMENTÁRIA'!I110 -> 59729.35 | E25: 0 | L25: =D25 -> 59729.35 | Q25: =SUM(E25:P25) -> 59729.35
A26: 10 | B26: ='PLANILHA ORÇAMENTÁRIA'!D111 -> IMPERMEABILIZAÇÃO | C26: Físico (%) | D26: =D27/$D$50 -> 0.025578006 | F26: =F27/$D$27 -> 0.35 | G26: =G27/$D$27 -> 0.35 | K26: =K27/$D$27 -> 0.3 | Q26: =SUM(E26:P26) -> 1
C27: Financeiro (R$) | D27: ='PLANILHA ORÇAMENTÁRIA'!I115 -> 33686.35 | E27: 0 | F27: =D27*0.35 -> 11790.222 | G27: =D27*0.35 -> 11790.222 | K27: =D27*0.3 -> 10105.905 | Q27: =SUM(E27:P27) -> 33686.35
A28: 11 | B28: ='PLANILHA ORÇAMENTÁRIA'!D116 -> TETOS E FORROS | C28: Físico (%) | D28: =D29/$D$50 -> 0.0092342583 | M28: =M29/D29 -> 1 | Q28: =SUM(E28:P28) -> 1
C29: Financeiro (R$) | D29: ='PLANILHA ORÇAMENTÁRIA'!I119 -> 12161.56 | E29: 0 | M29: =D29 -> 12161.56 | Q29: =SUM(E29:P29) -> 12161.56
A30: 12 | B30: ='PLANILHA ORÇAMENTÁRIA'!D120 -> REVESTIMENTO DE PAREDES | C30: Físico (%) | D30: =D31/$D$50 -> 0.074670024 | K30: =K31/D31 -> 0.5 | L30: =L31/D31 -> 0.5 | Q30: =SUM(E30:P30) -> 1
C31: Financeiro (R$) | D31: ='PLANILHA ORÇAMENTÁRIA'!I127 -> 98340.76 | E31: 0 | K31: =D31*0.5 -> 49170.38 | L31: =D31*0.5 -> 49170.38 | Q31: =SUM(E31:P31) -> 98340.76
A32: 13 | B32: ='PLANILHA ORÇAMENTÁRIA'!D128 -> PISOS INTERNOS E EXTERNOS | C32: Físico (%) | D32: =D33/$D$50 -> 0.087983289 | F32: =F33/D33 -> 0.15 | L32: =L33/D33 -> 0.6 | M32: =M33/D33 -> 0.25 | Q32: =SUM(E32:P32) -> 1
C33: Financeiro (R$) | D33: ='PLANILHA ORÇAMENTÁRIA'!I142 -> 115874.39 | F33: =D33*0.15 -> 17381.158 | L33: =D33*0.6 -> 69524.634 | M33: =D33*0.25 -> 28968.597 | Q33: =SUM(E33:P33) -> 115874.39
A34: 14 | B34: ='PLANILHA ORÇAMENTÁRIA'!D143 -> INSTALAÇÕES HIDRO-SANITÁRIAS | C34: Físico (%) | D34: =D35/$D$50 -> 0.018512974 | J34: =J35/D35 -> 0.5 | K34: =K35/D35 -> 0.5 | Q34: =SUM(E34:P34) -> 1
C35: Financeiro (R$) | D35: ='PLANILHA ORÇAMENTÁRIA'!I169 -> 24381.67 | J35: =D35*0.5 -> 12190.835 | K35: =J35 -> 12190.835 | Q35: =SUM(E35:P35) -> 24381.67
A36: 15 | B36: ='PLANILHA ORÇAMENTÁRIA'!D170 -> INSTALAÇÕES ELÉTRICAS | C36: Físico (%) | D36: =D37/$D$50 -> 0.042427234 | L36: =L37/D37 -> 0.5 | M36: =M37/D37 -> 0.5 | Q36: =SUM(E36:P36) -> 1
C37: Financeiro (R$) | D37: ='PLANILHA ORÇAMENTÁRIA'!I202 -> 55876.86 | L37: =D37*0.5 -> 27938.43 | M37: =L37 -> 27938.43 | Q37: =SUM(E37:P37) -> 55876.86
A38: 16 | B38: ='PLANILHA ORÇAMENTÁRIA'!D203 -> OUTRAS INSTALAÇÕES | C38: Físico (%) | D38: =D39/$D$50 -> 0.0047135905 | N38: =N39/D39 -> 1 | Q38: =SUM(E38:P38) -> 1
C39: Financeiro (R$) | D39: ='PLANILHA ORÇAMENTÁRIA'!I215 -> 6207.82 | N39: =D39 -> 6207.82 | Q39: =SUM(E39:P39) -> 6207.82
A40: 17 | B40: ='PLANILHA ORÇAMENTÁRIA'!D216 -> APARELHOS HIDRO-SANITÁRIOS | C40: Físico (%) | D40: =D41/$D$50 -> 0.019341528 | N40: =N41/D41 -> 1 | Q40: =SUM(E40:P40) -> 1
...

Sheet BDI
C2: PREFEITURA MUNICIPAL DE JOÃO NEIVA
C3: COMPOSIÇÃO BDI
C4: OBRA: CONSTRUÇÃO DO CRAS NO MUNICÍPIO DE JOÃO NEIVA | F4: L. SOCIAIS: | G4: 1.5727 | H4: TABELA DE REFERÊNCIA: DER/ES
C5: LOCAL: JOÃO NEIVA-ES | F5: BDI: | G5: 0.3196 | H5: DATA-BASE: | J5: ABR/21
C6: ORÇAMENTISTA: JEFYSON SILVA LOUREIRO - ENGENHEIRO CIVIL - CREA/ES 0047233/D
E8: Para Serviços
C9: GRUPO A
C10: Administração Central | E10: 0.0406
C11: Total Grupo A | E11: =E10 -> 0.0406
C12: GRUPO B
C13: Administração Local | E13: 0.0588
C14: Total Grupo B | E14: =E13 -> 0.0588
C15: GRUPO C
C16: Impostos/Tributos
C17: ISS | E17: 0.05
C18: PIS | E18: 0.0065
C19: COFINS | E19: 0.03
C20: CPRB | E20: 0
C21: Total Grupo C | E21: =SUM(E17:E20) -> 0.0865
C22: GRUPO D
C23: Custos Financeiros | E23: 0.0061
C24: Total Grupo D | E24: =E23 -> 0.0061
C25: GRUPO E
C26: Seguros / Garantia | E26: 0.005
C27: Riscos | E27: 0.005
C28: Total Grupo E | E28: =SUM(E26:E27) -> 0.01
C29: GRUPO F
C30: Lucro | E30: 0.08
C31: Total Grupo F | E31: =E30 -> 0.08
C33: BDI Total | E33: =(((1+E24)*(1+E11+E14+E28)*(1+E31)/(1-E21))-1) -> 0.31960671
B35: OBS:
B37: 1 | C37: - A fórmula para cálculo da taxa a ser acrescida aos custos diretos de um
C38: empreendimento a título de Benefícios e Despesas Indiretas é:
C39: BDI = {(1 + D)*(1 + A+B+E)*(1 + F)} -1, onde:
C40: (1 – C)
C41: A = ADMINISTRAÇÃO CENTRAL;
C42: B = ADMINISTRAÇÃO LOCAL;
C43: C = ISS + PIS + COFINS+INSS;
C44: D = CUSTOS FINANCEIROS;
C45: E = RISCOS, SEGUROS E GARANTIAS;
...

Sheet LS
C2: PREFEITURA MUNICIPAL DE JOÃO NEIVA
C3: COMPOSIÇÃO LEIS SOCIAIS
C4: OBRA: CONSTRUÇÃO DO CRAS NO MUNICÍPIO DE JOÃO NEIVA
C5: LOCAL: JOÃO NEIVA-ES
B7: GRUPO A - Encargos Sociais Básicos | E7: % IOPES
B8: A.1 | C8: INSS (Art. 22 da Lei 8.212/91) | E8: 0.2
B9: A.2 | C9: FGTS (Art. 27 do Decreto 99.684/90) | E9: 0.08
B10: A.3 | C10: SESI/SESC (Lei 8.029/90 e Lei 8.036/90) | E10: 0.018
B11: A.4 | C11: SENAI/SENAC (Lei 8.029/90 e Decreto-Lei 6246/44) | E11: 0.013
B12: A.5 | C12: SEBRAE (já considerado no item A.3 e A.4) | E12: -
B13: A.6 | C13: INCRA (Lei 2.613/55 e Decreto 1.146/70) | E13: 0.002
B14: A.7 | C14: SALÁRIO-EDUCAÇÃO (Decreto 87.043/82) | E14: 0.025
B15: A.8 | C15: SEGURO ACIDENTE DO TRABALHO (Lei 8.212/91 e Decreto 3.048/99) | E15: 0.03
B16: A.9 | C16: SECONCI/Medicina do Trabalho | E16: 0.01
B17: TOTAL GRUPO A | E17: =SUM(E8:E16) -> 0.378
B18: GRUPO B - Encargos Sociais que recebem a incidência do grupo A | E18: % IOPES
B19: B.1 | C19: Descanso Semanal Remunerado (Art. 66 da CLT e Art. 7º da CF/88) | E19: 0.1752
B20: B.2 | C20: Feriados (Art. 70 da CLT e Lei 605/49) | E20: 0.0391
B21: B.3 | C21: Auxílio doença e acidente do trabalho (Lei 3.607/60 e Art. 131 da CLT) | E21: 0.0076
B22: B.4 | C22: Licença Paternidade (Art. 7º da CF/88) | E22: 0.0011
B23: B.5 | C23: Faltas Legais (Art. 473 da CLT) | E23: 0.0067
B24: B.6 | C24: 13º Salário (Lei nº 4090/62) | E24: 0.1011
B25: B.7 | C25: Aviso Prévio Trabalhado (Art. 7º, inciso XXI da CF/88) | E25: 0.0034
B26: B.8 | C26: Dias de Chuvas | E26: -
B27: B.9 | C27: Férias Gozadas | E27: -
B28: B.10 | C28: Salário Maternidade | E28: -
B29: B.11 | C29: Auxílio - Enfermidade | E29: -
B30: TOTAL GRUPO B | E30: =SUM(E19:E29) -> 0.3342
B31: GRUPO C - Encargos Sociais que não recebem a incidência do grupo A | E31: % IOPES
B32: C.1 | C32: Dispensa sem justa causa (LC 110/01) | E32: 0.0534
B33: C.2 | C33: Férias indenizadas (Art. 129 a 148 da CLT) | E33: 0.112
B34: C.3 | C34: Aviso prévio indenizado (Art. 7º, inciso XXI da CF/88) | E34: 0.1129
B35: C.4 | C35: FGTS sobre aviso prévio indenizado (Súmula 305 TST) | E35: 0.009
B36: C.5 | C36: INSS sobre aviso prévio indenizado (Decreto 6.727/09) | E36: 0.0226
B37: C.6 | C37: Aviso prévio trabalhado | E37: -
B38: C.7 | C38: Indenização Adicional | E38: -
B39: TOTAL GRUPO C | E39: =SUM(E32:E38) -> 0.3099
B40: GRUPO D - Reincidência dos encargos sociais básicos | E40: % IOPES
B41: D.1 | C41: Incidência do grupo A sobre o grupo B | E41: =E17*E30 -> 0.1263276
B42: D.2 | C42: Reincidência de Grupo A sobre Aviso Prévio Trabalho e Reincidência do FGTS sobre Aviso Prévio Indenizado | E42: -
...

Sheet COMP-01
A1: COMPOSIÇÃO ANALÍTICA DE PREÇO UNITÁRIO | I1: Data-base
I3: 44287
I4: COMP-01
A5: SERVIÇO: Kit Porta de correr de madeira lisa 90,5 x 213 cm, Natural | I5: UND: und
A7: REFERÊNCIA: DER-ES 061304
A8: MÃO-DE-OBRA
A9: CÓD. | B9: ORGÃO | C9: DESCRIÇÃO | F9: UND | G9: COEF | H9: R$ UNIT. | I9: R$ PARCIAL
A10: 010101 | B10: DER-ES | C10: Ajudante | E10: Encargo: 157,27% | F10: h | G10: 3.75 | H10: 15.08 | I10: =G10*H10 -> 56.55
A11: 010111 | B11: DER-ES | C11: Carpinteiro | E11: Encargo: 157,27% | F11: h | G11: 3.75 | H11: 17.85 | I11: =H11*G11 -> 66.9375
A12: TOTAL A | I12: =I10+I11 -> 123.4875
A14: MATERIAIS/ SERVIÇOS
A15: CÓD. | B15: ORGÃO | C15: DESCRIÇÃO | F15: UND | G15: COEF | H15: R$ UNIT. | I15: R$ PARCIAL
A16: COTAÇÃO 01 | C16: Kit Porta de correr de madeira lisa 90,5 x 213 cm, Natural | F16: und | G16: 1 | H16: =[1]COTAÇÕES!P8 -> 898.77333 | I16: =[1]COTAÇÕES!P8 -> 898.77333
A18: TOTAL B | I18: =SUM(I16:I17) -> 898.77333
A21: EQUIPAMENTOS
C22: DESCRIÇÃO | F22: UND | G22: COEF | H22: R$ UNIT. | I22: R$ PARCIAL
A24: TOTAL C | I24: =I23 -> 0
A26: RESUMO
A27: TOTAL A | I27: =I12 -> 123.4875
A28: TOTAL B | I28: =I18 -> 898.77333
A29: TOTAL C | I29: =I24 -> 0
A30: PREÇO DE VENDA = TOTAL (A+B+C) | I30: =SUM(I27:I28) -> 1022.2608

Sheet COMP-02
A1: COMPOSIÇÃO ANALÍTICA DE PREÇO UNITÁRIO | I1: Data-base
I3: 44287
I4: COMP-02
A5: SERVIÇO: Kit Porta de correr de madeira lisa 100 x 210 cm, Natural | I5: UND: und
A7: REFERÊNCIA: DER-ES 061304
A8: MÃO-DE-OBRA
A9: CÓD. | B9: ORGÃO | C9: DESCRIÇÃO | F9: UND | G9: COEF | H9: R$ UNIT. | I9: R$ PARCIAL
A10: 010101 | B10: DER-ES | C10: Ajudante | E10: Encargo: 157,27% | F10: h | G10: 3.75 | H10: 15.08 | I10: =G10*H10 -> 56.55
A11: 010111 | B11: DER-ES | C11: Carpinteiro | E11: Encargo: 157,27% | F11: h | G11: 3.75 | H11: 17.85 | I11: =H11*G11 -> 66.9375
A12: TOTAL A | I12: =I10+I11 -> 123.4875
A14: MATERIAIS/ SERVIÇOS
A15: CÓD. | B15: ORGÃO | C15: DESCRIÇÃO | F15: UND | G15: COEF | H15: R$ UNIT. | I15: R$ PARCIAL
A16: COTAÇÃO 02 | C16: Kit Porta de correr de madeira lisa 100 x 210 cm, Natural | F16: und | G16: 1 | H16: ='COTAÇÕES '!P9 -> 1564 | I16: =G16*H16 -> 1564
A18: TOTAL B | I18: =SUM(I16:I17) -> 1564
A21: EQUIPAMENTOS
C22: DESCRIÇÃO | F22: UND | G22: COEF | H22: R$ UNIT. | I22: R$ PARCIAL
A24: TOTAL C | I24: =I23 -> 0
A26: RESUMO
A27: TOTAL A | I27: =I12 -> 123.4875
A28: TOTAL B | I28: =I18 -> 1564
A29: TOTAL C | I29: =I24 -> 0
A30: PREÇO DE VENDA = TOTAL (A+B+C) | I30: =SUM(I27:I28) -> 1687.4875

Sheet COMP-03
A1: COMPOSIÇÃO ANALÍTICA DE PREÇO UNITÁRIO | I1: Data-base
I3: 44287
I4: COMP-03
A5: SERVIÇO: Gradil galvanizado revestido com pintura eletrostática na cor branca em poliéster, fixação sobre mureta conforme projeto, exclusive a mureta | I5: UND: und
A7: REFERÊNCIA: DER-ES 200130
A8: MÃO-DE-OBRA
A9: CÓD. | B9: ORGÃO | C9: DESCRIÇÃO | F9: UND | G9: COEF | H9: R$ UNIT. | I9: R$ PARCIAL
A10: 010139 | B10: DER-ES | C10: Pedreiro | E10: Encargo: 157,27% | F10: h | G10: 3.375 | H10: 17.85 | I10: =G10*H10 -> 60.24375
A11: 010146 | B11: DER-ES | C11: Servente | E11: Encargo: 157,27% | F11: h | G11: 3.375 | H11: 13.12 | I11: =G11*H11 -> 44.28
A13: TOTAL A | I13: =SUM(I10:I11) -> 104.52375
A15: MATERIAIS/ SERVIÇOS
A16: CÓD. | B16: ORGÃO | C16: DESCRIÇÃO | F16: UND | G16: COEF | H16: R$ UNIT. | I16: R$ PARCIAL
A17: 020503 | B17: DER-ES | C17: Areia Lavada Média | F17: m3 | G17: 0.009 | H17: 89.67 | I17: =G17*H17 -> 0.80703
A18: 020505 | B18: DER-ES | C18: Cal hidratado p/ argamassa CHIII | F18: kg | G18: 0.64125 | H18: 0.79 | I18: =G18*H18 -> 0.5065875
A19: 020508 | B19: DER-ES | C19: Cimento Portland CPIII-40 | F19: kg | G19: 3.195 | H19: 0.45 | I19: =G19*H19 -> 1.43775
A20: COTAÇÃO 03 | C20: Gradil galvanizado revestido com pintura eletrostática na cor branca em poliéster | F20: unid | G20: 1 | H20: =[1]COTAÇÕES!P9 -> 19440.597 | I20: =G20*H20 -> 19440.597
A22: TOTAL B | I22: =SUM(I17:I21) -> 19443.348
A24: EQUIPAMENTOS
C25: DESCRIÇÃO | F25: UND | G25: COEF | H25: R$ UNIT. | I25: R$ PARCIAL
A28: TOTAL C | I28: =I26 -> 0
A30: RESUMO
A31: TOTAL A | I31: =I13 -> 104.52375
A32: TOTAL B | I32: =I22 -> 19443.348
A33: TOTAL C | I33: =I28 -> 0
A34: PREÇO DE VENDA = TOTAL (A+B+C) | I34: =SUM(I31:I33) -> 19547.872

Sheet COMP-04
A1: COMPOSIÇÃO ANALÍTICA DE PREÇO UNITÁRIO | I1: Data-base
I3: 44287
I4: COMP-04
A5: SERVIÇO: Porta de correr de alumínio, com duas folhas para vidro, incluso vidro liso incolor, fechadura e puxador, sem alizar | I5: UND: m²
A7: REFERÊNCIA: SINAPI 100702
A8: MÃO-DE-OBRA
A9: CÓD. | B9: ORGÃO | C9: DESCRIÇÃO | F9: UND | G9: COEF | H9: R$ UNIT. | I9: R$ PARCIAL
A10: 88309 | B10: SINAPI | C10: PEDREIRO COM ENCARGOS COMPLEMENTARES | E10: Encargo: 157,27% | F10: h | G10: 0.282 | H10: =(20.93/1.8674)*2.5727 -> 28.835071 | I10: =G10*H10 -> 8.1314899
A11: 88316 | B11: SINAPI | C11: SERVENTE COM ENCARGOS COMPLEMENTARES | E11: Encargo: 157,27% | F11: h | G11: 0.141 | H11: =(14.98/1.8674)*2.5727 -> 20.63781 | I11: =H11*G11 -> 2.9099312
A12: TOTAL A | I12: =I10+I11 -> 11.041421
A14: MATERIAIS/ SERVIÇOS
A15: CÓD. | B15: ORGÃO | C15: DESCRIÇÃO | F15: UND | G15: COEF | H15: R$ UNIT. | I15: R$ PARCIAL
A16: 142 | B16: SINAPI | C16: SELANTE ELASTICO MONOCOMPONENTE A BASE DE POLIURETANO (PU) PARA JUNTAS DIVERSAS 310ML | F16: 310ML | G16: 0.0637 | H16: 26.37 | I16: =H16*G16 -> 1.679769
A17: 4922 | B17: SINAPI | C17: PORTA DE CORRER EM ALUMINIO, DUAS FOLHAS MOVEIS COM VIDRO, FECHADURA E PUXADOR EMBUTIDO, ACABAMENTO ANODIZADO NATURAL, SEM GUARNICAO/ALIZAR/VISTA | F17: M2 | G17: 1 | H17: 365.62 | I17: =H17*G17 -> 365.62
A18: 7568 | B18: SINAPI | C18: BUCHA DE NYLON SEM ABA S10, COM PARAFUSO DE 6,10 X 65 MM EM ACO ZINCADO COM ROSCA SOBERBA, CABECA CHATA E FENDA PHILLIPS | F18: UND | G18: 4.72 | H18: 0.49 | I18: =H18*G18 -> 2.3128
A19: 36888 | B19: SINAPI | C19: GUARNICAO/MOLDURA DE ACABAMENTO PARA ESQUADRIA DE ALUMINIO ANODIZADO NATURAL, PARA 1 FACE | F19: M | G19: 2.202 | H19: 16.89 | I19: =H19*G19 -> 37.19178
A20: TOTAL B | I20: =SUM(I16:I19) -> 406.80435
A23: EQUIPAMENTOS
C24: DESCRIÇÃO | F24: UND | G24: COEF | H24: R$ UNIT. | I24: R$ PARCIAL
A26: TOTAL C | I26: =I25 -> 0
A28: RESUMO
A29: TOTAL A | I29: =I12 -> 11.041421
A30: TOTAL B | I30: =I20 -> 406.80435
A31: TOTAL C | I31: =I26 -> 0
A32: PREÇO DE VENDA = TOTAL (A+B+C) | I32: =SUM(I29:I30) -> 417.84577

Sheet COMP-05
A1: COMPOSIÇÃO ANALÍTICA DE PREÇO UNITÁRIO | I1: Data-base
I3: 44287
I4: COMP-05
A5: SERVIÇO: Cobertura em tela sombreiro com estrutura metálica | I5: UND: und
A7: REFERÊNCIA: DER-ES 200130
A8: MÃO-DE-OBRA
A9: CÓD. | B9: ORGÃO | C9: DESCRIÇÃO | F9: UND | G9: COEF | H9: R$ UNIT. | I9: R$ PARCIAL
A10: 010139 | B10: DER-ES | C10: Pedreiro | E10: Encargo: 157,27% | F10: h | G10: 3.375 | H10: 17.85 | I10: =G10*H10 -> 60.24375
A11: 010146 | B11: DER-ES | C11: Servente | E11: Encargo: 157,27% | F11: h | G11: 3.375 | H11: 13.12 | I11: =G11*H11 -> 44.28
A12: TOTAL A | I12: =SUM(I10:I11) -> 104.52375
A14: MATERIAIS/ SERVIÇOS
A15: CÓD. | B15: ORGÃO | C15: DESCRIÇÃO | F15: UND | G15: COEF | H15: R$ UNIT. | I15: R$ PARCIAL
A16: 020503 | B16: DER-ES | C16: Areia Lavada Média | F16: m3 | G16: 0.009 | H16: 89.67 | I16: =G16*H16 -> 0.80703
A17: 020505 | B17: DER-ES | C17: Cal hidratado p/ argamassa CHIII | F17: kg | G17: 0.64125 | H17: 0.79 | I17: =G17*H17 -> 0.5065875
A18: 020508 | B18: DER-ES | C18: Cimento Portland CPIII-40 | F18: kg | G18: 3.195 | H18: 0.45 | I18: =G18*H18 -> 1.43775
A19: COTAÇÃO 04 | C19: Cobertura em tela sombreiro com estrutura metálica | F19: und | G19: 1 | H19: =[1]COTAÇÕES!P10 -> 7766.6667 | I19: =G19*H19 -> 7766.6667
A21: TOTAL B | I21: =SUM(I16:I19) -> 7769.418
A23: EQUIPAMENTOS
C24: DESCRIÇÃO | F24: UND | G24: COEF | H24: R$ UNIT. | I24: R$ PARCIAL
A27: TOTAL C | I27: =I25 -> 0
A29: RESUMO
A30: TOTAL A | I30: =I12 -> 104.52375
A31: TOTAL B | I31: =I21 -> 7769.418
A32: TOTAL C | I32: =I22 -> 0
A33: PREÇO DE VENDA = TOTAL (A+B+C) | I33: =SUM(I30:I31) -> 7873.9418

Sheet COMP-06
A1: COMPOSIÇÃO ANALÍTICA DE PREÇO UNITÁRIO | I1: Data-base
I3: 44287
I4: COMP-06
A5: SERVIÇO: Platibanda de alvenaria de bloco cerâmico 10x20x20cm, assentado com argamassa de cimento, cal hidratada CH1 e areia no traço 1:0,5:8, amarrada com pilaretes em conc. arm. a cada 2m, excl. revest. | I5: UND: m²
A7: REFERÊNCIA: DER-ES 090403
A8: MÃO-DE-OBRA
A9: CÓD. | B9: ORGÃO | C9: DESCRIÇÃO | F9: UND | G9: COEF | H9: R$ UNIT. | I9: R$ PARCIAL
A10: 010101 | B10: DER-ES | C10: Ajudante | E10: Encargo: 157,27% | F10: h | G10: 0.412 | H10: 15.08 | I10: =G10*H10 -> 6.21296
A11: 010121 | B11: DER-ES | C11: Armador | E11: Encargo: 157,27% | F11: h | G11: 0.152 | H11: 17.85 | I11: =G11*H11 -> 2.7132
A12: 010111 | B12: DER-ES | C12: Carpinteiro | E12: Encargo: 157,27% | F12: h | G12: 0.26 | H12: 17.85 | I12: =G12*H12 -> 4.641
A13: 010139 | B13: DER-ES | C13: Pedreiro | E13: Encargo: 157,27% | F13: h | G13: 1.02 | H13: 17.85 | I13: =G13*H13 -> 18.207
A14: 010146 | B14: DER-ES | C14: Servente | E14: Encargo: 157,27% | F14: h | G14: 1.24 | H14: 13.12 | I14: =H14*G14 -> 16.2688
A15: TOTAL A | I15: =I10+I11+I12+I13+I14 -> 48.04296
A17: MATERIAIS/ SERVIÇOS
A18: CÓD. | B18: ORGÃO | C18: DESCRIÇÃO | F18: UND | G18: COEF | H18: R$ UNIT. | I18: R$ PARCIAL
A19: 021517 | B19: DER-ES | C19: Aço CA-50 de 8.0 mm | F19: kg | G19: 2.185 | H19: 9.13 | I19: =H19*G19 -> 19.94905
A20: 027010 | B20: DER-ES | C20: Arame recozido n.18 BWG | F20: kg | G20: 0.038 | H20: 21.8 | I20: =H20*G20 -> 0.8284
A21: 020503 | B21: DER-ES | C21: Areia lavada média | F21: m³ | G21: 0.02036 | H21: 89.67 | I21: =H21*G21 -> 1.8256812
A22: 022585 | B22: DER-ES | C22: Bloco cerâmico 10 furos 09x19x19 cm | F22: und | G22: 25 | H22: 1.01 | I22: =H22*G22 -> 25.25
A23: 020517 | B23: DER-ES | C23: Brita 01 | F23: m³ | G23: 0.0026 | H23: 95.3 | I23: =H23*G23 -> 0.24778
A24: 020518 | B24: DER-ES | C24: Brita 02 | F24: m³ | G24: 0.0062 | H24: 95.3 | I24: =H24*G24 -> 0.59086
A25: 020505 | B25: DER-ES | C25: Cal Hidratado p/ argamassa CH III | F25: kg | G25: 0.5284 | H25: 0.79 | I25: =H25*G25 -> 0.417436
A26: 020508 | B26: DER-ES | C26: Cimento Portland CP III - 40 | F26: kg | G26: 5.442 | H26: 0.45 | I26: =H26*G26 -> 2.4489
A27: 028008 | B27: DER-ES | C27: Desmoldante para formas | F27: l | G27: 0.08 | H27: 10.14 | I27: =H27*G27 -> 0.8112
A28: 026569 | B28: DER-ES | C28: Prego 18x27 | F28: kg | G28: 0.03 | H28: 16.88 | I28: =H28*G28 -> 0.5064
A29: 020985 | B29: DER-ES | C29: Sarrafo de madeira pinus 10x2,5 cm | F29: m | G29: 0.1 | H29: 6.42 | I29: =H29*G29 -> 0.642
A30: 020988 | B30: DER-ES | C30: Tábua de madeira pinus 30x2,5 cm | F30: m | G30: 0.2 | H30: 13.72 | I30: =H30*G30 -> 2.744
A32: TOTAL B | I32: =SUM(I19:I31) -> 56.261707
A34: EQUIPAMENTOS
C35: DESCRIÇÃO | F35: UND | G35: COEF | H35: R$ UNIT. | I35: R$ PARCIAL
A36: 080125 | B36: DER-ES | C36: Betoneira 320L | F36: h | G36: 0.0071 | H36: 31.22 | I36: =H36*G36 -> 0.221662
A38: TOTAL C | I38: =I36 -> 0.221662
A40: RESUMO
A41: TOTAL A | I41: =I15 -> 48.04296
A42: TOTAL B | I42: =I32 -> 56.261707
A43: TOTAL C | I43: =I38 -> 0.221662
A44: PREÇO DE VENDA = TOTAL (A+B+C) | I44: =SUM(I41:I43) -> 104.52633

Sheet COMP-07
A1: COMPOSIÇÃO ANALÍTICA DE PREÇO UNITÁRIO | I1: Data-base
I3: 44287
I4: COMP-07
A5: SERVIÇO: Piso em granito preto São Gabriel, acabamento polido, com ranhuras antiderrapantes assentado com argamassa de cimento colante, inclusive rejuntamento | I5: UND: m2
A7: REFERÊNCIA: DER-ES 130219
A8: MÃO-DE-OBRA
A9: CÓD. | B9: ORGÃO | C9: DESCRIÇÃO | F9: UND | G9: COEF | H9: R$ UNIT. | I9: R$ PARCIAL
A10: 010124 | B10: DER-ES | C10: GRANITEIRO/MARMORISTA (OFICIAL - SINDUSCON) (LABOR) | E10: Encargo: 157,27% | F10: h | G10: 0.55 | H10: 17.85 | I10: =G10*H10 -> 9.8175
A11: 010146 | B11: DER-ES | C11: Servente | E11: Encargo: 157,27% | F11: h | G11: 0.42 | H11: 13.12 | I11: =G11*H11 -> 5.5104
A13: TOTAL A | I13: =I10+I11 -> 15.3279
A15: MATERIAIS/ SERVIÇOS
A16: CÓD. | B16: ORGÃO | C16: DESCRIÇÃO | F16: UND | G16: COEF | H16: R$ UNIT. | I16: R$ PARCIAL
A17: 020509 | B17: DER-ES | C17: Cimento Branco não estrututral | F17: kg | G17: 0.334 | H17: 3.86 | I17: =G17*H17 -> 1.28924
A18: 020510 | B18: DER-ES | C18: Cimento colante industrializado ACI | F18: kg | G18: 7.5 | H18: 0.7 | I18: =G18*H18 -> 5.25
A19: COTAÇÃO 05 | C19: Granito Preto São Gabriel | F19: m2 | G19: 1 | H19: =[1]COTAÇÕES!P11 -> 316.66667 | I19: =G19*H19 -> 316.66667
A21: TOTAL B | I21: =SUM(I17:I20) -> 323.20591
A23: EQUIPAMENTOS
C24: DESCRIÇÃO | F24: UND | G24: COEF | H24: R$ UNIT. | I24: R$ PARCIAL
A27: TOTAL C | I27: =I25 -> 0
A29: RESUMO
A30: TOTAL A | I30: =I13 -> 15.3279
A31: TOTAL B | I31: =I21 -> 323.20591
A32: TOTAL C | I32: =I27 -> 0
A33: PREÇO DE VENDA = TOTAL (A+B+C) | I33: =SUM(I30:I32) -> 338.53381

Sheet COMP-08
A1: COMPOSIÇÃO ANALÍTICA DE PREÇO UNITÁRIO | I1: Data-base
I3: 44287
I4: COMP-08
A5: SERVIÇO: Peitoril de granito cinza polido, 19 cm, esp. 3cm | I5: UND: M
A7: REFERÊNCIA: DER-ES 130317
A8: MÃO-DE-OBRA
A9: CÓD. | B9: ORGÃO | C9: DESCRIÇÃO | F9: UND | G9: COEF | H9: R$ UNIT. | I9: R$ PARCIAL
A10: 010139 | B10: DER-ES | C10: Pedreiro | E10: Encargo: 157,27% | F10: h | G10: 0.84 | H10: 17.85 | I10: =G10*H10 -> 14.994
A11: 010146 | B11: DER-ES | C11: Servente | E11: Encargo: 157,27% | F11: h | G11: 0.91 | H11: 13.12 | I11: =H11*G11 -> 11.9392
A12: TOTAL A | I12: =I10+I11 -> 26.9332
A14: MATERIAIS/ SERVIÇOS
A15: CÓD. | B15: ORGÃO | C15: DESCRIÇÃO | F15: UND | G15: COEF | H15: R$ UNIT. | I15: R$ PARCIAL
A16: 020503 | B16: DER-ES | C16: Areia lavada média | F16: m³ | G16: 0.00861 | H16: 89.67 | I16: =H16*G16 -> 0.7720587
A17: 020505 | B17: DER-ES | C17: Cal Hidratado p/ argamassa CH III | F17: kg | G17: 1.274 | H17: 0.79 | I17: =H17*G17 -> 1.00646
A18: 020508 | B18: DER-ES | C18: Cimento Portland CP III - 40 | F18: kg | G18: 2.562 | H18: 0.45 | I18: =H18*G18 -> 1.1529
A19: 023522 | B19: DER-ES | C19: Granito Cinza Andorinha E = 3cm polido dos dois lados | F19: m² | G19: 0.19 | H19: 274.62 | I19: =G19*H19 -> 52.1778
A21: TOTAL B | I21: =SUM(I16:I20) -> 55.109219
A24: EQUIPAMENTOS
C25: DESCRIÇÃO | F25: UND | G25: COEF | H25: R$ UNIT. | I25: R$ PARCIAL
A27: TOTAL C | I27: =I26 -> 0
A29: RESUMO
A30: TOTAL A | I30: =I12 -> 26.9332
A31: TOTAL B | I31: =I21 -> 55.109219
A32: TOTAL C | I32: =I22 -> 0
A33: PREÇO DE VENDA = TOTAL (A+B+C) | I33: =SUM(I30:I31) -> 82.042419

Sheet COMP-09
A1: COMPOSIÇÃO ANALÍTICA DE PREÇO UNITÁRIO | I1: Data-base
I3: 44287
I4: COMP-09
A5: SERVIÇO: Rodapé de granito Preto São Gabriel esp. 2cm, h=7cm, assentado com argamassa de cimento, cal hidratada CH1 e areia no traço 1:0,5:8, incl. rejuntamento com cimento branco | I5: UND: M²
A7: REFERÊNCIA: DER-ES 130321
A8: MÃO-DE-OBRA
A9: CÓD. | B9: ORGÃO | C9: DESCRIÇÃO | F9: UND | G9: COEF | H9: R$ UNIT. | I9: R$ PARCIAL
A10: 010124 | B10: DER-ES | C10: Graniteiro/Marmorista | E10: Encargo: 157,27% | F10: h | G10: 0.51 | H10: 17.85 | I10: =G10*H10 -> 9.1035
A11: 010146 | B11: DER-ES | C11: Servente | E11: Encargo: 157,27% | F11: h | G11: 0.75 | H11: 13.12 | I11: =G11*H11 -> 9.84
A13: TOTAL A | I13: =I10+I11 -> 18.9435
A15: MATERIAIS/ SERVIÇOS
A16: CÓD. | B16: ORGÃO | C16: DESCRIÇÃO | F16: UND | G16: COEF | H16: R$ UNIT. | I16: R$ PARCIAL
A17: 020503 | B17: DER-ES | C17: Areia Lavada Média | F17: m3 | G17: 0.00826 | H17: 89.67 | I17: =G17*H17 -> 0.7406742
A18: 020505 | B18: DER-ES | C18: Cal Hidratado p/ argamassa CH III | F18: kg | G18: 0.308 | H18: 0.79 | I18: =H18*G18 -> 0.24332
A19: 020509 | B19: DER-ES | C19: Cimento Branco não estrutural | F19: kg | G19: 0.5 | H19: 3.86 | I19: =H19*G19 -> 1.93
A20: 020508 | B20: DER-ES | C20: Cimento Portland CP III - 40 | F20: kg | G20: 1.19 | H20: 0.45 | I20: =H20*G20 -> 0.5355
A21: COTAÇÃO 05 | C21: Granito Preto São Gabriel | F21: m2 | G21: 0.07 | H21: =[1]COTAÇÕES!P11 -> 316.66667 | I21: =H21*G21 -> 22.166667
A23: TOTAL B | I23: =SUM(I17:I22) -> 25.616161
A25: EQUIPAMENTOS
C26: DESCRIÇÃO | F26: UND | G26: COEF | H26: R$ UNIT. | I26: R$ PARCIAL
A29: TOTAL C | I29: =I27 -> 0
A31: RESUMO
A32: TOTAL A | I32: =I13 -> 18.9435
A33: TOTAL B | I33: =I23 -> 25.616161
A34: TOTAL C | I34: =I29 -> 0
A35: PREÇO DE VENDA = TOTAL (A+B+C) | I35: =SUM(I32:I34) -> 44.559661

Sheet COMP-10
A1: COMPOSIÇÃO ANALÍTICA DE PREÇO UNITÁRIO | I1: Data-base
I3: 44287
I4: COMP-10
A5: SERVIÇO: Mini-Disjuntor monopolar 13 A, curva C - 5KA 220/127VCA (NBR IEC 60947-2), Ref. Siemens, GE, Schneider ou equivalente | I5: UND: und
A8: REFERÊNCIA: DER-ES 151301
A9: CÓD. | B9: ORGÃO | C9: DESCRIÇÃO | F9: UND | G9: COEF | H9: R$ UNIT. | I9: R$ PARCIAL
A10: 010101 | B10: DER-ES | C10: Ajudante | E10: Encargo: 157,27% | F10: h | G10: 0.3 | H10: 15.08 | I10: =G10*H10 -> 4.524
A11: 010115 | B11: DER-ES | C11: Eletricista | E11: Encargo: 157,27% | F11: h | G11: 0.3 | H11: 17.85 | I11: =G11*H11 -> 5.355
A12: TOTAL A | I12: =I10+I11 -> 9.879
A14: MATERIAIS/ SERVIÇOS
A15: CÓD. | B15: ORGÃO | C15: DESCRIÇÃO | F15: UND | G15: COEF | H15: R$ UNIT. | I15: R$ PARCIAL
A16: 00034653 | B16: SINAPI | C16: DISJUNTOR TIPO DIN/IEC, MONOPOLAR DE 6 ATE 32A | F16: UND | G16: 1 | H16: 8.3 | I16: =G16*H16 -> 8.3
A17: TOTAL B | I17: =SUM(I16:I16) -> 8.3
A20: EQUIPAMENTOS
C21: DESCRIÇÃO | F21: UND | G21: COEF | H21: R$ UNIT. | I21: R$ PARCIAL
A23: TOTAL C | I23: =I22 -> 0
A25: RESUMO
A26: TOTAL A | I26: =I12 -> 9.879
A27: TOTAL B | I27: =I17 -> 8.3
A28: TOTAL C | I28: =I18 -> 0
A29: PREÇO DE VENDA = TOTAL (A+B+C) | I29: =SUM(I26:I27) -> 18.179

Sheet COMP-11
A1: COMPOSIÇÃO ANALÍTICA DE PREÇO UNITÁRIO | I1: Data-base
I3: 44287
I4: COMP-11
A5: SERVIÇO: Mini-Disjuntor tripolar 125 A, curva C - 5KA 240VCA (NBR IEC 60947-2), Ref. Siemens, GE, Schneider ou equivalente | I5: UND: und
A8: REFERÊNCIA: DER-ES 151331
A9: CÓD. | B9: ORGÃO | C9: DESCRIÇÃO | F9: UND | G9: COEF | H9: R$ UNIT. | I9: R$ PARCIAL
A10: 010101 | B10: DER-ES | C10: Ajudante | E10: Encargo: 157,27% | F10: h | G10: 0.9 | H10: 15.08 | I10: =G10*H10 -> 13.572
A11: 010115 | B11: DER-ES | C11: Eletricista | E11: Encargo: 157,27% | F11: h | G11: 0.9 | H11: 17.85 | I11: =G11*H11 -> 16.065
A12: TOTAL A | I12: =I10+I11 -> 29.637
A14: MATERIAIS/ SERVIÇOS
A15: CÓD. | B15: ORGÃO | C15: DESCRIÇÃO | F15: UND | G15: COEF | H15: R$ UNIT. | I15: R$ PARCIAL
A16: 00002391 | B16: SINAPI | C16: DISJUNTOR TERMOMAGNETICO TRIPOLAR 125A | F16: UND | G16: 1 | H16: 317.96 | I16: =G16*H16 -> 317.96
A18: TOTAL B | I18: =SUM(I16:I17) -> 317.96
A21: EQUIPAMENTOS
C22: DESCRIÇÃO | F22: UND | G22: COEF | H22: R$ UNIT. | I22: R$ PARCIAL
A24: TOTAL C | I24: =I23 -> 0
A26: RESUMO
A27: TOTAL A | I27: =I12 -> 29.637
A28: TOTAL B | I28: =I18 -> 317.96
A29: TOTAL C | I29: =I19 -> 0
A30: PREÇO DE VENDA = TOTAL (A+B+C) | I30: =SUM(I27:I29) -> 347.597

Sheet COMP-12
A1: COMPOSIÇÃO ANALÍTICA DE PREÇO UNITÁRIO | I1: Data-base
I3: 44287
I4: COMP-12
A5: SERVIÇO: INTERRUPTOR SIMPLES (1 MÓDULO) COM INTERRUPTOR PARALELO (1 MÓDULO), 10A/250V, SEM SUPORTE E SEM PLACA - FORNECIMENTO E INSTALAÇÃO. | I5: UND: und
A7: MÃO-DE-OBRA
A8: REFERÊNCIA: SINAPI 91956
A9: CÓD. | B9: ORGÃO | C9: DESCRIÇÃO | F9: UND | G9: COEF | H9: R$ UNIT. | I9: R$ PARCIAL
A10: 88247 | B10: SINAPI | C10: AUXILIAR DE ELETRICISTA COM ENCARGOS COMPLEMENTARES | E10: Encargo: 157,27% | F10: h | G10: 0.472 | H10: =(17.46/1.8674)*2.5727 -> 24.054483 | I10: =G10*H10 -> 11.353716
A11: 88264 | B11: SINAPI | C11: ELETRICISTA COM ENCARGOS COMPLEMENTARES | E11: Encargo: 157,27% | F11: h | G11: 0.472 | H11: =(22.54/1.8674)*2.5727 -> 31.053153 | I11: =G11*H11 -> 14.657088
A12: TOTAL A | I12: =I10+I11 -> 26.010804
A14: MATERIAIS/ SERVIÇOS
A15: CÓD. | B15: ORGÃO | C15: DESCRIÇÃO | F15: UND | G15: COEF | H15: R$ UNIT. | I15: R$ PARCIAL
A16: 38112 | B16: SINAPI | C16: INTERRUPTOR SIMPLES 10A, 250V (APENAS MODULO) | F16: und | G16: 1 | H16: 6.91 | I16: =G16*H16 -> 6.91
A17: 38113 | B17: SINAPI | C17: INTERRUPTOR PARALELO 10A, 250V (APENAS MODULO) | F17: und | G17: 1 | H17: 9.01 | I17: =G17*H17 -> 9.01
A19: TOTAL B | I19: =SUM(I16:I18) -> 15.92
A22: EQUIPAMENTOS
C23: DESCRIÇÃO | F23: UND | G23: COEF | H23: R$ UNIT. | I23: R$ PARCIAL
A25: TOTAL C | I25: =I24 -> 0
A27: RESUMO
A28: TOTAL A | I28: =I12 -> 26.010804
A29: TOTAL B | I29: =I19 -> 15.92
A30: TOTAL C | I30: =I20 -> 0
A31: PREÇO DE VENDA = TOTAL (A+B+C) | I31: =SUM(I29:I29) -> 15.92

Sheet COMP-13
A1: COMPOSIÇÃO ANALÍTICA DE PREÇO UNITÁRIO | I1: Data-base
I3: 44287
I4: COMP-13
A5: SERVIÇO: Painel de LED de embutir quadrado, 30x30cm, 24w, 4000k, Avant ou similar | I5: UND: und
A7: REFERÊNCIA: DER-ES 181003
A8: MÃO-DE-OBRA
A9: CÓD. | B9: ORGÃO | C9: DESCRIÇÃO | F9: UND | G9: COEF | H9: R$ UNIT. | I9: R$ PARCIAL
A10: 010101 | B10: DER-ES | C10: Ajudante | E10: Encargo: 157,27% | F10: h | G10: 0.85 | H10: 15.08 | I10: =G10*H10 -> 12.818
A11: 010115 | B11: DER-ES | C11: Eletricista | E11: Encargo: 157,27% | F11: h | G11: 0.85 | H11: 17.85 | I11: =H11*G11 -> 15.1725
A12: TOTAL A | I12: =I10+I11 -> 27.9905
A14: MATERIAIS/ SERVIÇOS
A15: CÓD. | B15: ORGÃO | C15: DESCRIÇÃO | F15: UND | G15: COEF | H15: R$ UNIT. | I15: R$ PARCIAL
A16: COTAÇÃO 06 | C16: Painel de LED de embutir quadrado, 30x30cm, 24w, 4000k, Avant ou similar | F16: und | G16: 1 | H16: =[1]COTAÇÕES!P12 -> 57.26 | I16: =H16*G16 -> 57.26
A18: TOTAL B | I18: =SUM(I16:I17) -> 57.26
A21: EQUIPAMENTOS
C22: DESCRIÇÃO | F22: UND | G22: COEF | H22: R$ UNIT. | I22: R$ PARCIAL
A24: TOTAL C | I24: =I23 -> 0
A26: RESUMO
A27: TOTAL A | I27: =I12 -> 27.9905
A28: TOTAL B | I28: =I18 -> 57.26
A29: TOTAL C | I29: =I19 -> 0
A30: PREÇO DE VENDA = TOTAL (A+B+C) | I30: =SUM(I27:I28) -> 85.2505

Sheet COMP-14
A1: COMPOSIÇÃO ANALÍTICA DE PREÇO UNITÁRIO | I1: Data-base
I3: 44287
I4: COMP-14
A5: SERVIÇO: Puxador para PCD, fixado na porta - fornecimento e instalação. | I5: UND: und
A7: REFERÊNCIA: SINAPI 100874
A8: MÃO-DE-OBRA
A9: CÓD. | B9: ORGÃO | C9: DESCRIÇÃO | F9: UND | G9: COEF | H9: R$ UNIT. | I9: R$ PARCIAL
A10: 88267 | B10: SINAPI | C10: ENCANADOR OU BOMBEIRO HIDRÁULICO COM ENCARGOS COMPLEMENTARES | E10: Encargo: 157,27% | F10: h | G10: 0.9485 | H10: =(18.8/1.8674)*2.5727 -> 25.900589 | I10: =G10*H10 -> 24.566709
A11: 88316 | B11: SINAPI | C11: SERVENTE COM ENCARGOS COMPLEMENTARES | E11: Encargo: 157,27% | F11: h | G11: 0.2988 | H11: =(14.98/1.8674)*2.5727 -> 20.63781 | I11: =H11*G11 -> 6.1665776
A12: TOTAL A | I12: =I10+I11 -> 30.733286
A14: MATERIAIS/ SERVIÇOS
A15: CÓD. | B15: ORGÃO | C15: DESCRIÇÃO | F15: UND | G15: COEF | H15: R$ UNIT. | I15: R$ PARCIAL
A16: 4351 | B16: SINAPI | C16: PARAFUSO NIQUELADO 3 1/2" COM ACABAMENTO CROMADO PARA FIXAR PECA SANITARIA, INCLUI PORCA CEGA, ARRUELA E BUCHA DE NYLON TAMANHO S-8 | F16: UND | G16: 6 | H16: 8.55 | I16: =H16*G16 -> 51.3
A17: 36204 | B17: SINAPI | C17: BARRA DE APOIO RETA, EM ACO INOX POLIDO, COMPRIMENTO 60CM, DIAMETRO MINIMO 3 CM | F17: UND | G17: 1 | H17: 156.99 | I17: =H17*G17 -> 156.99
A18: TOTAL B | I18: =SUM(I16:I17) -> 208.29
A21: EQUIPAMENTOS
C22: DESCRIÇÃO | F22: UND | G22: COEF | H22: R$ UNIT. | I22: R$ PARCIAL
A24: TOTAL C | I24: =I23 -> 0
A26: RESUMO
A27: TOTAL A | I27: =I12 -> 30.733286
A28: TOTAL B | I28: =I18 -> 208.29
A29: TOTAL C | I29: =I19 -> 0
A30: PREÇO DE VENDA = TOTAL (A+B+C) | I30: =SUM(I27:I28) -> 239.02329

Sheet COMP-15
A1: COMPOSIÇÃO ANALÍTICA DE PREÇO UNITÁRIO | I1: Data-base
I3: 44287
I4: COMP-15
A5: SERVIÇO: BARRA DE APOIO EM "L", EM ACO INOX POLIDO 80 X 80 CM, FIXADA NA PAREDE - FORNECIMENTO E INSTALACAO. | I5: UND: und
A7: REFERÊNCIA: SINAPI 100864
A8: MÃO-DE-OBRA
A9: CÓD. | B9: ORGÃO | C9: DESCRIÇÃO | F9: UND | G9: COEF | H9: R$ UNIT. | I9: R$ PARCIAL
A10: 88267 | B10: SINAPI | C10: ENCANADOR OU BOMBEIRO HIDRÁULICO COM ENCARGOS COMPLEMENTARES | E10: Encargo: 157,27% | F10: h | G10: 1.4228 | H10: =(18.8/1.8674)*2.5727 -> 25.900589 | I10: =G10*H10 -> 36.851358
A11: 88316 | B11: SINAPI | C11: SERVENTE COM ENCARGOS COMPLEMENTARES | E11: Encargo: 157,27% | F11: h | G11: 0.4483 | H11: =(14.98/1.8674)*2.5727 -> 20.63781 | I11: =H11*G11 -> 9.2519301
A12: TOTAL A | I12: =I10+I11 -> 46.103288
A14: MATERIAIS/ SERVIÇOS
A15: CÓD. | B15: ORGÃO | C15: DESCRIÇÃO | F15: UND | G15: COEF | H15: R$ UNIT. | I15: R$ PARCIAL
A16: 4351 | B16: SINAPI | C16: PARAFUSO NIQUELADO 3 1/2" COM ACABAMENTO CROMADO PARA FIXAR PECA SANITARIA, INCLUI PORCA CEGA, ARRUELA E BUCHA DE NYLON TAMANHO S-8 | F16: UND | G16: 9 | H16: 8.55 | I16: =H16*G16 -> 76.95
A17: 36209 | B17: SINAPI | C17: BARRA DE APOIO EM "L", EM ACO INOX POLIDO 80 X 80 CM, DIAMETRO MINIMO 3 CM | F17: UND | G17: 1 | H17: 409.22 | I17: =H17*G17 -> 409.22
A18: TOTAL B | I18: =SUM(I16:I17) -> 486.17
A21: EQUIPAMENTOS
C22: DESCRIÇÃO | F22: UND | G22: COEF | H22: R$ UNIT. | I22: R$ PARCIAL
A24: TOTAL C | I24: =I23 -> 0
A26: RESUMO
A27: TOTAL A | I27: =I12 -> 46.103288
A28: TOTAL B | I28: =I18 -> 486.17
A29: TOTAL C | I29: =I19 -> 0
A30: PREÇO DE VENDA = TOTAL (A+B+C) | I30: =SUM(I27:I28) -> 532.27329

Sheet COMP-16
A1: COMPOSIÇÃO ANALÍTICA DE PREÇO UNITÁRIO | I1: Data-base
I3: 44287
I4: COMP-16
A5: SERVIÇO: Fornecimento e instalação de Ar Condicionado Split Inverter 9000 Btu/h | I5: UND: und
A7: MÃO-DE-OBRA
A8: CÓD. | B8: ORGÃO | C8: DESCRIÇÃO | F8: UND | G8: COEF | H8: R$ UNIT. | I8: R$ PARCIAL
A10: TOTAL A | I10: =I9 -> 0
A12: MATERIAIS/ SERVIÇOS
A13: CÓD. | B13: ORGÃO | C13: DESCRIÇÃO | F13: UND | G13: COEF | H13: R$ UNIT. | I13: R$ PARCIAL
A14: COTAÇÃO 08 | C14: Instalação de ar Condicionado 9000 e 12000 Btu/h | F14: UND | G14: 1 | H14: =[1]COTAÇÕES!P14 -> 2880.6667 | I14: =H14*G14 -> 2880.6667
A15: 00042424 | B15: SINAPI | C15: AR CONDICIONADO SPLIT INVERTER, HI-WALL (PAREDE), 9000 BTU/H, CICLO FRIO, 60HZ, UN 1.756,65 CLASSIFICACAO A (SELO PROCEL), GAS HFC, CONTROLE S/FIO | F15: UND | G15: 1 | H15: 1864.94 | I15: =H15*G15 -> 1864.94
A16: TOTAL B | I16: =SUM(I14:I15) -> 4745.6067
A19: EQUIPAMENTOS
C20: DESCRIÇÃO | F20: UND | G20: COEF | H20: R$ UNIT. | I20: R$ PARCIAL
A22: TOTAL C | I22: =I21 -> 0
A24: RESUMO
A25: TOTAL A | I25: =I10 -> 0
A26: TOTAL B | I26: =I16 -> 4745.6067
A27: TOTAL C | I27: =I17 -> 0
A28: PREÇO DE VENDA = TOTAL (A+B+C) | I28: =SUM(I26:I26) -> 4745.6067

Sheet COMP-17
A1: COMPOSIÇÃO ANALÍTICA DE PREÇO UNITÁRIO | I1: Data-base
I3: 44287
I4: COMP-17
A5: SERVIÇO: Fornecimento e instalação de Ar Condicionado Split Inverter 12000 Btu/h | I5: UND: und
A7: MÃO-DE-OBRA
A8: CÓD. | B8: ORGÃO | C8: DESCRIÇÃO | F8: UND | G8: COEF | H8: R$ UNIT. | I8: R$ PARCIAL
A11: TOTAL A | I11: =I9+I10 -> 0
A13: MATERIAIS/ SERVIÇOS
A14: CÓD. | B14: ORGÃO | C14: DESCRIÇÃO | F14: UND | G14: COEF | H14: R$ UNIT. | I14: R$ PARCIAL
A15: COTAÇÃO 08 | C15: Instalação de ar Condicionado 9000 e 12000 Btu/h | F15: UND | G15: 1 | H15: =[1]COTAÇÕES!P14 -> 2880.6667 | I15: =H15*G15 -> 2880.6667
A16: 00042425 | B16: SINAPI | C16: AR CONDICIONADO SPLIT INVERTER, HI-WALL (PAREDE), 12000 BTU/H, CICLO FRIO, 60HZ, UN 1.966,95 CLASSIFICACAO A (SELO PROCEL), GAS HFC, CONTROLE S/FIO | F16: UND | G16: 1 | H16: 2088.2 | I16: =G16*H16 -> 2088.2
A17: TOTAL B | I17: =SUM(I15:I16) -> 4968.8667
A20: EQUIPAMENTOS
C21: DESCRIÇÃO | F21: UND | G21: COEF | H21: R$ UNIT. | I21: R$ PARCIAL
A23: TOTAL C | I23: =I22 -> 0
A25: RESUMO
A26: TOTAL A | I26: =I11 -> 0
A27: TOTAL B | I27: =I17 -> 4968.8667
A28: TOTAL C | I28: =I18 -> 0
A29: PREÇO DE VENDA = TOTAL (A+B+C) | I29: =SUM(I27:I27) -> 4968.8667

Sheet COMP-18
A1: COMPOSIÇÃO ANALÍTICA DE PREÇO UNITÁRIO | I1: Data-base
I3: 44287
I4: COMP-18
A5: SERVIÇO: Fornecimento e instalação de Ar Condicionado Split Inverter 18000 Btu/h | I5: UND: und
A7: MÃO-DE-OBRA
A8: CÓD. | B8: ORGÃO | C8: DESCRIÇÃO | F8: UND | G8: COEF | H8: R$ UNIT. | I8: R$ PARCIAL
A11: TOTAL A | I11: =I9+I10 -> 0
A13: MATERIAIS/ SERVIÇOS
A14: CÓD. | B14: ORGÃO | C14: DESCRIÇÃO | F14: UND | G14: COEF | H14: R$ UNIT. | I14: R$ PARCIAL
A15: COTAÇÃO 09 | C15: Instalação de ar Condicionado 18000 e 24000 Btu/h | F15: UND | G15: 1 | H15: =[1]COTAÇÕES!P15 -> 2897.3333 | I15: =H15*G15 -> 2897.3333
A16: 00042422 | B16: SINAPI | C16: AR CONDICIONADO SPLIT INVERTER, HI-WALL (PAREDE), 18000 BTU/H, CICLO FRIO, 60HZ, UN 2.920,00 CLASSIFICACAO A (SELO PROCEL), GAS HFC, CONTROLE S/FIO | F16: UND | G16: 1 | H16: 3100 | I16: =H16*G16 -> 3100
A17: TOTAL B | I17: =SUM(I15:I16) -> 5997.3333
A20: EQUIPAMENTOS
C21: DESCRIÇÃO | F21: UND | G21: COEF | H21: R$ UNIT. | I21: R$ PARCIAL
A23: TOTAL C | I23: =I22 -> 0
A25: RESUMO
A26: TOTAL A | I26: =I11 -> 0
A27: TOTAL B | I27: =I17 -> 5997.3333
A28: TOTAL C | I28: =I18 -> 0
A29: PREÇO DE VENDA = TOTAL (A+B+C) | I29: =SUM(I27:I27) -> 5997.3333

Sheet COMP-19
A1: COMPOSIÇÃO ANALÍTICA DE PREÇO UNITÁRIO | I1: Data-base
I3: 44287
I4: COMP-19
A5: SERVIÇO: Fornecimento e instalação de Ar Condicionado Split Inverter 24000 Btu/h | I5: UND: und
A7: MÃO-DE-OBRA
A8: CÓD. | B8: ORGÃO | C8: DESCRIÇÃO | F8: UND | G8: COEF | H8: R$ UNIT. | I8: R$ PARCIAL
A11: TOTAL A | I11: =I9+I10 -> 0
A13: MATERIAIS/ SERVIÇOS
A14: CÓD. | B14: ORGÃO | C14: DESCRIÇÃO | F14: UND | G14: COEF | H14: R$ UNIT. | I14: R$ PARCIAL
A15: COTAÇÃO 09 | C15: Instalação de ar Condicionado 18000 e 24000 Btu/h | F15: UND | G15: 1 | H15: =[1]COTAÇÕES!P15 -> 2897.3333 | I15: =H15*G15 -> 2897.3333
A16: 00043184 | B16: SINAPI | C16: AR CONDICIONADO SPLIT INVERTER, HI-WALL (PAREDE), 24000 BTU/H, CICLO FRIO, 60HZ, UN 4.035,72 CLASSIFICACAO A - SELO PROCEL, GAS HFC, CONTROLE S/FIO | F16: UND | G16: 1 | H16: 4284.49 | I16: =H16*G16 -> 4284.49
A17: TOTAL B | I17: =SUM(I15:I16) -> 7181.8233
A20: EQUIPAMENTOS
C21: DESCRIÇÃO | F21: UND | G21: COEF | H21: R$ UNIT. | I21: R$ PARCIAL
A23: TOTAL C | I23: =I22 -> 0
A25: RESUMO
A26: TOTAL A | I26: =I11 -> 0
A27: TOTAL B | I27: =I17 -> 7181.8233
A28: TOTAL C | I28: =I18 -> 0
A29: PREÇO DE VENDA = TOTAL (A+B+C) | I29: =SUM(I27:I27) -> 7181.8233

Sheet COMP-20
A1: COMPOSIÇÃO ANALÍTICA DE PREÇO UNITÁRIO | I1: Data-base
I3: 44287
I4: COMP-20
A5: SERVIÇO: Placa cimentícia assentado com argamassa de cimento colante | I5: UND: m2
A7: REFERÊNCIA: DER-ES 130219
A8: MÃO-DE-OBRA
A9: CÓD. | B9: ORGÃO | C9: DESCRIÇÃO | F9: UND | G9: COEF | H9: R$ UNIT. | I9: R$ PARCIAL
A10: 010139 | B10: DER-ES | C10: PEDREIRO - (OFICIAL - SINDUSCON) (LABOR) | E10: Encargo: 157,27% | F10: h | G10: 0.55 | H10: 17.85 | I10: =G10*H10 -> 9.8175
A11: 010146 | B11: DER-ES | C11: Servente | E11: Encargo: 157,27% | F11: h | G11: 0.42 | H11: 13.12 | I11: =G11*H11 -> 5.5104
A13: TOTAL A | I13: =I10+I11 -> 15.3279
A15: MATERIAIS/ SERVIÇOS
A16: CÓD. | B16: ORGÃO | C16: DESCRIÇÃO | F16: UND | G16: COEF | H16: R$ UNIT. | I16: R$ PARCIAL
A17: 020509 | B17: DER-ES | C17: Cimento Branco não estrututral | F17: kg | G17: 0.334 | H17: 3.86 | I17: =G17*H17 -> 1.28924
A18: 020510 | B18: DER-ES | C18: Cimento colante industrializado ACI | F18: kg | G18: 7.5 | H18: 0.7 | I18: =G18*H18 -> 5.25
A19: 00011062 | B19: SINAPI | C19: PLACA CIMENTICIA LISA E = 10 MM, DE 1,20 X 3,00 M (SEM AMIANTO) | F19: m2 | G19: 1 | H19: 56.59 | I19: =G19*H19 -> 56.59
A21: TOTAL B | I21: =SUM(I17:I20) -> 63.12924
A23: EQUIPAMENTOS
C24: DESCRIÇÃO | F24: UND | G24: COEF | H24: R$ UNIT. | I24: R$ PARCIAL
A27: TOTAL C | I27: =I25 -> 0
A29: RESUMO
A30: TOTAL A | I30: =I13 -> 15.3279
A31: TOTAL B | I31: =I21 -> 63.12924
A32: TOTAL C | I32: =I27 -> 0
A33: PREÇO DE VENDA = TOTAL (A+B+C) | I33: =SUM(I30:I32) -> 78.45714

Sheet COMP-21
A1: COMPOSIÇÃO ANALÍTICA DE PREÇO UNITÁRIO | I1: Data-base
I3: 44287
I4: COMP-21
A5: SERVIÇO: Saboneteira plástica tipo dispenser para sabonete líquido com reservatório 800 a 1500 ml, incluso fixação. | I5: UND: und
A7: REFERÊNCIA: SINAPI-ES 95547
A8: MÃO-DE-OBRA
A9: CÓD. | B9: ORGÃO | C9: DESCRIÇÃO | F9: UND | G9: COEF | H9: R$ UNIT. | I9: R$ PARCIAL
A10: 88267 | B10: SINAPI-ES | C10: ENCANADOR OU BOMBEIRO HIDRÁULICO COM ENCARGOS COMPLEMENTARES | E10: Encargo: 157,27% | F10: h | G10: 0.3162 | H10: =(18.8/1.8674)*2.5727 -> 25.900589 | I10: =G10*H10 -> 8.1897663
A11: 88316 | B11: SINAPI-ES | C11: SERVENTE COM ENCARGOS COMPLEMENTARES | E11: Encargo: 157,27% | F11: h | G11: 0.0996 | H11: =(14.98/1.8674)*2.5727 -> 20.63781 | I11: =G11*H11 -> 2.0555259
A13: TOTAL A | I13: =I10+I11 -> 10.245292
A15: MATERIAIS/ SERVIÇOS
A16: CÓD. | B16: ORGÃO | C16: DESCRIÇÃO | F16: UND | G16: COEF | H16: R$ UNIT. | I16: R$ PARCIAL
A17: 11758 | B17: SINAPI-ES | C17: SABONETEIRA PLASTICA TIPO DISPENSER PARA SABONETE LIQUIDO COM RESERVATORIO 800 A 1500 ML | F17: und | G17: 1 | H17: 60.95 | I17: =G17*H17 -> 60.95
A21: TOTAL B | I21: =SUM(I17:I20) -> 60.95
A23: EQUIPAMENTOS
C24: DESCRIÇÃO | F24: UND | G24: COEF | H24: R$ UNIT. | I24: R$ PARCIAL
A27: TOTAL C | I27: =I25 -> 0
A29: RESUMO
A30: TOTAL A | I30: =I13 -> 10.245292
A31: TOTAL B | I31: =I21 -> 60.95
A32: TOTAL C | I32: =I27 -> 0
A33: PREÇO DE VENDA = TOTAL (A+B+C) | I33: =SUM(I30:I32) -> 71.195292

Sheet COMP-22
A1: COMPOSIÇÃO ANALÍTICA DE PREÇO UNITÁRIO | I1: Data-base
I3: 44287
I4: COMP-22
A5: SERVIÇO: Papeleira de parede em metal cromado sem tampa, incluso fixação. | I5: UND: und
A7: REFERÊNCIA: SINAPI-ES 95544
A8: MÃO-DE-OBRA
A9: CÓD. | B9: ORGÃO | C9: DESCRIÇÃO | F9: UND | G9: COEF | H9: R$ UNIT. | I9: R$ PARCIAL
A10: 88267 | B10: SINAPI-ES | C10: ENCANADOR OU BOMBEIRO HIDRÁULICO COM ENCARGOS COMPLEMENTARES | E10: Encargo: 157,27% | F10: h | G10: 0.3162 | H10: =(18.8/1.8674)*2.5727 -> 25.900589 | I10: =G10*H10 -> 8.1897663
A11: 88316 | B11: SINAPI-ES | C11: SERVENTE COM ENCARGOS COMPLEMENTARES | E11: Encargo: 157,27% | F11: h | G11: 0.0996 | H11: =(14.98/1.8674)*2.5727 -> 20.63781 | I11: =G11*H11 -> 2.0555259
A13: TOTAL A | I13: =I10+I11 -> 10.245292
A15: MATERIAIS/ SERVIÇOS
A16: CÓD. | B16: ORGÃO | C16: DESCRIÇÃO | F16: UND | G16: COEF | H16: R$ UNIT. | I16: R$ PARCIAL
A17: 11703 | B17: SINAPI-ES | C17: PAPELEIRA DE PAREDE EM METAL CROMADO SEM TAMPA | F17: und | G17: 1 | H17: 25.03 | I17: =G17*H17 -> 25.03
A21: TOTAL B | I21: =SUM(I17:I20) -> 25.03
A23: EQUIPAMENTOS
C24: DESCRIÇÃO | F24: UND | G24: COEF | H24: R$ UNIT. | I24: R$ PARCIAL
A27: TOTAL C | I27: =I25 -> 0
A29: RESUMO
A30: TOTAL A | I30: =I13 -> 10.245292
A31: TOTAL B | I31: =I21 -> 25.03
A32: TOTAL C | I32: =I27 -> 0
A33: PREÇO DE VENDA = TOTAL (A+B+C) | I33: =SUM(I30:I32) -> 35.275292

Sheet COMP-23
A1: COMPOSIÇÃO ANALÍTICA DE PREÇO UNITÁRIO | I1: Data-base
I3: 44287
I4: COMP-23
A5: SERVIÇO: Porta papel toalha plástica tipo dispenser, capacidade para aproximadamente 750 folhas, incluso fixação. | I5: UND: und
A7: REFERÊNCIA: SINAPI-ES 95547
A8: MÃO-DE-OBRA
A9: CÓD. | B9: ORGÃO | C9: DESCRIÇÃO | F9: UND | G9: COEF | H9: R$ UNIT. | I9: R$ PARCIAL
A10: 88267 | B10: SINAPI-ES | C10: ENCANADOR OU BOMBEIRO HIDRÁULICO COM ENCARGOS COMPLEMENTARES | E10: Encargo: 157,27% | F10: h | G10: 0.3162 | H10: =(18.8/1.8674)*2.5727 -> 25.900589 | I10: =G10*H10 -> 8.1897663
A11: 88316 | B11: SINAPI-ES | C11: SERVENTE COM ENCARGOS COMPLEMENTARES | E11: Encargo: 157,27% | F11: h | G11: 0.0996 | H11: =(14.98/1.8674)*2.5727 -> 20.63781 | I11: =G11*H11 -> 2.0555259
A13: TOTAL A | I13: =I10+I11 -> 10.245292
A15: MATERIAIS/ SERVIÇOS
A16: CÓD. | B16: ORGÃO | C16: DESCRIÇÃO | F16: UND | G16: COEF | H16: R$ UNIT. | I16: R$ PARCIAL
B17: COTAÇÃO 10 | C17: Porta papel toalha plástica tipo dispenser, capacidade para aproximadamente 750 folhas | F17: und | G17: 1 | H17: ='COTAÇÕES '!P17 -> 49.906667 | I17: =G17*H17 -> 49.906667
A19: TOTAL B | I19: =SUM(I17:I18) -> 49.906667
A21: EQUIPAMENTOS
C22: DESCRIÇÃO | F22: UND | G22: COEF | H22: R$ UNIT. | I22: R$ PARCIAL
A25: TOTAL C | I25: =I23 -> 0
A27: RESUMO
A28: TOTAL A | I28: =I13 -> 10.245292
A29: TOTAL B | I29: =I19 -> 49.906667
A30: TOTAL C | I30: =I25 -> 0
A31: PREÇO DE VENDA = TOTAL (A+B+C) | I31: =SUM(I28:I30) -> 60.151959

Sheet COMP-24
A1: COMPOSIÇÃO ANALÍTICA DE PREÇO UNITÁRIO | I1: Data-base
I3: 44287
I4: COMP-24
A5: SERVIÇO: Espelho 4" x 2" com conector RJ 45 fêmea CAT. 6e | I5: UND: und
A7: REFERÊNCIA: SINAPI-ES 91937
A8: MÃO-DE-OBRA
A9: CÓD. | B9: ORGÃO | C9: DESCRIÇÃO | F9: UND | G9: COEF | H9: R$ UNIT. | I9: R$ PARCIAL
A10: 010101 | B10: DER-ES | C10: AJUDANTE (AJUDANTE PRATICO - SINDUSCON) (LABOR) | E10: Encargo: 157,27% | F10: h | G10: 0.21 | H10: 15.08 | I10: =G10*H10 -> 3.1668
A11: 010115 | B11: DER-ES | C11: ELETRICISTA (OFICIAL - SINDUSCON) (LABOR) | E11: Encargo: 157,27% | F11: h | G11: 0.21 | H11: 17.85 | I11: =G11*H11 -> 3.7485
A13: TOTAL A | I13: =I10+I11 -> 6.9153
A15: MATERIAIS/ SERVIÇOS
A16: CÓD. | B16: ORGÃO | C16: DESCRIÇÃO | F16: UND | G16: COEF | H16: R$ UNIT. | I16: R$ PARCIAL
A17: COTAÇÃO 13 | C17: ESPELHO 4X2" C/ 1 CONECTOR RJ-45 FEMEA CAT 6E | F17: und | G17: 1 | H17: 25.9 | I17: =G17*H17 -> 25.9
A19: TOTAL B | I19: =SUM(I17:I18) -> 25.9
A21: EQUIPAMENTOS
C22: DESCRIÇÃO | F22: UND | G22: COEF | H22: R$ UNIT. | I22: R$ PARCIAL
A25: TOTAL C | I25: =I23 -> 0
A27: RESUMO
A28: TOTAL A | I28: =I13 -> 6.9153
A29: TOTAL B | I29: =I19 -> 25.9
A30: TOTAL C | I30: =I25 -> 0
A31: PREÇO DE VENDA = TOTAL (A+B+C) | I31: =SUM(I28:I30) -> 32.8153

Sheet COMP-25
A1: COMPOSIÇÃO ANALÍTICA DE PREÇO UNITÁRIO | I1: Data-base
I3: 44287
I4: COMP-25
A5: SERVIÇO: Luminária arandela tipo tartaruga, de sobrepor, com 1 lâmpada led de 6W, - fornecimento e instalação. | I5: UND: und
A7: REFERÊNCIA: SINAPI-ES 97607
A8: MÃO-DE-OBRA
A9: CÓD. | B9: ORGÃO | C9: DESCRIÇÃO | F9: UND | G9: COEF | H9: R$ UNIT. | I9: R$ PARCIAL
A10: 88247 | B10: SINAPI-ES | C10: AUXILIAR DE ELETRICISTA COM ENCARGOS COMPLEMENTARES | E10: Encargo: 157,27% | F10: h | G10: 0.2299 | H10: =(17.46/1.8674)*2.5727 -> 24.054483 | I10: =G10*H10 -> 5.5301257
