Workbook
Name __FOG50: #REF!
Name __PVC100: #REF!
Name __PVC150: #REF!
Name __PVC50: #REF!
Name __PVC75: #REF!
Name __VBF1: #REF!
Name __VE1: #REF!
Name __VO1: [1]MEMORIAL!#REF!
Name __VR1: #REF!
Name _1Excel_BuiltIn_Print_Area_3_1: #REF!
Name _FOG50: #REF!
Name _PVC100: #REF!
Name _PVC150: #REF!
Name _PVC50: #REF!
Name _PVC75: #REF!
Name _VBF1: #REF!
Name _VE1: #REF!
Name _VO1: [1]MEMORIAL!#REF!
Name _VR1: #REF!
Name A__1: [1]MEMORIAL!#REF!
Name A__1: [1]MEMORIAL!#REF!
Name A__1_1: [1]MEMORIAL!#REF!
Name A__1_1: [1]MEMORIAL!#REF!
Name A__2: [1]MEMORIAL!#REF!
Name A__2: [1]MEMORIAL!#REF!
Name A__2_1: [1]MEMORIAL!#REF!
Name A__2_1: [1]MEMORIAL!#REF!
Name A__3: [1]MEMORIAL!#REF!
Name A__3: [1]MEMORIAL!#REF!
Name A__3_1: [1]MEMORIAL!#REF!
Name A__3_1: [1]MEMORIAL!#REF!
Name A__4: [1]MEMORIAL!#REF!
Name A__4: [1]MEMORIAL!#REF!
Name A__4_1: [1]MEMORIAL!#REF!
Name A__4_1: [1]MEMORIAL!#REF!
Name A__5: [1]MEMORIAL!#REF!
Name A__5: [1]MEMORIAL!#REF!
Name A__5_1: [1]MEMORIAL!#REF!
Name A__5_1: [1]MEMORIAL!#REF!
Name A__6: [1]MEMORIAL!#REF!
Name A__6: [1]MEMORIAL!#REF!
Name A__6_1: [1]MEMORIAL!#REF!
Name A__6_1: [1]MEMORIAL!#REF!
Name A_1: [1]MEMORIAL!#REF!
Name A_1: [1]MEMORIAL!#REF!
Name A_1_1: [1]MEMORIAL!#REF!
Name A_1_1: [1]MEMORIAL!#REF!
Name A_2: [1]MEMORIAL!#REF!
Name A_2: [1]MEMORIAL!#REF!
Name A_2_1: [1]MEMORIAL!#REF!
Name A_2_1: [1]MEMORIAL!#REF!
Name A_3: [1]MEMORIAL!#REF!
Name A_3: [1]MEMORIAL!#REF!
Name A_3_1: [1]MEMORIAL!#REF!
Name A_3_1: [1]MEMORIAL!#REF!
Name APARENTE: #REF!
Name APARENTE: #REF!
Name Área_impressão_IM: #REF!
Name Área_impressão_IM: #REF!
Name ASFALTO: #REF!

Sheet PLANILHA ORÇAMENTÁRIA
B1: PREFEITURA MUNICIPAL DE JOÃO NEIVA
B2: PLANILHA ORÇAMENTÁRIA
B3: OBRA: Drenagem e Pavimentação das Vias de Circulação dos Loteamentos Grippa e Recantos, Ruas Claudino Gadiolli, Vitorino Grippa, Lorival Luiz Cometti, Anselmo Ezequiel Cometti, Arthur Morellato, Candido Nunes Loureiro, Ângelo Cometti Sobrinho, Juracy do Nascimento, pertencentes ao Município de João Neiva-ES
E4: TABELA REFERENCIAL: DER-ES SEM DESONERAÇÃO | G4: DATA-BASE: | H4: 44348
B5: LOCAL: JOÃO NEIVA-ES | E5: LS: | F5: 1.5727 | G5: BDI: | H5: 0.2332
A6: Item | B6: Código | C6: Órgão | D6: DESCRIÇÃO SERVIÇO | E6: Unid. | F6: Quant. | G6: R$ Custo
G7: Unitário | H7: Total
A8: 01 | D8: CANTEIRO DE OBRAS
A9: 01.01 | B9: 41498 | C9: DER-ES | D9: Barracão com sanitário, em chapa compensada 12 mm e pont. 8x8cm, piso cimentado e cobertura em telha de fibroc. 6mm, incl. ponto de luz e cx. inspeção | E9: m2 | F9: ='MEMÓRIA DE CÁLCULO'!P10 -> 40 | G9: 869.24 | H9: =TRUNC(ROUND(F9*G9,2),2) -> 34769.6
A10: 01.02 | B10: 41528 | C10: DER-ES | D10: Galpão em peças de madeira 8x8cm e contravent. de 5x7cm, cobertura de telhas de fibroc. de 6mm, incl. ponto e cabo de alimentação da máquina | E10: m2 | F10: ='MEMÓRIA DE CÁLCULO'!P14 -> 25 | G10: 302.61 | H10: =TRUNC(ROUND(F10*G10,2),2) -> 7565.25
A11: 01.03 | B11: 41501 | C11: DER-ES | D11: Rede de água c/ padrão de entrada d'água diâm. 3/4" conf. CESAN, incl. tubos e conexões p/ aliment., distrib., extravas. e limp., cons. o padrão a 25m | E11: m | F11: ='MEMÓRIA DE CÁLCULO'!P18 -> 25 | G11: 52.13 | H11: =TRUNC(ROUND(F11*G11,2),2) -> 1303.25
A12: 01.04 | B12: 41499 | C12: DER-ES | D12: Rede de esgoto, contendo fossa e filtro, incl. tubos e conexões de ligação entre caixas, considerando distância de 25m | E12: m | F12: ='MEMÓRIA DE CÁLCULO'!P22 -> 25 | G12: 418.96 | H12: =TRUNC(ROUND(F12*G12,2),2) -> 10474
A13: 01.05 | B13: 41503 | C13: DER-ES | D13: Rede de luz, incl. padrão entr. energia trifás. cabo ligação até barracões, quadro distrib., disj. e chave de força, cons. 20m entre padrão entr.e QDG | E13: m | F13: ='MEMÓRIA DE CÁLCULO'!P26 -> 20 | G13: 752.78 | H13: =TRUNC(ROUND(F13*G13,2),2) -> 15055.6
A14: 01.06 | B14: 41527 | C14: DER-ES | D14: Reservatório de fibra de vidro de 1000 L, incl. suporte em madeira de 7x12cm, elevado de 4m | E14: und | F14: ='MEMÓRIA DE CÁLCULO'!P30 -> 1 | G14: 4202.52 | H14: =TRUNC(ROUND(F14*G14,2),2) -> 4202.52
A15: 01.07 | C15: COMP-01 | D15: Administração local | E15: mês | F15: ='MEMÓRIA DE CÁLCULO'!P34 -> 12 | G15: ='COMP-01'!K28 -> 9271.1653 | H15: =TRUNC(ROUND(F15*G15,2),2) -> 111253.98
D16: SUB-TOTAL 01 | H16: =SUM(H9:H15) -> 184624.2
A18: 02 | D18: SERVIÇOS PRELIMINARES
A19: 02.01 | B19: 41500 | C19: DER-ES | D19: Placa de obra nas dimensões de 3,0 x 6,0 m, padrão DER-ES | E19: m² | F19: ='MEMÓRIA DE CÁLCULO'!P39 -> 18 | G19: 353.21 | H19: =TRUNC(ROUND(F19*G19,2),2) -> 6357.78
A20: 02.02 | C20: COMP-02 | D20: Tela de proteção de segurança de PVC cor laranja com suporte para sinalização de obras em Vias Urbanas | E20: m | F20: ='MEMÓRIA DE CÁLCULO'!P48 -> 2854.28 | G20: ='COMP-02'!I30 -> 16.150356 | H20: =TRUNC(ROUND(F20*G20,2),2) -> 46097.64
A21: 02.03 | C21: COMP-03 | D21: Equipe topográfica para serviços simples de locação e nivelamento (incluindo equipamento, transporte e profissionais nivel médio) | E21: mês | F21: ='MEMÓRIA DE CÁLCULO'!P63 -> 1.2 | G21: ='COMP-03'!I34 -> 20691.377 | H21: =TRUNC(ROUND(F21*G21,2),2) -> 24829.65
D22: SUB-TOTAL 02 | H22: =SUM(H19:H21) -> 77285.07
A24: 03 | D24: DRENAGEM
A25: 03.01 | B25: 42963 | C25: DER-ES | D25: Escavação mecânica em material de 1ª cat. H= 1,50 a 3,00 m, em Vias Urbanas | E25: m³ | F25: ='MEMÓRIA DE CÁLCULO'!P84 -> 1836.44 | G25: 19.63 | H25: =TRUNC(ROUND(F25*G25,2),2) -> 36049.32
A26: 03.02 | B26: 43056 | C26: DER-ES | D26: Reaterro com areia, tudo incluído, em Vias Urbanas | E26: m³ | F26: ='MEMÓRIA DE CÁLCULO'!P107 -> 1419.7706 | G26: 69.84 | H26: =TRUNC(ROUND(F26*G26,2),2) -> 99156.78
A27: 03.03 | B27: 60010 | C27: DER-ES | D27: Transporte Local de Materiais (TR-101-01) (Vias urbanas - Caminhão basculante) (1,711XP + 2,282XR + 2,852) (XP=3,1km; XR=0,8km) | E27: t | F27: ='MEMÓRIA DE CÁLCULO'!P121 -> 3040.932 | G27: =(1.711*3.1)+(2.282*0.8)+2.852 -> 9.9817 | H27: =TRUNC(ROUND(F27*G27,2),2) -> 30353.67
A28: 03.04 | B28: 42787 | C28: DER-ES | D28: Corpo BSTC (grota) diâmetro 1,00 m CA-2 PB exclusive escavação e reaterro, inclusive transporte do tubo em Vias Urbanas | E28: m | F28: ='MEMÓRIA DE CÁLCULO'!P128 -> 159 | G28: 672.2 | H28: =TRUNC(ROUND(F28*G28,2),2) -> 106879.8
A29: 03.05 | B29: 42783 | C29: DER-ES | D29: Corpo BSTC (grota) diâmetro 0,80 m CA-2 PB exclusive escavação e reaterro, inclusive transporte do tubo em Vias Urbanas | E29: m | F29: ='MEMÓRIA DE CÁLCULO'!P135 -> 155 | G29: 555.85 | H29: =TRUNC(ROUND(F29*G29,2),2) -> 86156.75
A30: 03.06 | B30: 42779 | C30: DER-ES | D30: Corpo BSTC (grota) diâmetro 0,60 m CA-2 PB exclusive escavação e reaterro, inclusive transporte do tubo em Vias Urbanas | E30: m | F30: ='MEMÓRIA DE CÁLCULO'!P144 -> 229 | G30: 236.18 | H30: =TRUNC(ROUND(F30*G30,2),2) -> 54085.22
A31: 03.07 | B31: 42753 | C31: DER-ES | D31: Corpo BSTC diâmetro 0,40 m C.S. PB inclusive escavação, reaterro e transporte do tubo em Vias Urbanas | E31: m | F31: ='MEMÓRIA DE CÁLCULO'!P165 -> 556 | G31: 197.45 | H31: =TRUNC(ROUND(F31*G31,2),2) -> 109782.2
A32: 03.08 | B32: 42751 | C32: DER-ES | D32: Corpo BSTC diâmetro 0,30 m C.S. PB inclusive escavação, reaterro e transporte do tubo em Vias Urbanas | E32: m | F32: ='MEMÓRIA DE CÁLCULO'!P203 -> 315.85 | G32: 147.63 | H32: =TRUNC(ROUND(F32*G32,2),2) -> 46628.94
A33: 03.09 | B33: 42749 | C33: DER-ES | D33: Corpo BSTC diâmetro 0,20 m C.S. PB inclusive escavação, reaterro e transporte do tubo em Vias Urbanas | E33: m | F33: ='MEMÓRIA DE CÁLCULO'!P217 -> 93.55 | G33: 114.97 | H33: =TRUNC(ROUND(F33*G33,2),2) -> 10755.44
A34: 03.10 | B34: 43046 | C34: DER-ES | D34: Poço de Visita para BSTC diâm. 0,40 m em blocos de concreto, em Vias Urbanas | E34: und | F34: ='MEMÓRIA DE CÁLCULO'!P236 -> 16 | G34: 1952.08 | H34: =TRUNC(ROUND(F34*G34,2),2) -> 31233.28
A35: 03.11 | B35: 43047 | C35: DER-ES | D35: Poço de visita para BSTC diâm. 0,60 m em blocos de concreto, em Vias Urbanas | E35: und | F35: ='MEMÓRIA DE CÁLCULO'!P246 -> 7 | G35: 2513.91 | H35: =TRUNC(ROUND(F35*G35,2),2) -> 17597.37
A36: 03.12 | B36: 43048 | C36: DER-ES | D36: Poço de visita para BSTC diâm. 0,80 m em blocos de concreto, em Vias Urbanas | E36: und | F36: ='MEMÓRIA DE CÁLCULO'!P253 -> 4 | G36: 3093.56 | H36: =TRUNC(ROUND(F36*G36,2),2) -> 12374.24
A37: 03.13 | B37: 41171 | C37: DER-ES | D37: Poço de visita em bloco pré-moldado para d=1,20m (1,50x1,50m), em Vias Urbanas | E37: und | F37: ='MEMÓRIA DE CÁLCULO'!P261 -> 5 | G37: 5888.12 | H37: =TRUNC(ROUND(F37*G37,2),2) -> 29440.6
A38: 03.14 | C38: COMP-04 | D38: Trincheira drenante em concreto armado, incluíndo grelhas articuladas FOFO, escavação e reaterro | E38: m | F38: ='MEMÓRIA DE CÁLCULO'!P270 -> 49 | G38: ='COMP-04'!I35 -> 1057.82 | H38: =TRUNC(ROUND(F38*G38,2),2) -> 51833.18
A39: 03.15 | B39: 41241 | C39: DER-ES | D39: Caixa ralo em blocos pré-moldados e grelha articulada em FFA em Vias Urbanas | E39: und | F39: ='MEMÓRIA DE CÁLCULO'!P319 -> 46 | G39: 1561.25 | H39: =TRUNC(ROUND(F39*G39,2),2) -> 71817.5
A40: 03.16 | B40: 40327 | C40: DER-ES | D40: Escoramento de cavas e valas, inclusive fornecimento e transportes das madeiras | E40: m² | F40: ='MEMÓRIA DE CÁLCULO'!P333 -> 1551.56 | G40: 279.38 | H40: =TRUNC(ROUND(F40*G40,2),2) -> 433474.83
D41: SUB-TOTAL - 03 | H41: =SUM(H25:H40) -> 1227619.1
A43: 04 | D43: PAVIMENTAÇÃO
...

Sheet MEMÓRIA DE CÁLCULO
B1: PREFEITURA MUNICIPAL DE JOÃO NEIVA
B2: MEMÓRIA DE CÁLCULO
B3: OBRA: Drenagem e Pavimentação das Vias de Circulação dos Loteamentos Grippa e Recantos, Ruas Claudino Gadiolli, Vitorino Grippa, Lorival Luiz Cometti, Anselmo Ezequiel Cometti, Arthur Morellato, Candido Nunes Loureiro, Ângelo Cometti Sobrinho, Juracy do Nascimento, pertencentes ao Município de João Neiva-ES
B4: LOCAL: JOÃO NEIVA-ES
A5: CÓD. | B5: DISCRIMINAÇÃO | C5: LOCALIZAÇÃO (Estaca) | I5: POS. | J5: QUANT. | K5: EXT. | L5: LARG. | M5: PROF. | N5: ÁREA | O5: VOLUME | P5: TOTAL | Q5: UNID.
C6: Inicial | F6: Final | K6: (m) | L6: (m) | M6: (m) | N6: (m²) | O6: (m³)
A7: 01 | B7: CANTEIRO DE OBRAS
A8: 01.01 | B8: ='PLANILHA ORÇAMENTÁRIA'!D9 -> Barracão com sanitário, em chapa compensada 12 mm e pont. 8x8cm, piso cimentado e cobertura em telha de fibroc. 6mm, incl. ponto de luz e cx. inspeção
B9: Canteiro de obras | N9: 40 | P9: =N9 -> 40
B10: QUANTIDADE | P10: =P9 -> 40 | Q10: m2
A12: 01.02 | B12: ='PLANILHA ORÇAMENTÁRIA'!D10 -> Galpão em peças de madeira 8x8cm e contravent. de 5x7cm, cobertura de telhas de fibroc. de 6mm, incl. ponto e cabo de alimentação da máquina
B13: Canteiro de obras | N13: 25 | P13: =N13 -> 25
B14: QUANTIDADE | P14: =P13 -> 25 | Q14: m2
A16: 01.03 | B16: ='PLANILHA ORÇAMENTÁRIA'!D11 -> Rede de água c/ padrão de entrada d'água diâm. 3/4" conf. CESAN, incl. tubos e conexões p/ aliment., distrib., extravas. e limp., cons. o padrão a 25m
B17: Canteiro de obras | K17: 25 | P17: =K17 -> 25
B18: QUANTIDADE | P18: =P17 -> 25 | Q18: m
A20: 01.04 | B20: ='PLANILHA ORÇAMENTÁRIA'!D12 -> Rede de esgoto, contendo fossa e filtro, incl. tubos e conexões de ligação entre caixas, considerando distância de 25m
B21: Canteiro de obras | K21: 25 | P21: =K21 -> 25
B22: QUANTIDADE | P22: =P21 -> 25 | Q22: m
A24: 01.05 | B24: ='PLANILHA ORÇAMENTÁRIA'!D13 -> Rede de luz, incl. padrão entr. energia trifás. cabo ligação até barracões, quadro distrib., disj. e chave de força, cons. 20m entre padrão entr.e QDG
B25: Canteiro de obras | K25: 20 | P25: =K25 -> 20
B26: QUANTIDADE | P26: =P25 -> 20 | Q26: m
A28: 01.06 | B28: ='PLANILHA ORÇAMENTÁRIA'!D14 -> Reservatório de fibra de vidro de 1000 L, incl. suporte em madeira de 7x12cm, elevado de 4m
B29: Canteiro de obras | J29: 1 | P29: =J29 -> 1
B30: QUANTIDADE | P30: =P29 -> 1 | Q30: und
A32: 01.07 | B32: ='PLANILHA ORÇAMENTÁRIA'!D15 -> Administração local
B33: Considerando 12 meses | J33: 12 | P33: =J33 -> 12
B34: QUANTIDADE | P34: =P33 -> 12 | Q34: mês
A36: 2 | B36: SERVIÇOS PRELIMINARES
A37: 02.01 | B37: ='PLANILHA ORÇAMENTÁRIA'!D19 -> Placa de obra nas dimensões de 3,0 x 6,0 m, padrão DER-ES
J38: 1 | K38: 3 | L38: 6 | P38: =K38*J38*L38 -> 18
B39: QUANTIDADE | P39: =P38 -> 18 | Q39: m²
A41: 02.02 | B41: ='PLANILHA ORÇAMENTÁRIA'!D20 -> Tela de proteção de segurança de PVC cor laranja com suporte para sinalização de obras em Vias Urbanas
B42: Ramo 0 | C42: 0 | F42: 20 | G42: + | H42: 19.96 | J42: 2 | K42: =20*20+19.96 -> 419.96 | P42: =K42*J42 -> 839.92
B43: Ramo 100 | C43: 100 | F43: 112 | G43: + | H43: 5.58 | J43: 2 | K43: =12*20+5.58 -> 245.58 | P43: =K43*J43 -> 491.16
B44: Ramo 200 | C44: 200 | F44: 219 | G44: + | H44: 19.5 | J44: 2 | K44: =19*20+19.5 -> 399.5 | P44: =K44*J44 -> 799
B45: Ramo 300 | C45: 300 | F45: 305 | G45: + | H45: 19.7 | J45: 2 | K45: =5*20+19.7 -> 119.7 | P45: =K45*J45 -> 239.4
B46: Ramo 400 | C46: 400 | F46: 410 | G46: + | H46: 9.24 | J46: 2 | K46: =10*20+9.24 -> 209.24 | P46: =K46*J46 -> 418.48
B47: Ramo 500 | C47: 500 | F47: 501 | G47: + | H47: 13.16 | J47: 2 | K47: =1*20+13.16 -> 33.16 | P47: =K47*J47 -> 66.32
B48: QUANTIDADE | P48: =SUM(P42:P47) -> 2854.28 | Q48: m
...

Sheet CRONOGRAMA
B1: PREFEITURA MUNICIPAL DE JOÃO NEIVA
B2: CRONOGRAMA FÍSICO-FINANCEIRO
B3: OBRA: Drenagem e Pavimentação das Vias de Circulação dos Loteamentos Grippa e Recantos, Ruas Claudino Gadiolli, Vitorino Grippa, Lorival Luiz Cometti, Anselmo Ezequiel Cometti, Arthur Morellato, Candido Nunes Loureiro, Ângelo Cometti Sobrinho, Juracy do Nascimento, pertencentes ao Município de João Neiva-ES
B4: LOCAL: JOÃO NEIVA/ES
A5: ITEM | B5: DESCRIÇÃO | D5: VALORES R$ | E5: PERÍODO (MESES)
E6: 1 | F6: 2 | G6: 3 | H6: 4 | I6: 5 | J6: 6 | K6: 7 | L6: 8 | M6: 9 | N6: 10 | O6: 11 | P6: 12
A7: 01 | B7: CANTEIRO DE OBRAS | C7: Financeiro (R$) | D7: ='PLANILHA ORÇAMENTÁRIA'!H16 -> 184624.2 | E7: 1
C8: Físico (%) | D8: =D7/$D$17 -> 0.052710819 | E8: =$D$7*E7 -> 184624.2 | F8: =$D$7*F7 -> 0 | G8: =$D$7*G7 -> 0 | H8: =$D$7*H7 -> 0 | I8: =$D$7*I7 -> 0 | J8: =$D$7*J7 -> 0 | K8: =$D$7*K7 -> 0 | L8: =$D$7*L7 -> 0 | ... P8: =$D$7*P7 -> 0
A9: 02 | B9: SERVIÇOS PRELIMINARES | C9: Financeiro (R$) | D9: ='PLANILHA ORÇAMENTÁRIA'!H22 -> 77285.07 | E9: =E10/$D$9 -> 0.083333333 | F9: =F10/$D$9 -> 0.083333333 | G9: =G10/$D$9 -> 0.083333333 | H9: =H10/$D$9 -> 0.083333333 | I9: =I10/$D$9 -> 0.083333333 | J9: =J10/$D$9 -> 0.083333333 | K9: =K10/$D$9 -> 0.083333333 | L9: =L10/$D$9 -> 0.083333333 | ... P9: =P10/$D$9 -> 0.083333333
C10: Físico (%) | D10: =D9/$D$17 -> 0.022065143 | E10: =$D$9/12 -> 6440.4225 | F10: =$D$9/12 -> 6440.4225 | G10: =$D$9/12 -> 6440.4225 | H10: =$D$9/12 -> 6440.4225 | I10: =$D$9/12 -> 6440.4225 | J10: =$D$9/12 -> 6440.4225 | K10: =$D$9/12 -> 6440.4225 | L10: =$D$9/12 -> 6440.4225 | ... P10: =$D$9/12 -> 6440.4225
A11: 03 | B11: DRENAGEM | C11: Financeiro (R$) | D11: ='PLANILHA ORÇAMENTÁRIA'!H41 -> 1227619.1 | F11: =F12/$D$11 -> 0.16666667 | G11: =G12/$D$11 -> 0.16666667 | H11: =H12/$D$11 -> 0.16666667 | I11: =I12/$D$11 -> 0.16666667 | J11: =J12/$D$11 -> 0.16666667 | K11: =K12/$D$11 -> 0.16666667
C12: Físico (%) | D12: =D11/$D$17 -> 0.35048932 | E12: 0 | F12: =$D$11/6 -> 204603.19 | G12: =$D$11/6 -> 204603.19 | H12: =$D$11/6 -> 204603.19 | I12: =$D$11/6 -> 204603.19 | J12: =$D$11/6 -> 204603.19 | K12: =$D$11/6 -> 204603.19
A13: 04 | B13: PAVIMENTAÇÃO | C13: Financeiro (R$) | D13: ='PLANILHA ORÇAMENTÁRIA'!H53 -> 2013058 | J13: =J14/$D$13 -> 0.14285714 | K13: =K14/$D$13 -> 0.14285714 | L13: =L14/$D$13 -> 0.14285714 | M13: =M14/$D$13 -> 0.14285714 | N13: =N14/$D$13 -> 0.14285714 | O13: =O14/$D$13 -> 0.14285714 | P13: =P14/$D$13 -> 0.14285714
C14: Físico (%) | D14: =D13/$D$17 -> 0.57473472 | J14: =$D$13/7 -> 287579.72 | K14: =$D$13/7 -> 287579.72 | L14: =$D$13/7 -> 287579.72 | M14: =$D$13/7 -> 287579.72 | N14: =$D$13/7 -> 287579.72 | O14: =$D$13/7 -> 287579.72 | P14: =$D$13/7 -> 287579.72
B15: Total Parcial (%) | E15: =E17/$D$17 -> 0.054549581 | F15: =F17/$D$17 -> 0.060253648 | G15: =G17/$D$17 -> 0.060253648 | H15: =H17/$D$17 -> 0.060253648 | I15: =I17/$D$17 -> 0.060253648 | J15: =J17/$D$17 -> 0.14235861 | K15: =K17/$D$17 -> 0.14235861 | L15: =L17/$D$17 -> 0.083943722 | ... P15: =P17/$D$17 -> 0.083943722
B16: Total Acumulado (%) | E16: =E17/$D$17 -> 0.054549581 | F16: =E16+F15 -> 0.11480323 | G16: =F16+G15 -> 0.17505688 | H16: =G16+H15 -> 0.23531052 | I16: =H16+I15 -> 0.29556417 | J16: =I16+J15 -> 0.43792278 | K16: =J16+K15 -> 0.58028139 | L16: =K16+L15 -> 0.66422511 | M16: =L16+M15 -> 0.74816883 | ... P16: =O16+P15 -> 1
B17: Total Financeiro (R$) | D17: =D7+D9+D11+D13 -> 3502586.4 | E17: =E8+E10+E12+E14 -> 191064.62 | F17: =F8+F10+F12+F14 -> 211043.61 | G17: =G8+G10+G12+G14 -> 211043.61 | H17: =H8+H10+H12+H14 -> 211043.61 | I17: =I8+I10+I12+I14 -> 211043.61 | J17: =J8+J10+J12+J14 -> 498623.33 | K17: =K8+K10+K12+K14 -> 498623.33 | L17: =L8+L10+L12+L14 -> 294020.14 | ... P17: =P8+P10+P12+P14 -> 294020.14
B18: Total Acumulado (R$) | E18: =E17 -> 191064.62 | F18: =E18+F17 -> 402108.23 | G18: =F18+G17 -> 613151.84 | H18: =G18+H17 -> 824195.45 | I18: =H18+I17 -> 1035239.1 | J18: =I18+J17 -> 1533862.4 | K18: =J18+K17 -> 2032485.7 | L18: =K18+L17 -> 2326505.9 | M18: =L18+M17 -> 2620526 | ... P18: =O18+P17 -> 3502586.4
P25: 3502586.4

Sheet BDI - CORRETO
B2: PREFEITURA MUNICIPAL DE JOÃO NEIVA
B3: COMPOSIÇÃO BDI
B4: OBRA: Drenagem e Pavimentação das Vias de Circulação dos Loteamentos Grippa e Recantos, Ruas Claudino Gadiolli, Vitorino Grippa, Lorival Luiz Cometti, Anselmo Ezequiel Cometti, Arthur Morellato, Candido Nunes Loureiro, Ângelo Cometti Sobrinho, Juracy do Nascimento, pertencentes ao Município de João Neiva-ES
B5: LOCAL: JOÃO NEIVA-ES | D5: TABELA DE REFERÊNCIA: DER/ES | E5: BDI: 23,32%
B6: LEIS SOCIAIS: 157,27% | D6: DATA-BASE: JUN/21
D8: Para Serviços
B9: GRUPO AC
B10: Despesas Financeiras | D10: 0.0102
B11: Total Grupo A | D11: =D10 -> 0.0102
B12: GRUPO B
B13: Administração Central | D13: 0.038
B14: Total Grupo B | D14: =D13 -> 0.038
B15: GRUPO C
B16: Bonificação/Lucro | D16: 0.0659
B17: Total Grupo C | D17: =D16 -> 0.0659
B18: GRUPO D
B19: Seguros/Garantia | D19: 0.0032
B20: Riscos | D20: 0.005
B21: Total Grupo D | D21: =SUM(D19:D20) -> 0.0082
B22: GRUPO E
B23: ISS | D23: 0.05
B24: PIS | D24: 0.0065
B25: COFINS | D25: 0.03
B26: CPRB | D26: 0
B27: Total Grupo E | D27: =SUM(D23:D26) -> 0.0865
B29: BDI Total | D29: =((1+D11)*(1+D14+D21)*(1+D17)/(1-D27))-1 -> 0.23318999
A31: OBS:
A33: 1 | B33: - A fórmula para cálculo da taxa a ser acrescida aos custos diretos de um
B34: empreendimento a título de Benefícios e Despesas Indiretas é:
B35: BDI = {(1 + A)*(1 + B + D)*(1 + C)} -1, onde:
B36: (1 – E)
B37: A = DESPESAS FINACEIRAS;
B38: B = ADMINISTRAÇÃO CENTRAL;
B39: C = BENEFÍCIO/LUCRO;
B40: D = RISCOS, SEGUROS E GARANTIAS;
B41: E = ISS + PIS + COFINS + INSS;

Sheet LEIS SOCIAIS
C2: PREFEITURA MUNICIPAL DE JOÃO NEIVA
C3: COMPOSIÇÃO LEIS SOCIAIS
C4: OBRA: Drenagem e Pavimentação das Vias de Circulação dos Loteamentos Grippa e Recantos, Ruas Claudino Gadiolli, Vitorino Grippa, Lorival Luiz Cometti, Anselmo Ezequiel Cometti, Arthur Morellato, Candido Nunes Loureiro, Ângelo Cometti Sobrinho, Juracy do Nascimento, pertencentes ao Município de João Neiva-ES
C5: LOCAL: JOÃO NEIVA-ES
B7: GRUPO A - Encargos Sociais Básicos | E7: % IOPES
B8: A.1 | C8: INSS (Art. 22 da Lei 8.212/91) | E8: 0.2
B9: A.2 | C9: FGTS (Art. 27 do Decreto 99.684/90) | E9: 0.08
B10: A.3 | C10: SESI/SESC (Lei 8.029/90 e Lei 8.036/90) | E10: 0.018
B11: A.4 | C11: SENAI/SENAC (Lei 8.029/90 e Decreto-Lei 6246/44) | E11: 0.013
B12: A.5 | C12: SEBRAE (já considerado no item A.3 e A.4) | E12: -
B13: A.6 | C13: INCRA (Lei 2.613/55 e Decreto 1.146/70) | E13: 0.002
B14: A.7 | C14: SALÁRIO-EDUCAÇÃO (Decreto 87.043/82) | E14: 0.025
B15: A.8 | C15: SEGURO ACIDENTE DO TRABALHO (Lei 8.212/91 e Decreto 3.048/99) | E15: 0.03
B16: A.9 | C16: SECONCI/Medicina do Trabalho | E16: 0.01
B17: TOTAL GRUPO A | E17: =SUM(E8:E16) -> 0.378
B18: GRUPO B - Encargos Sociais que recebem a incidência do grupo A | E18: % IOPES
B19: B.1 | C19: Descanso Semanal Remunerado (Art. 66 da CLT e Art. 7º da CF/88) | E19: 0.1752
B20: B.2 | C20: Feriados (Art. 70 da CLT e Lei 605/49) | E20: 0.0391
B21: B.3 | C21: Auxílio doença e acidente do trabalho (Lei 3.607/60 e Art. 131 da CLT) | E21: 0.0076
B22: B.4 | C22: Licença Paternidade (Art. 7º da CF/88) | E22: 0.0011
B23: B.5 | C23: Faltas Legais (Art. 473 da CLT) | E23: 0.0067
B24: B.6 | C24: 13º Salário (Lei nº 4090/62) | E24: 0.1011
B25: B.7 | C25: Aviso Prévio Trabalhado (Art. 7º, inciso XXI da CF/88) | E25: 0.0034
B26: B.8 | C26: Dias de Chuvas | E26: -
B27: B.9 | C27: Férias Gozadas | E27: -
B28: B.10 | C28: Salário Maternidade | E28: -
B29: B.11 | C29: Auxílio - Enfermidade | E29: -
B30: TOTAL GRUPO B | E30: =SUM(E19:E29) -> 0.3342
B31: GRUPO C - Encargos Sociais que não recebem a incidência do grupo A | E31: % IOPES
B32: C.1 | C32: Dispensa sem justa causa (LC 110/01) | E32: 0.0534
B33: C.2 | C33: Férias indenizadas (Art. 129 a 148 da CLT) | E33: 0.112
B34: C.3 | C34: Aviso prévio indenizado (Art. 7º, inciso XXI da CF/88) | E34: 0.1129
B35: C.4 | C35: FGTS sobre aviso prévio indenizado (Súmula 305 TST) | E35: 0.009
B36: C.5 | C36: INSS sobre aviso prévio indenizado (Decreto 6.727/09) | E36: 0.0226
B37: C.6 | C37: Aviso prévio trabalhado | E37: -
B38: C.7 | C38: Indenização Adicional | E38: -
B39: TOTAL GRUPO C | E39: =SUM(E32:E38) -> 0.3099
B40: GRUPO D - Reincidência dos encargos sociais básicos | E40: % IOPES
B41: D.1 | C41: Incidência do grupo A sobre o grupo B | E41: =E17*E30 -> 0.1263276
B42: D.2 | C42: Reincidência de Grupo A sobre Aviso Prévio Trabalho e Reincidência do FGTS sobre Aviso Prévio Indenizado | E42: -
...

Sheet COMP-01
A1: COMPOSIÇÃO ANALÍTICA DE PREÇO UNITÁRIO | K1: Data-base
K3: 44348
K4: COMP-01
A5: Serviço: Administração Local | K5: UND: mês
A7: EQUIPAMENTOS
A8: CÓD. | B8: ORGÃO | C8: DESCRIÇÃO | F8: UT.PR | G8: UT.IMPR | H8: Vl. Hr. Prod | I8: Vl. Hr. Imp | J8: R$ PARCIAL
A10: TOTAL A | K10: =J9 -> 0
A12: MÃO-DE-OBRA/FERRAMENTA
A13: CÓD. | B13: ORGÃO | C13: DESCRIÇÃO | H13: UND | I13: COEF | J13: R$ UNIT. | K13: R$ PARCIAL
A14: 20070 | B14: DER-ES | C14: Engenheiro Junior | E14: Encargos: 84,04% | H14: mês | I14: =4/30 -> 0.13333333 | J14: 17207.74 | K14: =I14*J14 -> 2294.3653
A15: 99301 | B15: DER-ES | C15: Encarregado Geral | E15: Encargos: 157,27% | H15: h | I15: 179.69069 | J15: 29.07 | K15: =J15*I15 -> 5223.6085
A16: TOTAL B | K16: =SUM(K14:K15) -> 7517.9738
A18: MATERIAIS
A19: CÓD. | B19: ORGÃO | C19: DESCRIÇÃO | H19: UND | I19: COEF | J19: R$ UNIT. | K19: R$ PARCIAL
A21: TOTAL C | K21: =SUM(K20:K20) -> 0
A23: RESUMO
A24: TOTAL A | K24: =K10 -> 0
A25: TOTAL B | K25: =K16 -> 7517.9738
G26: (C) CUSTO UNITÁRIO DA PRODUÇÃO ( A+B) | K26: =(K24+K25) -> 7517.9738
J27: BDI: 23,32% | K27: =K26*0.2332 -> 1753.1915
A28: PREÇO DE VENDA | K28: =K26+K27 -> 9271.1653

Sheet COMP-02
A1: COMPOSIÇÃO ANALÍTICA DE PREÇO UNITÁRIO | I1: Data-base
I3: 44348
I4: COMP-02
A5: SERVIÇO: Tela de proteção de segurança de PVC cor laranja com suporte para sinalização de obras em Vias Urbanas | I5: UND: M
A7: REFERÊNCIA: SINAPI 85423
A8: EQUIPAMENTO
A9: CÓD. | B9: ORGÃO | C9: DESCRIÇÃO | F9: UND | G9: COEF | H9: R$ UNIT. | I9: R$ PARCIAL
A11: TOTAL A | I11: =SUM(I10:I10) -> 0
A12: MÃO-DE-OBRA
A13: CÓD. | B13: ORGÃO | C13: DESCRIÇÃO | F13: UND | G13: COEF | H13: R$ UNIT. | I13: R$ PARCIAL
A14: 20002 | B14: DER-ES | C14: Servente | E14: Encargos: 157,27% | F14: h | G14: 0.333 | H14: 12.86 | I14: =G14*H14 -> 4.28238
A15: TOTAL B | I15: =I14 -> 4.28238
A16: ITENS DE INCIDÊNCIA
C17: DESCRIÇÃO | F17: UND | G17: COEF | H17: R$ UNIT. | I17: R$ PARCIAL
A18: 2000 | B18: DER-ES | C18: Ferramentas manuais (5% da M.O) | H18: =I15*0.05 -> 0.214119 | I18: =H18 -> 0.214119
A19: TOTAL C | I19: =I18 -> 0.214119
A21: MATERIAIS/ SERVIÇOS
A22: CÓD. | B22: ORGÃO | C22: DESCRIÇÃO | F22: UND | G22: COEF | H22: R$ UNIT. | I22: R$ PARCIAL
A23: 11569 | B23: DER-ES | C23: Aço CA-50 diam. 6.3 a 10 mm | F23: kg | G23: 0.5925 | H23: 10.64 | I23: =G23*H23 -> 6.3042
A24: 10649 | B24: DER-ES | C24: Tela de PVC na cor laranja, para proteção de segurança (tapume), rolo com 50,00 m | F24: rl | G24: 0.02 | H24: 75.78 | I24: =G24*H24 -> 1.5156
A25: 39015 | B25: SINAPI | C25: PROTETOR/PONTEIRA PLASTICA PARA PONTA DE VERGALHAO DE ATE 1", TIPO PROTETOR DE ESPERA | F25: UND | G25: 1 | H25: 0.78 | I25: =G25*H25 -> 0.78
A26: TOTAL D | I26: =SUM(I23:I25) -> 8.5998
A27: RESUMO
A28: TOTAL (A+B+C+D) | I28: =I11+I15+I19+I26 -> 13.096299
A29: BDI: 23,32% | I29: =I28*0.2332 -> 3.0540569
A30: PREÇO DE VENDA | I30: =I28+I29 -> 16.150356

Sheet COMP-03
A1: COMPOSIÇÃO ANALÍTICA DE PREÇO UNITÁRIO | I1: Data-base
I3: 44348
I4: COMP-03
A5: SERVIÇO: Equipe topográfica para serviços simples de locação e nivelamento (incluindo equipamento, transporte e profissionais nivel médio) | I5: UND: mês
A7: Referência: DER-ES 010512 (Tabela referencial Edificações)
A8: EQUIPAMENTO
A9: CÓD. | B9: ORGÃO | C9: DESCRIÇÃO | F9: UND | G9: COEF | H9: R$ UNIT. | I9: R$ PARCIAL
A10: 80276 | B10: DER-ES | C10: KOMBI STANDER A GASOLINA | F10: und | G10: 0.013967 | H10: 40009 | I10: =G10*H10 -> 558.8057
A11: 80202 | B11: DER-ES | C11: NIVEL OTICO C/ PRECISAO +/- 0,7MM | F11: h | G11: 178.5 | H11: 2.25 | I11: =G11*H11 -> 401.625
A12: 80201 | B12: DER-ES | C12: TEODOLITO C/ PRECISAO +/- 6 SEGUNDOS | F12: h | G12: 178.5 | H12: 2.25 | I12: =G12*H12 -> 401.625
A13: TOTAL A | I13: =SUM(I10:I12) -> 1362.0557
A14: MÃO-DE-OBRA
A15: CÓD. | B15: ORGÃO | C15: DESCRIÇÃO | F15: UND | G15: COEF | H15: R$ UNIT. | I15: R$ PARCIAL
A16: 010235 | B16: DER-ES | C16: AUXILIAR DE CAMPO | E16: Encargos: 157,27% | F16: h | G16: 360 | H16: 12.86 | I16: =G16*H16 -> 4629.6
A17: 010233 | B17: DER-ES | C17: NIVELADOR | E17: Encargos: 157,27% | F17: h | G17: 180 | H17: 12.86 | I17: =G17*H17 -> 2314.8
A18: 010209 | B18: DER-ES | C18: TOPOGRAFO | E18: Encargos: 157,27% | F18: h | G18: 180 | H18: 31.18 | I18: =G18*H18 -> 5612.4
A19: TOTAL B | I19: =SUM(I16:I18) -> 12556.8
A20: ITENS DE INCIDÊNCIA
C21: DESCRIÇÃO | F21: UND | G21: COEF | H21: R$ UNIT. | I21: R$ PARCIAL
A23: TOTAL C | I23: =I22 -> 0
A24: MATERIAIS/ SERVIÇOS
A25: CÓD. | B25: ORGÃO | C25: DESCRIÇÃO | F25: UND | G25: COEF | H25: R$ UNIT. | I25: R$ PARCIAL
A26: 800102 | B26: DER-ES | C26: GASOLINA COMUM | F26: l | G26: 465 | H26: 6.15 | I26: =G26*H26 -> 2859.75
A27: TOTAL F | I27: =SUM(I26:I26) -> 2859.75
A28: RESUMO
A29: TOTAL A | I29: =I13 -> 1362.0557
A30: TOTAL B | I30: =I19 -> 12556.8
A31: TOTAL C | I31: =I27 -> 2859.75
A32: TOTAL D (A+B+C) | I32: =SUM(I29:I31) -> 16778.606
A33: TOTAL E (BDI 23,32%) | I33: =I32*0.2332 -> 3912.7708
A34: PREÇO DE VENDA | I34: =I32+I33 -> 20691.377

Sheet COMP-04
A2: COMPOSIÇÃO ANALÍTICA DE PREÇO UNITÁRIO | I2: Data-base
I3: 44348
I4: COMP-04
A5: SERVIÇO: | B5: Trincheira drenante em concreto armado, incluíndo grelhas articuladas FOFO, escavação e reaterro
A6: UND: | B6: M
A7: ITEM DE REFERÊNCIA DER-ES 40672
A8: MÃO-DE-OBRA
A9: CÓD. | B9: ORGÃO | C9: DESCRIÇÃO | F9: UND | G9: COEF | H9: R$ UNIT. | I9: R$ PARCIAL
A10: 20109 | B10: DER-ES | C10: Pedreiro de O.A.C. | F10: h | G10: 1 | H10: 15.95 | I10: =H10*G10 -> 15.95
A11: 20002 | B11: DER-ES | C11: Servente | F11: h | G11: 1 | H11: 12.86 | I11: =H11*G11 -> 12.86
A13: TOTAL A | I13: =SUM(I10:I12) -> 28.81
A15: MATERIAIS/ SERVIÇOS
A16: CÓD. | B16: ORGÃO | C16: DESCRIÇÃO | F16: UND | G16: COEF | H16: R$ UNIT. | I16: R$ PARCIAL
A17: 10782 | B17: DER-ES | C17: Grelha articulada, inclusive caixilho em ferro fundido | F17: und | G17: 1 | H17: 363.98 | I17: =H17*G17 -> 363.98
A18: 40376 | B18: DER-ES | C18: Aço CA-50, fornecimento, dobragem e colocação nas formas (preço médio das bitolas) | F18: kg | G18: 4.89 | H18: 16.12 | I18: =H18*G18 -> 78.8268
A19: 40348 | B19: DER-ES | C19: Argamassa cimento e areia traço 1:4, tudo incluído | F19: m³ | G19: 0.05 | H19: 412.68 | I19: =G19*H19 -> 20.634
A20: 40349 | B20: DER-ES | C20: Concreto de regularização, tudo incluído | F20: m³ | G20: 0.03 | H20: 411.18 | I20: =G20*H20 -> 12.3354
A21: 40358 | B21: DER-ES | C21: Concreto estrutural fck = 15,0 MPa, tudo incluído | F21: m³ | G21: 0.217 | H21: 527.36 | I21: =G21*H21 -> 114.43712
A22: 40258 | B22: DER-ES | C22: Escavação manual em mat. 1ª cat. H= 0,00 a 1, 50m | F22: m³ | G22: 0.73 | H22: 58.14 | I22: =G22*H22 -> 42.4422
A23: 40312 | B23: DER-ES | C23: Formas planas de madeira com 02 (dois) reaproveitamentos, inclusive fornecimento e transporte das madeiras | F23: m² | G23: 2.1 | H23: 83.3 | I23: =G23*H23 -> 174.93
A24: 40302 | B24: DER-ES | C24: Reaterro de cavas c/ compactação manual (apiloamento) | F24: m³ | G24: 0.326 | H24: 61.2 | I24: =G24*H24 -> 19.9512
A25: 2000 | B25: DER-ES | C25: Ferramentas manuais | F25: und | G25: 1 | H25: =I13*0.05 -> 1.4405 | I25: =H25*G25 -> 1.4405
A28: TOTAL B | I28: =SUM(I17:I27) -> 828.97722
A30: RESUMO
A31: TOTAL A | I31: =I13 -> 28.81
A32: TOTAL B | I32: =I28 -> 828.97722
A33: TOTAL C (A+B) | I33: =SUM(I31:I32) -> 857.78722
A34: TOTAL D (BDI 23,32%) | I34: =I33*0.2332 -> 200.03598
A35: PREÇO DE VENDA | I35: =TRUNC(ROUND(I34+I33,2),2) -> 1057.82

Sheet COMP-05
E1: COMPOSIÇÃO ANALÍTICA DE PREÇO UNITÁRIO | K1: Data-base
K3: 44348
K4: COMP-05
A5: SERVIÇO: | B5: Pavimentação com blocos de concreto (35 MPa), esp.->08cm, sobre colchão de pó de pedra 5cm, inclusive fornecim. e transporte blocos e pó de pedra, em Vias Urbanas
A6: UND: | B6: m²
A7: CÓD. DE REFERÊNCIA: DER-ES 42499
A8: EQUIPAMENTO
A9: CÓD. | B9: ORGÃO | C9: DESCRIÇÃO | F9: Quant. | G9: Ut. Pr | H9: Ut. Impr | I9: Vl. Hr. Prod | J9: Vl. Hr. Imp | K9: Custo Horário
A10: 30032 | B10: DER-ES | C10: Rolo AP de pneus AP-26 (8,9t) (MULLER) ou equivalente | F10: 1 | G10: 0.1 | H10: 0.9 | I10: 220.35 | J10: 75.71 | K10: =ROUND((G10*I10)+(H10*J10),2) -> 90.17
J11: A: TOTAL | K11: =K10 -> 90.17
A13: MÃO-DE-OBRA
A14: CÓD. | B14: ORGÃO | C14: DESCRIÇÃO | F14: Eq. Salarial | G14: Encargos(%) | H14: Sal/Hora | I14: Consumo | K14: Custo Horário
A15: 20035 | B15: DER-ES | C15: Calceteiro | F15: 1,24 | G15: 157.27 | H15: 15.95 | I15: 1 | K15: =(I15*H15) -> 15.95
A16: 20065 | B16: DER-ES | C16: Encarregado de pavimentação | F16: 2,26 | G16: 157.27 | H16: 29.07 | I16: 0.5 | K16: =(I16*H16) -> 14.535
A17: 20002 | B17: DER-ES | C17: Servente | F17: 12,22 | G17: 157.27 | H17: 12.86 | I17: 2 | K17: =(I17*H17) -> 25.72
J18: B: TOTAL | K18: =SUM(K15:K17) -> 56.205
A20: ITENS DE INCIDÊNCIA
A21: CÓD. | B21: ORGÃO | C21: DESCRIÇÃO | F21: % | G21: M. O. | H21: Equip. | I21: Mat. | J21: Custo
A22: 2000 | B22: DER-ES | C22: Ferramentas manuais | F22: 5 | G22: X | K22: =K18*0.05 -> 2.81025
J23: C: TOTAL | K23: =K22 -> 2.81025
A26: Custo Horário da Execução (A) + (B) + (C) | K26: =ROUND(K23+K18+K11,2) -> 149.19
A27: (D) Produção da Equipe | K27: 4.15
A28: (E) Custo Unitário da Execução [(A) + (B) + (C)] / (D) | K28: =ROUND(K26/K27,2) -> 35.95
A30: MATERIAIS
A31: CÓD. | B31: ORGÃO | C31: DESCRIÇÃO | F31: Unid | G31: Custo Unitário | I31: Consumo | K31: Custo Unitário
A32: 10120 | B32: DER-ES | C32: Pó de pedra (incl. 0% IUM) s/ frete | F32: m³ | H32: 56.01 | I32: 0.05 | K32: =ROUND(H32*I32,2) -> 2.8
A33: 10267 | B33: DER-ES | C33: Bloco para pavimentação intertravado - esp= 08 cm, resistência 35 Mpa | F33: m² | H33: 55.83 | J33: 1 | K33: =ROUND(J33*H33,2) -> 55.83
J34: F: TOTAL | K34: =SUM(K32:K33) -> 58.63
A36: SERVIÇOS
A37: CÓD. | B37: ORGÃO | C37: DESCRIÇÃO | F37: Unid | G37: Custo Unitário | I37: Consumo | K37: Custo Unitário
J38: G: TOTAL | K38: 0
A40: ITENS DE TRANSPORTE
A41: CÓD. | B41: ORGÃO | C41: DESCRIÇÃO | F41: Unid | G41: Fórmula | I41: Custo | J41: Consumo | K41: Custo Unitário
A42: 1029 | B42: DER-ES | C42: Transp. de Pó de pedra (incl. 0% IUM) s/ frete | F42: t | G42: 0,663XP + 0,691XR + 2,765 | I42: 0 | J42: 0.05 | K42: 0
A43: 1605 | B43: DER-ES | C43: Transp. de Bloco p/ pavimentaçao - esp= 8 cm | F43: t | G43: 0,663XP + 0,691XR + 2,765 | I43: 0 | J43: 0.192 | K43: =J43*H43 -> 0
J44: H: TOTAL | K44: =SUM(K42:K43) -> 0
A46: Custo Direto Total (E) + (F) + (G) + (H) | K46: =K44+K38+K34+K28 -> 94.58
A47: BDI: 23,32% | K47: =ROUND(K46*0.2332,2) -> 22.06
A48: Preço Unitário Total | K48: =SUM(K46:K47) -> 116.64
