Workbook

Sheet PLANILHA ORÇAMENTÁRIA
B1: PREFEITURA MUNICIPAL DE JOÃO NEIVA
B2: PLANILHA ORÇAMENTÁRIA
B3: OBRA: REFORMA DA QUADRA POLIESPORTIVA DE CAVALINHO, JOÃO NEIVA/ES | E3: L. SOCIAIS: | F3: 1.5727 | G3: TABELA DE REFERÊNCIA: DER/ES
B4: LOCAL: CAVALINHO, JOÃO NEIVA/ES | E4: BDI: | F4: 0.3196 | H4: DATA-BASE: | I4: NOV/21
B5: ORÇAMENTISTAS: BRUNA PEROVANO SIRTULI E THAÍS BAPTISTA MENELLI
A6: ITEM | B6: CÓDIGO | C6: ORGÃO | D6: DESCRIÇÃO SERVIÇO | E6: UNIDADE | F6: QUANTIDADE | G6: CUSTO (R$)
G7: UNITÁRIO | H7: UNITÁRIO C/ BDI | I7: TOTAL
A8: 1 | B8: 01 | D8: SERVIÇOS PRELIMINARES
A9: 1.1 | B9: 0102 / 0103 | C9: DER-ES | D9: DEMOLIÇÕES E RETIRADAS
A10: 1.1.1 | B10: 010202 | C10: DER-ES | D10: Demolição de piso revestido com cerâmica | E10: m2 | F10: ='MEMÓRIA DE CÁLCULO'!J12 -> 14.4 | G10: 11.17 | H10: =G10*1.3196 -> 14.739932 | I10: =TRUNC(ROUND(F10*H10,2),2) -> 212.26
A11: 1.1.2 | B11: 010206 | C11: DER-ES | D11: Demolição de revestimento com azulejos | E11: m2 | F11: ='MEMÓRIA DE CÁLCULO'!J21 -> 47.8992 | G11: 39.91 | H11: =G11*1.3196 -> 52.665236 | I11: =TRUNC(ROUND(F11*H11,2),2) -> 2522.62
A12: 1.1.3 | B12: 010208 | C12: DER-ES | D12: Retirada de revestimento antigo em reboco | E12: m2 | F12: ='MEMÓRIA DE CÁLCULO'!J28 -> 57.4413 | G12: 7.98 | H12: =G12*1.3196 -> 10.530408 | I12: =TRUNC(ROUND(F12*H12,2),2) -> 604.88
A13: 1.1.4 | B13: 010209 | C13: DER-ES | D13: Demolição de alvenaria | E13: m3 | F13: ='MEMÓRIA DE CÁLCULO'!J43 -> 5.436912 | G13: 47.89 | H13: =G13*1.3196 -> 63.195644 | I13: =TRUNC(ROUND(F13*H13,2),2) -> 343.59
A14: 1.1.5 | B14: 010214 | C14: DER-ES | D14: Retirada de portas e janelas de madeira, inclusive batentes | E14: m2 | F14: ='MEMÓRIA DE CÁLCULO'!J48 -> 2.52 | G14: 12.77 | H14: =G14*1.3196 -> 16.851292 | I14: =TRUNC(ROUND(F14*H14,2),2) -> 42.47
A15: 1.1.6 | B15: 010215 | C15: DER-ES | D15: Retirada de esquadrias metálicas | E15: m2 | F15: ='MEMÓRIA DE CÁLCULO'!J55 -> 3.936 | G15: 7.98 | H15: =G15*1.3196 -> 10.530408 | I15: =TRUNC(ROUND(F15*H15,2),2) -> 41.45
A16: 1.1.7 | B16: 010219 | C16: DER-ES | D16: Demolição manual de concreto armado (EMOP 05.001.033) | E16: m3 | F16: ='MEMÓRIA DE CÁLCULO'!J61 -> 2.09405 | G16: 264.43 | H16: =G16*1.3196 -> 348.94183 | I16: =TRUNC(ROUND(F16*H16,2),2) -> 730.7
A17: 1.1.8 | B17: 010220 | C17: DER-ES | D17: Demolição de piso cimentado, exclusive lastro de concreto | E17: m2 | F17: ='MEMÓRIA DE CÁLCULO'!J66 -> 23.435 | G17: 9.84 | H17: =G17*1.3196 -> 12.984864 | I17: =TRUNC(ROUND(F17*H17,2),2) -> 304.3
A18: 1.1.9 | B18: 010223 | C18: DER-ES | D18: Retirada de aparelhos sanitários | E18: und | F18: ='MEMÓRIA DE CÁLCULO'!J71 -> 7 | G18: 16.59 | H18: =G18*1.3196 -> 21.892164 | I18: =TRUNC(ROUND(F18*H18,2),2) -> 153.25
A19: 1.1.10 | B19: 010224 | C19: DER-ES | D19: Retirada de grades, gradis, alambrados, cercas e portões | E19: m2 | F19: ='MEMÓRIA DE CÁLCULO'!J77 -> 166.651 | G19: 14.05 | H19: =G19*1.3196 -> 18.54038 | I19: =TRUNC(ROUND(F19*H19,2),2) -> 3089.77
A20: 1.1.11 | B20: 010239 | C20: DER-ES | D20: Retirada de divisórias com reaproveitamento | E20: m2 | F20: ='MEMÓRIA DE CÁLCULO'!J81 -> 2.67 | G20: 31.1 | H20: =G20*1.3196 -> 41.03956 | I20: =TRUNC(ROUND(F20*H20,2),2) -> 109.58
A21: 1.1.12 | B21: 010240 | C21: DER-ES | D21: Retirada de pontos elétricos (luminárias, interruptores e tomadas) | E21: und | F21: ='MEMÓRIA DE CÁLCULO'!J88 -> 35 | G21: 8.81 | H21: =G21*1.3196 -> 11.625676 | I21: =TRUNC(ROUND(F21*H21,2),2) -> 406.9
A22: 1.1.13 | B22: 010246 | C22: DER-ES | D22: Lixamento de parede com pintura antiga PVA para recebimento de nova camada de tinta | E22: m2 | F22: ='MEMÓRIA DE CÁLCULO'!J106 -> 322.3902 | G22: 3.02 | H22: =G22*1.3196 -> 3.985192 | I22: =TRUNC(ROUND(F22*H22,2),2) -> 1284.79
A23: 1.1.14 | B23: 010256 | C23: DER-ES | D23: Remoção de telha ondulada de fibrocimento, inclusive cumeeira | E23: m2 | F23: ='MEMÓRIA DE CÁLCULO'!J110 -> 39.025 | G23: 6.11 | H23: =G23*1.3196 -> 8.062756 | I23: =TRUNC(ROUND(F23*H23,2),2) -> 314.65
A24: 1.1.15 | B24: 010271 | C24: DER-ES | D24: Retirada de caixas/quadros elétricos | E24: und | F24: ='MEMÓRIA DE CÁLCULO'!J114 -> 1 | G24: 11.88 | H24: =G24*1.3196 -> 15.676848 | I24: =TRUNC(ROUND(F24*H24,2),2) -> 15.68
A25: 1.1.16 | B25: 010325 | C25: DER-ES | D25: Demolição de estrutura de madeira para telhado | E25: m2 | F25: ='MEMÓRIA DE CÁLCULO'!J118 -> 39.025 | G25: 23.46 | H25: =G25*1.3196 -> 30.957816 | I25: =TRUNC(ROUND(F25*H25,2),2) -> 1208.13
A26: 1.1.17 | B26: 010333 | C26: DER-ES | D26: Retirada de piso de borracha | E26: m2 | F26: ='MEMÓRIA DE CÁLCULO'!J123 -> 23.435 | G26: 6.69 | H26: =G26*1.3196 -> 8.828124 | I26: =TRUNC(ROUND(F26*H26,2),2) -> 206.89
D27: SUB-ITEM 01 | I27: =SUM(I9:I26) -> 11591.91
A28: 2 | B28: 02 | C28: DER-ES | D28: INSTALAÇÃO DO CANTEIRO DE OBRAS | H28: =G28*1.3196 -> 0 | I28: =TRUNC(ROUND(F28*H28,2),2) -> 0
A29: 2.1 | B29: 0203 | C29: DER-ES | D29: TAPUMES, BARRACÕES E COBERTURAS | H29: =G29*1.3196 -> 0 | I29: =TRUNC(ROUND(F29*H29,2),2) -> 0
A30: 2.1.1 | B30: 020305 | C30: DER-ES | D30: Placa de obra nas dimensões de 2.0 x 4.0 m, padrão IOPES | E30: m2 | F30: ='MEMÓRIA DE CÁLCULO'!J129 -> 8 | G30: 269.31 | H30: =G30*1.3196 -> 355.38148 | I30: =TRUNC(ROUND(F30*H30,2),2) -> 2843.05
A31: 2.1.2 | B31: 020339 | C31: DER-ES | D31: Locação de andaime metálico para trabalho em fachada de edifíco (aluguel de 1 m² por 1 mês) inclusive frete, montagem e desmontagem | E31: m2 | F31: ='MEMÓRIA DE CÁLCULO'!J134 -> 142.2 | G31: 14.88 | H31: =G31*1.3196 -> 19.635648 | I31: =TRUNC(ROUND(F31*H31,2),2) -> 2792.19
A32: 2.1.3 | B32: 020350 | C32: DER-ES | D32: Tapume Telha Metálica Ondulada em aço galvalume 0,50mm Branca h=2,20m, incl. montagem estr. mad. 8"x8", c/adesivo "DER-ES" 60x60cm a cada 10m, incl. faixas pint. esmalte sint. cores azul c/ h=30cm e rosa c/ h=10cm (Reaproveitamento 2x) | E32: m | F32: ='MEMÓRIA DE CÁLCULO'!J139 -> 13.2 | G32: 207.79 | H32: =G32*1.3196 -> 274.19968 | I32: =TRUNC(ROUND(F32*H32,2),2) -> 3619.44
D33: SUB-ITEM 02 | I33: =SUM(I28:I32) -> 9254.68
A34: 3 | B34: 03 | C34: DER-ES | D34: MOVIMENTO DE TERRA | I34: =TRUNC(ROUND(F34*H34,2),2) -> 0
A35: 3.1 | B35: 0301 | C35: DER-ES | D35: ESCAVAÇÕES | I35: =TRUNC(ROUND(F35*H35,2),2) -> 0
A36: 3.1.1 | B36: 030101 | C36: DER-ES | D36: Escavação manual em material de 1a. categoria, até 1.50 m de profundidade | E36: m3 | F36: ='MEMÓRIA DE CÁLCULO'!J146 -> 5.58525 | G36: 45.66 | H36: =G36*1.3196 -> 60.252936 | I36: =TRUNC(ROUND(F36*H36,2),2) -> 336.53
A37: 3.2 | B37: 0302 | C37: DER-ES | D37: REATERRO E COMPACTAÇÃO | I37: =TRUNC(ROUND(F37*H37,2),2) -> 0
A38: 3.2.1 | B38: 030201 | C38: DER-ES | D38: Reaterro apiloado de cavas de fundação, em camadas de 20 cm | E38: m3 | F38: ='MEMÓRIA DE CÁLCULO'!J154 -> 2.6196 | G38: 49.18 | H38: =G38*1.3196 -> 64.897928 | I38: =TRUNC(ROUND(F38*H38,2),2) -> 170.01
A39: 3.3 | B39: 0303 | C39: DER-ES | D39: TRANSPORTES | I39: =TRUNC(ROUND(F39*H39,2),2) -> 0
A40: 3.3.1 | B40: 030304 | C40: DER-ES | D40: Índice de preço para remoção de entulho decorrente da execução de obras (Classe A CONAMA - NBR 10.004 - Classe II-B), incluindo aluguel da caçamba, carga, transporte e descarga em área licenciada | E40: m3 | F40: ='MEMÓRIA DE CÁLCULO'!J171 -> 21.28581 | G40: 60.85 | H40: =G40*1.3196 -> 80.29766 | I40: =TRUNC(ROUND(F40*H40,2),2) -> 1709.2
...

Sheet MEMÓRIA DE CÁLCULO
A1: PREFEITURA MUNICIPAL DE JOÃO NEIVA SECRETARIA MUNICIPAL DE DESENVOLVIMENTO URBANO, HABITAÇÃO E OBRAS PÚBLICAS
A2: OBRA: REFORMA DA QUADRA POLIESPORTIVA DE CAVALINHO, JOÃO NEIVA/ES
A3: LOCAL: JOÃO NEIVA/ES
A5: MEMÓRIA DE CÁLCULO
A6: CÓDIGO | B6: DESCRIÇÃO SERVIÇO | C6: UNIDADE | D6: Qnt | E6: C (m) | F6: L (m) | G6: H (m) | H6: A(m2) | I6: V(m3) | J6: QUANT. DO SERVIÇO
A7: 1 | B7: ='PLANILHA ORÇAMENTÁRIA'!D8 -> SERVIÇOS PRELIMINARES
A8: 1.1 | B8: ='PLANILHA ORÇAMENTÁRIA'!D9 -> DEMOLIÇÕES E RETIRADAS
A9: ='PLANILHA ORÇAMENTÁRIA'!A10 -> 1.1.1 | B9: ='PLANILHA ORÇAMENTÁRIA'!D10 -> Demolição de piso revestido com cerâmica | C9: ='PLANILHA ORÇAMENTÁRIA'!E10 -> m2 | D9: Qnt | E9: C (m) | F9: L (m) | G9: H (m) | H9: A(m2) | I9: V(m3) | J9: QUANT. DO SERVIÇO
B10: Banheiro feminino | E10: 2 | F10: 2.88 | H10: =E10*F10 -> 5.76 | J10: =H10 -> 5.76
B11: Banheiro masculino | E11: 3 | F11: 2.88 | H11: =E11*F11 -> 8.64 | J11: =H11 -> 8.64
I12: Total | J12: =SUM(J10:J11) -> 14.4
A14: ='PLANILHA ORÇAMENTÁRIA'!A11 -> 1.1.2 | B14: ='PLANILHA ORÇAMENTÁRIA'!D11 -> Demolição de revestimento com azulejos | C14: ='PLANILHA ORÇAMENTÁRIA'!E11 -> m2 | D14: Qnt | E14: C (m) | F14: L (m) | G14: H (m) | H14: A(m2) | I14: V(m3) | J14: QUANT. DO SERVIÇO
I15: Vãos a descontar (m²)
B16: Banheiro Feminino | D16: 2 | E16: 2 | G16: 2.23 | H16: =D16*E16*G16 -> 8.92 | I16: =0.6*0.6+0.6*2.1 -> 1.62 | J16: =H16-I16 -> 7.3
D17: 2 | E17: 2.88 | G17: 2.23 | H17: =D17*E17*G17 -> 12.8448 | J17: =H17-I17 -> 12.8448
B18: Banheiro Masculino | D18: 2 | E18: 2.88 | G18: 2.23 | H18: =D18*E18*G18 -> 12.8448 | J18: =H18-I18 -> 12.8448
D19: 2 | E19: 3 | G19: 2.23 | H19: =D19*E19*G19 -> 13.38 | I19: =0.6*0.6+0.6*2.1 -> 1.62 | J19: =H19-I19 -> 11.76
B20: Cozinha | D20: 1 | E20: 1.24 | G20: 2.54 | H20: =D20*E20*G20 -> 3.1496 | J20: =H20-I20 -> 3.1496
I21: Total | J21: =SUM(J16:J20) -> 47.8992
A23: ='PLANILHA ORÇAMENTÁRIA'!A12 -> 1.1.3 | B23: ='PLANILHA ORÇAMENTÁRIA'!D12 -> Retirada de revestimento antigo em reboco | C23: ='PLANILHA ORÇAMENTÁRIA'!E12 -> m2 | D23: Qnt | E23: C (m) | F23: L (m) | G23: H (m) | H23: A(m2) | I23: V(m3) | J23: QUANT. DO SERVIÇO
B24: Parede interna muro fundos (lado escola) | E24: 15.57 | G24: 1.38 | H24: =E24*G24 -> 21.4866 | J24: =H24 -> 21.4866
B25: Parede externa muro fundos (lado escola) | E25: 7.94 | G25: 1.38 | H25: =E25*G25 -> 10.9572 | J25: =H25 -> 10.9572
B26: Parede externa muro fundos (lado escola/rampa bilheteria) | E26: 4.5 | G26: =(2.23+1.6)/2 -> 1.915 | H26: =E26*G26 -> 8.6175 | J26: =H26 -> 8.6175
B27: Parte da parede externa da cozinha e banheiros | E27: 10 | G27: 2.1 | H27: =E27*G27 -> 21 | I27: =2*0.8*2.1+0.6*2.1 -> 4.62 | J27: =H27-I27 -> 16.38
I28: Total | J28: =SUM(J24:J27) -> 57.4413
A30: 1.1.4 | B30: ='PLANILHA ORÇAMENTÁRIA'!D13 -> Demolição de alvenaria | C30: ='PLANILHA ORÇAMENTÁRIA'!E13 -> m3 | D30: Qnt | E30: C (m) | F30: L (m) | G30: H (m) | H30: A(m2) | I30: V(m3) | J30: QUANT. DO SERVIÇO
H31: Vãos a descontar (m³)
B32: Banheiro Feminino P.N.E
B33: Parede sanitário | E33: 2.88 | F33: 0.13 | G33: 1.63 | H33: =2*0.6*1.63*0.13 -> 0.25428 | I33: =E33*F33*G33 -> 0.610272 | J33: =I33-H33 -> 0.355992
B34: Parede sanitário | E34: 1 | F34: 0.13 | G34: 1.63 | I34: =E34*F34*G34 -> 0.2119 | J34: =I34-H34 -> 0.2119
B35: Vão da porta | E35: 0.2 | F35: 0.13 | G35: 2.1 | I35: =E35*F35*G35 -> 0.0546 | J35: =I35-H35 -> 0.0546
B36: Vão da báscula a aumentar | E36: 0.6 | F36: 0.13 | G36: 0.6 | I36: =E36*F36*G36 -> 0.0468 | J36: =I36-H36 -> 0.0468
B37: Banheiro Masculino P.N.E | I37: =E37*F37*G37 -> 0 | J37: =I37-H37 -> 0
B38: Parede sanitário | E38: 1 | F38: 0.13 | G38: 2.5 | H38: =0.6*2.1*0.13 -> 0.1638 | I38: =E38*F38*G38 -> 0.325 | J38: =I38-H38 -> 0.1612
B39: Vão da porta | E39: 0.2 | F39: 0.13 | G39: 2.1 | I39: =E39*F39*G39 -> 0.0546 | J39: =I39-H39 -> 0.0546
B40: Vão da báscula a aumentar | E40: 0.6 | F40: 0.13 | G40: 0.6 | I40: =E40*F40*G40 -> 0.0468 | J40: =I40-H40 -> 0.0468
B41: Vão da porta para o Depósito | E41: 0.6 | F41: 0.13 | G41: 2.1 | I41: =E41*F41*G41 -> 0.1638 | J41: =I41-H41 -> 0.1638
B42: Parede divisa vizinho | E42: 28.3 | F42: 0.13 | G42: 1.18 | I42: =E42*F42*G42 -> 4.34122 | J42: =I42-H42 -> 4.34122
I43: Total | J43: =SUM(J32:J42) -> 5.436912
A45: 1.1.5 | B45: ='PLANILHA ORÇAMENTÁRIA'!D14 -> Retirada de portas e janelas de madeira, inclusive batentes | C45: ='PLANILHA ORÇAMENTÁRIA'!E14 -> m2 | D45: Qnt | E45: C (m) | F45: L (m) | G45: H (m) | H45: A(m2) | I45: V(m3) | J45: QUANT. DO SERVIÇO
...

Sheet LS
C2: PREFEITURA MUNICIPAL DE JOÃO NEIVA
C3: COMPOSIÇÃO LEIS SOCIAIS
C4: OBRA: REFORMA DA QUADRA POLIESPORTIVA DE CAVALINHO, JOÃO NEIVA/ES
C5: LOCAL: CAVALINHO, JOÃO NEIVA-ES
B7: GRUPO A - Encargos Sociais Básicos | E7: % IOPES
B8: A.1 | C8: INSS (Art. 22 da Lei 8.212/91) | E8: 0.2
B9: A.2 | C9: FGTS (Art. 27 do Decreto 99.684/90) | E9: 0.08
B10: A.3 | C10: SESI/SESC (Lei 8.029/90 e Lei 8.036/90) | E10: 0.018
B11: A.4 | C11: SENAI/SENAC (Lei 8.029/90 e Decreto-Lei 6246/44) | E11: 0.013
B12: A.5 | C12: SEBRAE (já considerado no item A.3 e A.4) | E12: -
B13: A.6 | C13: INCRA (Lei 2.613/55 e Decreto 1.146/70) | E13: 0.002
B14: A.7 | C14: SALÁRIO-EDUCAÇÃO (Decreto 87.043/82) | E14: 0.025
B15: A.8 | C15: SEGURO ACIDENTE DO TRABALHO (Lei 8.212/91 e Decreto 3.048/99) | E15: 0.03
B16: A.9 | C16: SECONCI/Medicina do Trabalho | E16: 0.01
B17: TOTAL GRUPO A | E17: =SUM(E8:E16) -> 0.378
B18: GRUPO B - Encargos Sociais que recebem a incidência do grupo A | E18: % IOPES
B19: B.1 | C19: Descanso Semanal Remunerado (Art. 66 da CLT e Art. 7º da CF/88) | E19: 0.1752
B20: B.2 | C20: Feriados (Art. 70 da CLT e Lei 605/49) | E20: 0.0391
B21: B.3 | C21: Auxílio doença e acidente do trabalho (Lei 3.607/60 e Art. 131 da CLT) | E21: 0.0076
B22: B.4 | C22: Licença Paternidade (Art. 7º da CF/88) | E22: 0.0011
B23: B.5 | C23: Faltas Legais (Art. 473 da CLT) | E23: 0.0067
B24: B.6 | C24: 13º Salário (Lei nº 4090/62) | E24: 0.1011
B25: B.7 | C25: Aviso Prévio Trabalhado (Art. 7º, inciso XXI da CF/88) | E25: 0.0034
B26: B.8 | C26: Dias de Chuvas | E26: -
B27: B.9 | C27: Férias Gozadas | E27: -
B28: B.10 | C28: Salário Maternidade | E28: -
B29: B.11 | C29: Auxílio - Enfermidade | E29: -
B30: TOTAL GRUPO B | E30: =SUM(E19:E29) -> 0.3342
B31: GRUPO C - Encargos Sociais que não recebem a incidência do grupo A | E31: % IOPES
B32: C.1 | C32: Dispensa sem justa causa (LC 110/01) | E32: 0.0534
B33: C.2 | C33: Férias indenizadas (Art. 129 a 148 da CLT) | E33: 0.112
B34: C.3 | C34: Aviso prévio indenizado (Art. 7º, inciso XXI da CF/88) | E34: 0.1129
B35: C.4 | C35: FGTS sobre aviso prévio indenizado (Súmula 305 TST) | E35: 0.009
B36: C.5 | C36: INSS sobre aviso prévio indenizado (Decreto 6.727/09) | E36: 0.0226
B37: C.6 | C37: Aviso prévio trabalhado | E37: -
B38: C.7 | C38: Indenização Adicional | E38: -
B39: TOTAL GRUPO C | E39: =SUM(E32:E38) -> 0.3099
B40: GRUPO D - Reincidência dos encargos sociais básicos | E40: % IOPES
B41: D.1 | C41: Incidência do grupo A sobre o grupo B | E41: =E17*E30 -> 0.1263276
B42: D.2 | C42: Reincidência de Grupo A sobre Aviso Prévio Trabalho e Reincidência do FGTS sobre Aviso Prévio Indenizado | E42: -
...

Sheet BDI
C2: PREFEITURA MUNICIPAL DE JOÃO NEIVA
C3: COMPOSIÇÃO BDI
C4: OBRA: REFORMA DA QUADRA POLIESPORTIVA DE CAVALINHO, JOÃO NEIVA/ES | F4: L. SOCIAIS: | G4: 1.5727 | H4: TABELA DE REFERÊNCIA: DER/ES
C5: LOCAL: JOÃO NEIVA-ES | F5: BDI: | G5: 0.3196 | H5: DATA-BASE: | J5: OUT/21
E7: Para Serviços
C8: GRUPO A
C9: Administração Central | E9: 0.0406
C10: Total Grupo A | E10: =E9 -> 0.0406
C11: GRUPO B
C12: Administração Local | E12: 0.0588
C13: Total Grupo B | E13: =E12 -> 0.0588
C14: GRUPO C
C15: Impostos/Tributos
C16: ISS | E16: 0.05
C17: PIS | E17: 0.0065
C18: COFINS | E18: 0.03
C19: CPRB | E19: 0
C20: Total Grupo C | E20: =SUM(E16:E19) -> 0.0865
C21: GRUPO D
C22: Custos Financeiros | E22: 0.0061
C23: Total Grupo D | E23: =E22 -> 0.0061
C24: GRUPO E
C25: Seguros / Garantia | E25: 0.005
C26: Riscos | E26: 0.005
C27: Total Grupo E | E27: =SUM(E25:E26) -> 0.01
C28: GRUPO F
C29: Lucro | E29: 0.08
C30: Total Grupo F | E30: =E29 -> 0.08
C32: BDI Total | E32: =(((1+E23)*(1+E10+E13+E27)*(1+E30)/(1-E20))-1) -> 0.31960671
B34: OBS:
B36: 1 | C36: - A fórmula para cálculo da taxa a ser acrescida aos custos diretos de um
C37: empreendimento a título de Benefícios e Despesas Indiretas é:
C38: BDI = {(1 + D)*(1 + A+B+E)*(1 + F)} -1, onde:
C39: (1 – C)
C40: A = ADMINISTRAÇÃO CENTRAL;
C41: B = ADMINISTRAÇÃO LOCAL;
C42: C = ISS + PIS + COFINS+INSS;
C43: D = CUSTOS FINANCEIROS;
C44: E = RISCOS, SEGUROS E GARANTIAS;
C45: F = BENEFÍCIO/LUCRO;
...

Sheet COMP - 01
A1: COMPOSIÇÃO ANALÍTICA DE PREÇO UNITÁRIO | I1: Data-base
I2: 44501
I3: COMP-01
I4: UND: und
A5: SERVIÇO: DISJUNTOR BIPOLAR TIPO DIN, CORRENTE NOMINAL DE 10A - FORNECIMENTO E INSTALAÇÃO
A6: REFERÊNCIA: SINAPI 93660
A7: MÃO-DE-OBRA
A8: CÓD. | B8: ORGÃO | C8: DESCRIÇÃO | F8: UND | G8: COEF | H8: R$ UNIT. | I8: R$ PARCIAL
A9: 88247 | B9: SINAPI | C9: AUXILIAR DE ELETRICISTA COM ENCARGOS COMPLEMENTARES | E9: Encargo: 157,27% | F9: h | G9: 0.0703 | H9: =(18.69/1.8674)*2.5727 -> 25.749043 | I9: =G9*H9 -> 1.8101577
A10: 88264 | B10: SINAPI | C10: ELETRICISTA COM ENCARGOS COMPLEMENTARES | E10: Encargo: 157,27% | F10: h | G10: 0.0703 | H10: =(23.95/1.8674)*2.5727 -> 32.995697 | I10: =G10*H10 -> 2.3195975
A12: TOTAL A | I12: =I9+I10 -> 4.1297552
A14: MATERIAIS/ SERVIÇOS
A15: CÓD. | B15: ORGÃO | C15: DESCRIÇÃO | F15: UND | G15: COEF | H15: R$ UNIT. | I15: R$ PARCIAL
A16: 1570 | B16: SINAPI | C16: TERMINAL A COMPRESSAO EM COBRE ESTANHADO PARA CABO 2,5 MM2, 1 FURO E 1 COMPRESSAO, PARA PARAFUSO DE FIXACAO M5 | F16: und | G16: 2 | H16: 0.87 | I16: =G16*H16 -> 1.74
A17: 34616 | B17: SINAPI | C17: DISJUNTOR TIPO DIN/IEC, BIPOLAR DE 6 ATE 32A | F17: und | G17: 1 | H17: 49.7 | I17: =G17*H17 -> 49.7
A18: TOTAL B | I18: =SUM(I16:I17) -> 51.44
A20: EQUIPAMENTOS
A21: CÓD. | B21: ORGÃO | C21: DESCRIÇÃO | F21: UND | G21: COEF | H21: R$ UNIT. | I21: R$ PARCIAL
A24: TOTAL C | I24: -
A26: RESUMO
A27: TOTAL A | I27: =I12 -> 4.1297552
A28: TOTAL B | I28: =I18 -> 51.44
A29: TOTAL C | I29: -
A30: PREÇO DE VENDA = TOTAL (A+B+C) | I30: =I27+I28 -> 55.569755

Sheet COMP - 02
A1: COMPOSIÇÃO ANALÍTICA DE PREÇO UNITÁRIO | I1: Data-base
I2: 44501
I3: COMP-02
I4: UND: und
A5: SERVIÇO: DISJUNTOR MONOPOLAR TIPO DIN, CORRENTE NOMINAL DE 10A - FORNECIMENTO E INSTALAÇÃO
A6: REFERÊNCIA: SINAPI 93653
A7: MÃO-DE-OBRA
A8: CÓD. | B8: ORGÃO | C8: DESCRIÇÃO | F8: UND | G8: COEF | H8: R$ UNIT. | I8: R$ PARCIAL
A9: 88247 | B9: SINAPI | C9: AUXILIAR DE ELETRICISTA COM ENCARGOS COMPLEMENTARES | E9: Encargo: 157,27% | F9: h | G9: 0.0352 | H9: =(18.69/1.8674)*2.5727 -> 25.749043 | I9: =G9*H9 -> 0.90636632
A10: 88264 | B10: SINAPI | C10: ELETRICISTA COM ENCARGOS COMPLEMENTARES | E10: Encargo: 157,27% | F10: h | G10: 0.0352 | H10: =(23.95/1.8674)*2.5727 -> 32.995697 | I10: =G10*H10 -> 1.1614485
A12: TOTAL A | I12: =I9+I10 -> 2.0678149
A14: MATERIAIS/ SERVIÇOS
A15: CÓD. | B15: ORGÃO | C15: DESCRIÇÃO | F15: UND | G15: COEF | H15: R$ UNIT. | I15: R$ PARCIAL
A16: 1570 | B16: SINAPI | C16: TERMINAL A COMPRESSAO EM COBRE ESTANHADO PARA CABO 2,5 MM2, 1 FURO E 1 COMPRESSAO, PARA PARAFUSO DE FIXACAO M5 | F16: und | G16: 1 | H16: 0.87 | I16: =G16*H16 -> 0.87
A17: 34653 | B17: SINAPI | C17: DISJUNTOR TIPO DIN/IEC, MONOPOLAR DE 6 ATE 32A | F17: und | G17: 1 | H17: 8.67 | I17: =G17*H17 -> 8.67
A18: TOTAL B | I18: =SUM(I16:I17) -> 9.54
A20: EQUIPAMENTOS
A21: CÓD. | B21: ORGÃO | C21: DESCRIÇÃO | F21: UND | G21: COEF | H21: R$ UNIT. | I21: R$ PARCIAL
A24: TOTAL C | I24: -
A26: RESUMO
A27: TOTAL A | I27: =I12 -> 2.0678149
A28: TOTAL B | I28: =I18 -> 9.54
A29: TOTAL C | I29: -
A30: PREÇO DE VENDA = TOTAL (A+B+C) | I30: =I27+I28 -> 11.607815
P31: 0

Sheet COMP - 03
A1: COMPOSIÇÃO ANALÍTICA DE PREÇO UNITÁRIO | I1: Data-base
I2: 44501
I3: COMP-03
I4: UND: und
A5: SERVIÇO: Refletor Led Holofote 100w IP66 Branco Frio Resistente Água
A6: REFERÊNCIA: SINAPI 97600
A7: MÃO-DE-OBRA
A8: CÓD. | B8: ORGÃO | C8: DESCRIÇÃO | F8: UND | G8: COEF | H8: R$ UNIT. | I8: R$ PARCIAL
A9: 88247 | B9: SINAPI | C9: AUXILIAR DE ELETRICISTA COM ENCARGOS COMPLEMENTARES | E9: Encargo: 157,27% | F9: h | G9: 0.1735 | H9: =(18.69/1.8674)*2.5727 -> 25.749043 | I9: =G9*H9 -> 4.467459
A10: 88264 | B10: SINAPI | C10: ELETRICISTA COM ENCARGOS COMPLEMENTARES | E10: Encargo: 157,27% | F10: h | G10: 0.4165 | H10: =(23.95/1.8674)*2.5727 -> 32.995697 | I10: =G10*H10 -> 13.742708
A11: TOTAL A | I11: =I9+I10 -> 18.210167
A13: MATERIAIS/ SERVIÇOS
A14: CÓD. | B14: ORGÃO | C14: DESCRIÇÃO | F14: UND | G14: COEF | H14: R$ UNIT. | I14: R$ PARCIAL
A15: COTAÇÃO 1 | C15: Refletor de Led 100W ip66 | F15: und | G15: 1 | H15: =COTAÇÕES!P8 -> 70.146667 | I15: =G15*H15 -> 70.146667
A17: TOTAL B | I17: =SUM(I15:I15) -> 70.146667
A19: EQUIPAMENTOS
A20: CÓD. | B20: ORGÃO | C20: DESCRIÇÃO | F20: UND | G20: COEF | H20: R$ UNIT. | I20: R$ PARCIAL
A23: TOTAL C | I23: -
A25: RESUMO
A26: TOTAL A | I26: =I11 -> 18.210167
A27: TOTAL B | I27: =I17 -> 70.146667
A28: TOTAL C | I28: -
A29: PREÇO DE VENDA = TOTAL (A+B+C) | I29: =I26+I27 -> 88.356834

Sheet COMP-04
A1: COMPOSIÇÃO ANALÍTICA DE PREÇO UNITÁRIO | I1: Data-base
I3: 44501
I4: COMP-04
A5: SERVIÇO: BARRA DE APOIO EM "L", EM ACO INOX POLIDO 80 X 80 CM, FIXADA NA PAREDE - FORNECIMENTO E INSTALACAO. | I5: UND: und
A7: REFERÊNCIA: SINAPI 100864
A8: MÃO-DE-OBRA
A9: CÓD. | B9: ORGÃO | C9: DESCRIÇÃO | F9: UND | G9: COEF | H9: R$ UNIT. | I9: R$ PARCIAL
A10: 88267 | B10: SINAPI | C10: ENCANADOR OU BOMBEIRO HIDRÁULICO COM ENCARGOS COMPLEMENTARES | E10: Encargo: 157,27% | F10: h | G10: 1.4228 | H10: =(19.73/1.8674)*2.5727 -> 27.181842 | I10: =G10*H10 -> 38.674324
A11: 88316 | B11: SINAPI | C11: SERVENTE COM ENCARGOS COMPLEMENTARES | E11: Encargo: 157,27% | F11: h | G11: 0.4483 | H11: =(16.48/1.8674)*2.5727 -> 22.704346 | I11: =H11*G11 -> 10.178358
A12: TOTAL A | I12: =I10+I11 -> 48.852683
A14: MATERIAIS/ SERVIÇOS
A15: CÓD. | B15: ORGÃO | C15: DESCRIÇÃO | F15: UND | G15: COEF | H15: R$ UNIT. | I15: R$ PARCIAL
A16: 4351 | B16: SINAPI | C16: PARAFUSO NIQUELADO 3 1/2" COM ACABAMENTO CROMADO PARA FIXAR PECA SANITARIA, INCLUI PORCA CEGA, ARRUELA E BUCHA DE NYLON TAMANHO S-8 | F16: UND | G16: 9 | H16: 14.4 | I16: =H16*G16 -> 129.6
A17: 36209 | B17: SINAPI | C17: BARRA DE APOIO EM "L", EM ACO INOX POLIDO 80 X 80 CM, DIAMETRO MINIMO 3 CM | F17: UND | G17: 1 | H17: 379.61 | I17: =H17*G17 -> 379.61
A18: TOTAL B | I18: =SUM(I16:I17) -> 509.21
A21: EQUIPAMENTOS
C22: DESCRIÇÃO | F22: UND | G22: COEF | H22: R$ UNIT. | I22: R$ PARCIAL
A24: TOTAL C | I24: =I23 -> 0
A26: RESUMO
A27: TOTAL A | I27: =I12 -> 48.852683
A28: TOTAL B | I28: =I18 -> 509.21
A29: TOTAL C | I29: =I19 -> 0
A30: PREÇO DE VENDA = TOTAL (A+B+C) | I30: =SUM(I27:I28) -> 558.06268

Sheet COMP-05
A1: COMPOSIÇÃO ANALÍTICA DE PREÇO UNITÁRIO | I1: Data-base
I3: 44501
I4: COMP-05
A5: SERVIÇO: Saboneteira plástica tipo dispenser para sabonete líquido com reservatório 800 a 1500 ml, incluso fixação. | I5: UND: und
A7: REFERÊNCIA: SINAPI-ES 95547
A8: MÃO-DE-OBRA
A9: CÓD. | B9: ORGÃO | C9: DESCRIÇÃO | F9: UND | G9: COEF | H9: R$ UNIT. | I9: R$ PARCIAL
A10: 88267 | B10: SINAPI-ES | C10: ENCANADOR OU BOMBEIRO HIDRÁULICO COM ENCARGOS COMPLEMENTARES | E10: Encargo: 157,27% | F10: h | G10: 0.3162 | H10: =(19.73/1.8674)*2.5727 -> 27.181842 | I10: =G10*H10 -> 8.5948983
A11: 88316 | B11: SINAPI-ES | C11: SERVENTE COM ENCARGOS COMPLEMENTARES | E11: Encargo: 157,27% | F11: h | G11: 0.0996 | H11: =(16.48/1.8674)*2.5727 -> 22.704346 | I11: =G11*H11 -> 2.2613529
A13: TOTAL A | I13: =I10+I11 -> 10.856251
A15: MATERIAIS/ SERVIÇOS
A16: CÓD. | B16: ORGÃO | C16: DESCRIÇÃO | F16: UND | G16: COEF | H16: R$ UNIT. | I16: R$ PARCIAL
A17: 11758 | B17: SINAPI-ES | C17: SABONETEIRA PLASTICA TIPO DISPENSER PARA SABONETE LIQUIDO COM RESERVATORIO 800 A 1500 ML | F17: und | G17: 1 | H17: 65.4 | I17: =G17*H17 -> 65.4
A19: TOTAL B | I19: =SUM(I17:I18) -> 65.4
A21: EQUIPAMENTOS
C22: DESCRIÇÃO | F22: UND | G22: COEF | H22: R$ UNIT. | I22: R$ PARCIAL
A25: TOTAL C | I25: =I23 -> 0
A27: RESUMO
A28: TOTAL A | I28: =I13 -> 10.856251
A29: TOTAL B | I29: =I19 -> 65.4
A30: TOTAL C | I30: =I25 -> 0
A31: PREÇO DE VENDA = TOTAL (A+B+C) | I31: =SUM(I28:I30) -> 76.256251

Sheet COMP-06
A1: COMPOSIÇÃO ANALÍTICA DE PREÇO UNITÁRIO | I1: Data-base
I3: 44501
I4: COMP-06
A5: SERVIÇO: Porta papel toalha plástica tipo dispenser, capacidade para aproximadamente 750 folhas, incluso fixação. | I5: UND: und
A7: REFERÊNCIA: SINAPI-ES 95547
A8: MÃO-DE-OBRA
A9: CÓD. | B9: ORGÃO | C9: DESCRIÇÃO | F9: UND | G9: COEF | H9: R$ UNIT. | I9: R$ PARCIAL
A10: 88267 | B10: SINAPI-ES | C10: ENCANADOR OU BOMBEIRO HIDRÁULICO COM ENCARGOS COMPLEMENTARES | E10: Encargo: 157,27% | F10: h | G10: 0.3162 | H10: =(19.73/1.8674)*2.5727 -> 27.181842 | I10: =G10*H10 -> 8.5948983
A11: 88316 | B11: SINAPI-ES | C11: SERVENTE COM ENCARGOS COMPLEMENTARES | E11: Encargo: 157,27% | F11: h | G11: 0.0996 | H11: =(16.48/1.8674)*2.5727 -> 22.704346 | I11: =G11*H11 -> 2.2613529
A13: TOTAL A | I13: =I10+I11 -> 10.856251
A15: MATERIAIS/ SERVIÇOS
A16: CÓD. | B16: ORGÃO | C16: DESCRIÇÃO | F16: UND | G16: COEF | H16: R$ UNIT. | I16: R$ PARCIAL
B17: COTAÇÃO 2 | C17: Porta papel toalha plástica tipo dispenser, capacidade para aproximadamente 750 folhas | F17: und | G17: 1 | H17: =COTAÇÕES!P9 -> 50.366667 | I17: =G17*H17 -> 50.366667
A19: TOTAL B | I19: =SUM(I17:I18) -> 50.366667
A21: EQUIPAMENTOS
C22: DESCRIÇÃO | F22: UND | G22: COEF | H22: R$ UNIT. | I22: R$ PARCIAL
A25: TOTAL C | I25: =I23 -> 0
A27: RESUMO
A28: TOTAL A | I28: =I13 -> 10.856251
A29: TOTAL B | I29: =I19 -> 50.366667
A30: TOTAL C | I30: =I25 -> 0
A31: PREÇO DE VENDA = TOTAL (A+B+C) | I31: =SUM(I28:I30) -> 61.222918

Sheet COMP-07
A1: COMPOSIÇÃO ANALÍTICA DE PREÇO UNITÁRIO | I1: Data-base
I3: 44501
I4: COMP-07
A5: SERVIÇO: Papeleira de parede em metal cromado sem tampa, incluso fixação. | I5: UND: und
A7: REFERÊNCIA: SINAPI-ES 95544
A8: MÃO-DE-OBRA
A9: CÓD. | B9: ORGÃO | C9: DESCRIÇÃO | F9: UND | G9: COEF | H9: R$ UNIT. | I9: R$ PARCIAL
A10: 88267 | B10: SINAPI-ES | C10: ENCANADOR OU BOMBEIRO HIDRÁULICO COM ENCARGOS COMPLEMENTARES | E10: Encargo: 157,27% | F10: h | G10: 0.3162 | H10: =(19.73/1.8674)*2.5727 -> 27.181842 | I10: =G10*H10 -> 8.5948983
A11: 88316 | B11: SINAPI-ES | C11: SERVENTE COM ENCARGOS COMPLEMENTARES | E11: Encargo: 157,27% | F11: h | G11: 0.0996 | H11: =(16.48/1.8674)*2.5727 -> 22.704346 | I11: =G11*H11 -> 2.2613529
A13: TOTAL A | I13: =I10+I11 -> 10.856251
A15: MATERIAIS/ SERVIÇOS
A16: CÓD. | B16: ORGÃO | C16: DESCRIÇÃO | F16: UND | G16: COEF | H16: R$ UNIT. | I16: R$ PARCIAL
A17: 11703 | B17: SINAPI-ES | C17: PAPELEIRA DE PAREDE EM METAL CROMADO SEM TAMPA | F17: und | G17: 1 | H17: 24.82 | I17: =G17*H17 -> 24.82
A19: TOTAL B | I19: =SUM(I17:I18) -> 24.82
A21: EQUIPAMENTOS
C22: DESCRIÇÃO | F22: UND | G22: COEF | H22: R$ UNIT. | I22: R$ PARCIAL
A25: TOTAL C | I25: =I23 -> 0
A27: RESUMO
A28: TOTAL A | I28: =I13 -> 10.856251
A29: TOTAL B | I29: =I19 -> 24.82
A30: TOTAL C | I30: =I25 -> 0
A31: PREÇO DE VENDA = TOTAL (A+B+C) | I31: =SUM(I28:I30) -> 35.676251

Sheet COTAÇÕES
B1: PREFEITURA MUNICIPAL DE JOÃO NEIVA
B2: COTAÇÕES
B3: OBRA: REFORMA DA QUADRA POLIESPORTIVA DE CAVALINHO, JOÃO NEIVA/ES
B4: LOCAL: CAVALINHO, JOÃO NEIVA-ES
B5: ORÇAMENTISTA: BRUNA PEROVANO SIRTULI E THAÍS BAPTISTA MENELLI
A6: NÚMERO | B6: ITEM PLANILHA | C6: DESCRIÇÃO | D6: FORNECEDOR 1 | E6: CONTATO | F6: PREÇO | G6: DATA | H6: FORNECEDOR 2 | I6: CONTATO | J6: PREÇO | K6: DATA | L6: FORNECEDOR 3 | M6: CONTATO | N6: PREÇO | O6: DATA | P6: MÉDIA | Q6: OBSERVAÇÕES
A8: 1 | B8: 15.2.2 | C8: Refletor de Led 100W ip66 | D8: Ilumini | E8: https://www.iluminim.com.br/refletor-holofote-microled-100w-branco-frio?utm_source=Site&utm_medium=GoogleMerchant&utm_campaign=GoogleMerchant&gclid=EAIaIQobChMIrZ6DsPDg9AIVl4aRCh3VaQKOEAQYASABEgKnPfD_BwE | F8: 59.9 | G8: 44543 | H8: Sustenta Led | I8: https://www.sustentaled.com.br/refletor-holofote-microled-100w-branco-frio?utm_source=Site&utm_medium=GoogleMerchant&utm_campaign=GoogleMerchant | J8: 79.8 | K8: 44543 | L8: Compra Led | M8: https://www.compraled.com.br/refletor-holofote-led-100w-smd-ip66-a-prova-dagua-branco-frio-6000k?utm_source=Site&utm_medium=GoogleMerchant&utm_campaign=GoogleMerchant | N8: 70.74 | O8: 44543 | P8: =(F8+J8+N8)/3 -> 70.146667 | Q8: Não foi considerado frete
A9: 2 | B9: ='PLANILHA ORÇAMENTÁRIA'!A176 -> 18.1.4 | C9: Porta papel toalha plástica tipo dispenser, capacidade para aproximadamente 750 folhas | D9: Americanas | E9: https://www.americanas.com.br/produto/1685126465?pfm_carac=dispenser-p%252Fpapel-toalha-velox-premisse-branco&pfm_page=search&pfm_pos=grid&pfm_type=search_page&offerId=6081d5000c070442667b066f&buyboxToken=smartbuybox-acom-v2-f63a070c-8d02-4ec5-89d2-190227450a66-2021-12-22%2011%3A17%3A01-0300#info-section | F9: 58.7 | G9: 44552 | H9: Kalunga | I9: https://www.kalunga.com.br/prod/dispenser-papel-toalha-interfolhado-branco-c19533-premisse-cx-1-un/324175?pcID=39&gclid=Cj0KCQjwqrb7BRDlARIsACwGad6HO2dT5IOnuzBk8d55FZvxHn7u8z-LvSHzV70iwJALgCLUeG6uVL4aAqcFEALw_wcB | J9: 45.9 | K9: 44552 | L9: Submarino | M9: https://www.submarino.com.br/produto/4428848483?pfm_carac=dispenser-para-papel-toalha-premisse-velox-branco-premisse&pfm_index=1&pfm_page=search&pfm_pos=grid&pfm_type=search_page | N9: 46.5 | O9: 44552 | P9: =(F9+J9+N9)/3 -> 50.366667 | Q9: Não foi considerado frete

Sheet CRONOGRAMA
B1: PREFEITURA MUNICIPAL DE JOÃO NEIVA
B2: CRONOGRAMA FÍSICO-FINANCEIRO
B3: OBRA: REFORMA DA QUADRA POLIESPORTIVA DE CAVALINHO, JOÃO NEIVA/ES
B4: LOCAL: CAVALINHO, JOÃO NEIVA/ES
A5: ITEM | B5: DESCRIÇÃO | D5: VALORES R$ | E5: PERÍODO (MESES)
E6: 1 | F6: 2 | G6: 3 | H6: 4 | I6: 5 | J6: 6
A7: 1 | B7: ='PLANILHA ORÇAMENTÁRIA'!D8 -> SERVIÇOS PRELIMINARES | C7: Financeiro (R$) | D7: ='PLANILHA ORÇAMENTÁRIA'!I27 -> 11591.91 | E7: =D7/1 -> 11591.91
C8: Físico (%) | D8: =D7/$D$45 -> 0.045181513 | E8: =E7/D7 -> 1
A9: 2 | B9: ='PLANILHA ORÇAMENTÁRIA'!D28 -> INSTALAÇÃO DO CANTEIRO DE OBRAS | C9: Financeiro (R$) | D9: ='PLANILHA ORÇAMENTÁRIA'!I33 -> 9254.68 | E9: =D9*0.7 -> 6478.276 | F9: =D9*0.3 -> 2776.404
C10: Físico (%) | D10: =D9/$D$45 -> 0.036071747 | E10: 0.7 | F10: 0.3
A11: 3 | B11: ='PLANILHA ORÇAMENTÁRIA'!D34 -> MOVIMENTO DE TERRA | C11: Financeiro (R$) | D11: ='PLANILHA ORÇAMENTÁRIA'!I41 -> 2215.74 | F11: =D11/1 -> 2215.74
C12: Físico (%) | D12: =D11/$D$45 -> 0.0086362374 | F12: =F11/D11 -> 1
A13: 4 | B13: ='PLANILHA ORÇAMENTÁRIA'!D42 -> ESTRUTURAS | C13: Financeiro (R$) | D13: ='PLANILHA ORÇAMENTÁRIA'!I57 -> 18233.69 | F13: =D13*0.35 -> 6381.7915 | G13: =D13*0.65 -> 11851.899
C14: Físico (%) | D14: =D13/$D$45 -> 0.071069022 | F14: 0.35 | G14: =G13/D13 -> 0.65
A15: 5 | B15: ='PLANILHA ORÇAMENTÁRIA'!D58 -> PAREDES E PAINÉIS | C15: Financeiro (R$) | D15: ='PLANILHA ORÇAMENTÁRIA'!I61 -> 7747.95 | G15: =D15/2 -> 3873.975 | H15: =D15/2 -> 3873.975
C16: Físico (%) | D16: =D15/$D$45 -> 0.030199001 | G16: =G15/D15 -> 0.5 | H16: =H15/D15 -> 0.5
A17: 6 | B17: ='PLANILHA ORÇAMENTÁRIA'!D62 -> ESQUADRIAS METÁLICAS | C17: Financeiro (R$) | D17: ='PLANILHA ORÇAMENTÁRIA'!I68 -> 15547.72 | I17: =D17/1 -> 15547.72
C18: Físico (%) | D18: =D17/$D$45 -> 0.06059998 | I18: =I17/D17 -> 1
A19: 7 | B19: ='PLANILHA ORÇAMENTÁRIA'!D69 -> VIDROS E ESPELHOS | C19: Financeiro (R$) | D19: ='PLANILHA ORÇAMENTÁRIA'!I72 -> 634.11 | I19: =D19 -> 634.11
C20: Físico (%) | D20: =D19/$D$45 -> 0.0024715555 | I20: =I19/D19 -> 1
A21: 8 | B21: ='PLANILHA ORÇAMENTÁRIA'!D73 -> COBERTURA | C21: Financeiro (R$) | D21: ='PLANILHA ORÇAMENTÁRIA'!I80 -> 18927.36 | F21: =D21/2 -> 9463.68 | G21: =D21/2 -> 9463.68
C22: Físico (%) | D22: =D21/$D$45 -> 0.073772723 | F22: =F21/D21 -> 0.5 | G22: =G21/D21 -> 0.5
A23: 9 | B23: ='PLANILHA ORÇAMENTÁRIA'!D81 -> IMPERMEABILIZAÇÃO | C23: Financeiro (R$) | D23: ='PLANILHA ORÇAMENTÁRIA'!I84 -> 1149.82 | F23: =D23/2 -> 574.91 | G23: =D23/2 -> 574.91
C24: Físico (%) | D24: =D23/$D$45 -> 0.0044816262 | F24: =F23/D23 -> 0.5 | G24: =G23/D23 -> 0.5
A25: 10 | B25: ='PLANILHA ORÇAMENTÁRIA'!D85 -> REVESTIMENTO DE PAREDES | C25: Financeiro (R$) | D25: ='PLANILHA ORÇAMENTÁRIA'!I90 -> 18096.66 | H25: =D25/1 -> 18096.66
C26: Físico (%) | D26: =D25/$D$45 -> 0.070534923 | H26: =H25/D25 -> 1
A27: 11 | B27: ='PLANILHA ORÇAMENTÁRIA'!D91 -> PISOS INTERNOS E EXTERNOS | C27: Financeiro (R$) | D27: ='PLANILHA ORÇAMENTÁRIA'!I95 -> 8483.87 | H27: =D27/1 -> 8483.87
C28: Físico (%) | D28: =D27/$D$45 -> 0.033067379 | H28: =H27/D27 -> 1
A29: 12 | B29: ='PLANILHA ORÇAMENTÁRIA'!D96 -> INSTALAÇÕES HIDRO-SANITÁRIAS | C29: Financeiro (R$) | D29: ='PLANILHA ORÇAMENTÁRIA'!I104 -> 764.37 | G29: =D29/1 -> 764.37
C30: Físico (%) | D30: =D29/$D$45 -> 0.0029792669 | G30: =G29/D29 -> 1
A31: 13 | B31: ='PLANILHA ORÇAMENTÁRIA'!D105 -> INSTALAÇÕES ELÉTRICAS | C31: Financeiro (R$) | D31: ='PLANILHA ORÇAMENTÁRIA'!I135 -> 15499.8 | F31: =D31/2 -> 7749.9 | G31: =D31/2 -> 7749.9
C32: Físico (%) | D32: =D31/$D$45 -> 0.060413204 | F32: =F31/D31 -> 0.5 | G32: =G31/D31 -> 0.5
A33: 14 | B33: ='PLANILHA ORÇAMENTÁRIA'!D136 -> APARELHOS HIDRO-SANITÁRIOS | C33: Financeiro (R$) | D33: ='PLANILHA ORÇAMENTÁRIA'!I142 -> 10462.19 | G33: =D33/1 -> 10462.19
C34: Físico (%) | D34: =D33/$D$45 -> 0.04077823 | G34: =G33/D33 -> 1
A35: 15 | B35: ='PLANILHA ORÇAMENTÁRIA'!D143 -> APARELHOS ELÉTRICOS | C35: Financeiro (R$) | D35: ='PLANILHA ORÇAMENTÁRIA'!I152 -> 3784.24 | H35: =D35/1 -> 3784.24
C36: Físico (%) | D36: =D35/$D$45 -> 0.014749743 | H36: =H35/D35 -> 1
A37: 16 | B37: ='PLANILHA ORÇAMENTÁRIA'!D153 -> PINTURA | C37: Financeiro (R$) | D37: ='PLANILHA ORÇAMENTÁRIA'!I163 -> 93727.93 | H37: =D37/3 -> 31242.643 | I37: =D37/3 -> 31242.643 | J37: =D37/3 -> 31242.643
C38: Físico (%) | D38: =D37/$D$45 -> 0.36532113 | H38: =H37/D37 -> 0.33333333 | I38: =I37/D37 -> 0.33333333 | J38: =J37/D37 -> 0.33333333
A39: 17 | B39: ='PLANILHA ORÇAMENTÁRIA'!D164 -> SERVIÇOS COMPLEMENTARES EXTERNOS | C39: Financeiro (R$) | D39: ='PLANILHA ORÇAMENTÁRIA'!I170 -> 14076.31 | I39: =D39/2 -> 7038.155 | J39: =D39/2 -> 7038.155
C40: Físico (%) | D40: =D39/$D$45 -> 0.0548649 | I40: =I39/D39 -> 0.5 | J40: =J39/D39 -> 0.5
...
