Workbook
Name __FOG50: #REF!
Name __PVC100: #REF!
Name __PVC150: #REF!
Name __PVC50: #REF!
Name __PVC75: #REF!
Name __VBF1: #REF!
Name __VE1: #REF!
Name __VO1: [1]MEMORIAL!#REF!
Name __VR1: #REF!
Name _1Excel_BuiltIn_Print_Area_3_1: #REF!
Name _1Excel_BuiltIn_Print_Area_3_1: #REF!
Name _1Excel_BuiltIn_Print_Area_3_1: #REF!
Name _1Excel_BuiltIn_Print_Area_3_1: #REF!
Name _1Excel_BuiltIn_Print_Area_3_1: #REF!
Name _FOG50: #REF!
Name _FOG50: #REF!
Name _FOG50: #REF!
Name _PVC100: #REF!
Name _PVC100: #REF!
Name _PVC100: #REF!
Name _PVC150: #REF!
Name _PVC150: #REF!
Name _PVC150: #REF!
Name _PVC50: #REF!
Name _PVC50: #REF!
Name _PVC50: #REF!
Name _PVC75: #REF!
Name _PVC75: #REF!
Name _PVC75: #REF!
Name _VBF1: #REF!
Name _VBF1: #REF!
Name _VBF1: #REF!
Name _VE1: #REF!
Name _VE1: #REF!
Name _VE1: #REF!
Name _VO1: [1]MEMORIAL!#REF!
Name _VO1: [1]MEMORIAL!#REF!
Name _VO1: [1]MEMORIAL!#REF!
Name _VR1: #REF!
Name _VR1: #REF!
Name _VR1: #REF!
Name _VR1: #REF!
Name _VR1: #REF!
Name A__1: [1]MEMORIAL!#REF!
Name A__1: [1]MEMORIAL!#REF!
Name A__1: [1]MEMORIAL!#REF!
Name A__1: [1]MEMORIAL!#REF!
Name A__1: [1]MEMORIAL!#REF!
Name A__1_1: [1]MEMORIAL!#REF!
Name A__1_1: [1]MEMORIAL!#REF!
Name A__1_1: [1]MEMORIAL!#REF!
Name A__2: [1]MEMORIAL!#REF!
Name A__2: [1]MEMORIAL!#REF!
Name A__2: [1]MEMORIAL!#REF!
Name A__2_1: [1]MEMORIAL!#REF!
Name A__2_1: [1]MEMORIAL!#REF!
Name A__2_1: [1]MEMORIAL!#REF!
Name A__3: [1]MEMORIAL!#REF!
Name A__3: [1]MEMORIAL!#REF!
Name A__3: [1]MEMORIAL!#REF!

Sheet PO
B1: PREFEITURA MUNICIPAL DE JOÃO NEIVA
B2: PLANILHA DE QUANTIDADES E PREÇOS UNITÁRIOS
B3: OBRA: CONSTRUÇÃO DA PONTE DE TRILHOS
B4: LOCAL: SANTO AFONSO, JOÃO NEIVA-ES | E4: TABELA REFERENCIAL: DER-ES SEM DESONERAÇÃO | G4: BDI | H4: DATA BASE
B5: ORÇAMENTISTA: JEFTER DOS SANTOS LADISLAU: CREA-ES 043139/D
E6: LS: | F6: 1.5727 | G6: 0.2332 | H6: 44562
A7: Item | B7: Código | C7: Órgão | D7: DESCRIÇÃO SERVIÇO | E7: Unid. | F7: Quant.
G8: Unitário com BDI | H8: Total
A9: 01 | D9: CANTEIRO DE OBRAS
A10: 01.01 | B10: 20305 | C10: DER-ES (EDIFICAÇÕES) | D10: Placa de obra nas dimensões de 2.0 x 4.0 m, padrão IOPES | E10: m² | F10: =MC!P11 -> 8 | G10: =269.37*(1+($G$6)) -> 332.18708 | H10: =F10*G10 -> 2657.4967
A11: 01.02 | B11: 41579 | C11: DER-ES | D11: Aluguel de container para almoxarifado | E11: mês | F11: =MC!P15 -> 2 | G11: 875.57 | H11: =F11*G11 -> 1751.14
A12: 01.03 | B12: 41495 | C12: DER-ES | D12: Mobilização e desmobilização de container até 50 km | E12: Unid. | F12: =MC!P19 -> 1 | G12: 1152.33 | H12: =F12*G12 -> 1152.33
A13: 01.04 | C13: COMP-01 | D13: Administração local | E13: mês | F13: =MC!P22 -> 2 | G13: ='Comp-01'!J30 -> 4887.5292 | H13: =F13*G13 -> 9775.0585
D14: SUB-TOTAL 01 | H14: =SUM(H10:H13) -> 15336.025
A16: 02 | D16: DEMOLIÇÕES E RETIRADAS
A17: 02.01 | B17: 42870 | C17: DER-ES | D17: Demolição mecânica de concreto em Vias Urbanas | E17: m³ | F17: =MC!P29 -> 8.730316 | G17: 282.31 | H17: =G17*F17 -> 2464.6555
A18: 02.02 | B18: 40891 | C18: DER-ES | D18: Remoção de pavimentação poliédrica | E18: m² | F18: =MC!P34 -> 9.49 | G18: 24.08 | H18: =G18*F18 -> 228.5192
A19: 02.03 | B19: 42578 | C19: DER-ES | D19: Escavação e carga de material de 1ª categoria com escavadeira em Vias Urbanas | E19: m³ | F19: =MC!P39 -> 12.337 | G19: 5.47 | H19: =G19*F19 -> 67.48339
A20: 02.04 | B20: 60010 | C20: DER-ES | D20: Transporte Local de Materiais (TR-101-01) (Vias urbanas - Caminhão basculante) (1,679XP + 2,239XR + 2,799) (XP=20,0; XR=2,0) | E20: t | F20: =MC!P46 -> 59.345496 | G20: =1.679*(20) + 2.239*(2) + 2.799 -> 40.857 | H20: =G20*F20 -> 2424.6789
D21: SUB-TOTAL 02 | H21: =SUM(H17:H20) -> 5185.337
A23: 03 | D23: MOVIMENTO DE TERRA
A24: 03.01 | B24: 40258 | C24: DER-ES | D24: Escavação manual em mat. 1ª cat. H= 0,00 a 1,50 m | E24: m³ | F24: =MC!P52 -> 13.84188 | G24: 79.14 | H24: =G24*F24 -> 1095.4464
A25: 03.02 | B25: 40302 | C25: DER-ES | D25: Reaterro de cavas c/ compactação manual (apiloamento) | E25: m³ | F25: =MC!P57 -> 4.152564 | G25: 83.3 | H25: =G25*F25 -> 345.90858
D26: SUB-TOTAL 03 | H26: =SUM(H24:H25) -> 1441.355
A28: 04 | D28: ESTRUTURA
A29: 04.01 | C29: COMP-02 | D29: Muro de arrimo em Conc. ciclópico 20MPa c/ 30% de pedra de mão, c/ forn., preparo e aplicação de concreto, forma de tábua pinho-reap.5 vezes, exclusive escav. e reaterro, seções tipicas nas dimensões:b=0,4m; B=0,40m e H=1,30m | E29: m | F29: =MC!P63 -> 20.6952 | G29: ='Comp-02'!J41 -> 673.15455 | H29: =G29*F29 -> 13931.068
A30: 04.02 | B30: 040231 | C30: DER-ES (EDIFICAÇÕES) | D30: Fornecimento, preparo e aplicação de concreto magro com consumo mínimo de cimento de 250 kg/m3 (brita 1 e 2) - (5% de perdas já incluído no custo) | E30: m³ | F30: =MC!P68 -> 0.745332 | G30: =538.04*(1+($G$6)) -> 663.51093 | H30: =G30*F30 -> 494.53593
A31: 04.03 | B31: 40319 | C31: DER-ES | D31: Formas planas de madeirit meso e superestrutura sem reaproveitamento esp. = 10 mm, inclusive fornecimento e transporte das madeiras | E31: m² | F31: =MC!P73 -> 26.51424 | G31: 143.02 | H31: =G31*F31 -> 3792.0666
A32: 04.04 | B32: 40353 | C32: DER-ES | D32: Concreto ciclópico com 70% concreto 20,0 MPa e 30% de pedra de mão, tudo incluído | E32: m³ | F32: =MC!P78 -> 8.691984 | G32: 560.09 | H32: =G32*F32 -> 4868.2933
A33: 04.05 | C33: COMP-03 | D33: Mesa de ponte de Concreto Armado FCK= 30MPA ,tudo incluso exceto fornecimento dos trilhos de acordo com projeto. | E33: unid | F33: =MC!P82 -> 1 | G33: ='Comp-03'!K64 -> 21062.427 | H33: =G33*F33 -> 21062.427
A34: 04.06 | B34: 41359 | C34: DER-ES | D34: Tela de proteção de segurança de PVC cor laranja com suporte para sinalização de obras | E34: m | F34: =MC!P86 -> 9.3494 | G34: 19.76 | H34: =G34*F34 -> 184.74414
D35: SUB-TOTAL 04 | H35: =SUM(H29:H34) -> 44333.135
A37: TOTAL GERAL | H37: =H35+H26+H21+H14 -> 66295.852

Sheet MC
B1: PREFEITURA MUNICIPAL DE JOÃO NEIVA
B2: PLANILHA DE QUANTIDADES E PREÇOS UNITÁRIOS
B3: OBRA: CONSTRUÇÃO DA PONTE DE TRILHOS
B4: LOCAL: SANTO AFONSO, JOÃO NEIVA-ES
B5: ORÇAMENTISTA: JEFTER DOS SANTOS LADISLAU: CREA-ES 043139/D
A6: CÓD. | B6: DISCRIMINAÇÃO | C6: LOCALIZAÇÃO (Estaca) | I6: POS. | J6: QUANT. | K6: EXT. | L6: LARG. | M6: PROF. | N6: ÁREA | O6: VOLUME | P6: TOTAL | Q6: UNID.
C7: Inicial | F7: Final | K7: (m) | L7: (m) | M7: (m) | N7: (m²) | O7: (m³)
A8: 01 | B8: CANTEIRO DE OBRA
A9: 01.01 | B9: Placa de obra nas dimensões de 2.0 x 4.0 m, padrão IOPES
K10: 4 | L10: 2 | N10: =K10*L10 -> 8 | P10: =N10 -> 8
B11: QUANTIDADE | P11: =P10 -> 8 | Q11: m²
A13: 01.02 | B13: Aluguel de container para almoxarifado
J14: 2 | P14: =J14 -> 2
B15: QUANTIDADE | P15: =P14 -> 2 | Q15: mês
A17: 01.03 | B17: Mobilização e desmobilização de container até 50 km
J18: 1 | P18: =J18 -> 1
B19: QUANTIDADE | P19: =P18 -> 1 | Q19: unid
A20: 01.03 | B20: Administração local
J21: 2 | P21: =J21 -> 2
B22: QUANTIDADE | P22: =P21 -> 2 | Q22: unid
A24: 02 | B24: DEMOLIÇÕES E RETIRADAS
A25: 02.01 | B25: Demolição mecânica de concreto em Vias Urbanas
B26: Cabeceira da ponte | K26: 6.7546 | L26: 0.4 | M26: 1.55 | O26: =K26*L26*M26 -> 4.187852 | P26: =O26 -> 4.187852
K27: 6.3172 | L27: 0.4 | M27: 1.55 | O27: =K27*L27*M27 -> 3.916664 | P27: =O27 -> 3.916664
B28: Mesa de concreto | M28: 0.07 | N28: =18.43-P34 -> 8.94 | O28: =M28*N28 -> 0.6258 | P28: =O28 -> 0.6258
B29: QUANTIDADE | P29: =SUM(P26:P28) -> 8.730316 | Q29: m³
A31: 02.02 | B31: Remoção de pavimentação poliédrica
B32: Porção posterior às cabeceiras | N32: 4.92 | P32: =N32 -> 4.92
N33: 4.57 | P33: =N33 -> 4.57
B34: QUANTIDADE | P34: =SUM(P32:P33) -> 9.49 | Q34: m²
A36: 02.03 | B36: Escavação e carga de material de 1ª categoria com escavadeira em Vias Urbanas
B37: Porção de terra posterior às cabeceiras | M37: 1.3 | N37: =N32 -> 4.92 | O37: =N37*M37 -> 6.396 | P37: =O37 -> 6.396
M38: 1.3 | N38: =N33 -> 4.57 | O38: =N38*M38 -> 5.941 | P38: =O38 -> 5.941
B39: QUANTIDADE | P39: =SUM(P37:P38) -> 12.337 | Q39: m³
A41: 02.04 | B41: Transporte Local de Materiais (TR-101-01) (Vias urbanas - Caminhão basculante) | L41: t/m³
B42: Demolição mecânica de concreto em Vias Urbanas | L42: 2.5 | O42: =P29 -> 8.730316 | P42: =O42*L42 -> 21.82579
B43: Remoção de pavimentação poliédrica | L43: 2.4 | N43: 0.1 | O43: =P34 -> 9.49 | P43: =O43*N43*L43 -> 2.2776
B44: Escavação e carga de material de 1ª categoria com escavadeira | L44: 1.6 | O44: =P39 -> 12.337 | P44: =O44*L44 -> 19.7392
B45: Escavação - reaterro (base das cabeçeiras) | L45: 1.6 | O45: =P52-P57 -> 9.689316 | P45: =O45*L45 -> 15.502906
B46: QUANTIDADE | P46: =SUM(P42:P45) -> 59.345496 | Q46: t
...

Sheet CFF
D1: PREFEITURA MUNICIPAL DE JOÃO NEIVA
D2: CRONOGRAMA FÍSICO-FINANCEIRO
D3: OBRA: CONSTRUÇÃO DA PONTE DE TRILHOS
D4: LOCAL: SANTO AFONSO, JOÃO NEIVA-ES
C5: ITEM | D5: DESCRIÇÃO | F5: VALORES R$ | G5: PERÍODO (MESES)
G6: 1 | H6: 2 | I6: 3 | J6: 4 | K6: 5
C7: 01 | D7: CANTEIRO DE OBRAS | E7: Físico (%) | F7: =F8/$F$17 -> 0.23132707 | J7: 1
E8: Financeiro (R$) | F8: =PO!H14 -> 15336.025 | G8: Período Licitatório | J8: =$F$8*J7 -> 15336.025
C9: 02 | D9: DEMOLIÇÕES E RETIRADAS | E9: Físico (%) | F9: =F10/$F$17 -> 0.078215105 | J9: 1
E10: Financeiro (R$) | F10: =PO!H21 -> 5185.337 | G10: Período Licitatório | J10: =$F$10*J9 -> 5185.337
C11: 03 | D11: MOVIMENTO DE TERRA | E11: Físico (%) | F11: =F12/$F$17 -> 0.021741254 | J11: 0.7 | K11: 0.3
E12: Financeiro (R$) | F12: =PO!H26 -> 1441.355 | G12: Período Licitatório | J12: =$F$12*J11 -> 1008.9485 | K12: =$F$12*K11 -> 432.40649
C13: 04 | D13: ESTRUTURA | E13: Físico (%) | F13: =F14/$F$17 -> 0.66871657 | J13: 0.4 | K13: 0.6
E14: Financeiro (R$) | F14: =PO!H35 -> 44333.135 | G14: Período Licitatório | J14: =$F$14*J13 -> 17733.254 | K14: =$F$14*K13 -> 26599.881
D15: Total Parcial (%) | J15: =J17/$F$17 -> 0.59224768 | K15: =K17/$F$17 -> 0.40775232
D16: Total Acumulado (%) | F16: =F13+F11+F7+F9 -> 1 | J16: =J18/$F$17 -> 0.59224768 | K16: =K18/$F$17 -> 1
D17: Total Financeiro (R$) | F17: =PO!H37 -> 66295.852 | J17: =J14+J12+J10+J8 -> 39263.565 | K17: =K14+K12+K10+K8 -> 27032.288
D18: Total Acumulado (R$) | J18: =J17 -> 39263.565 | K18: =J18+K17 -> 66295.852

Sheet Comp-01
E1: COMPOSIÇÃO ANALÍTICA DE PREÇO UNITÁRIO | K1: Data-base
K3: 44348
K4: COMP-01
A5: SERVIÇO: | B5: Administração Local
A6: UND: | B6: mês
A7: CÓD. DE REFERÊNCIA:
A8: MÃO-DE-OBRA
A9: CÓD. | B9: ORGÃO | C9: DESCRIÇÃO | F9: Coef. | G9: Encargos(%) | H9: Sal/mês | I9: Consumo | K9: Custo Horário
A10: 20069 | B10: DER-ES | C10: Engenheiro pleno | F10: 0.2 | G10: 0.8404 | H10: 19816.47 | I10: 1 | K10: =ROUND(F10*H10*I10,2) -> 3963.29
J11: A: TOTAL | K11: =SUM(K10:K10) -> 3963.29
M12: % MULTIPLICADOR DE COEFICIENTE
A13: MATERIAIS | M13: 0.9454
A14: CÓD. | B14: ORGÃO | C14: DESCRIÇÃO | F14: Coef. | G14: Custo Unitário | I14: Consumo | K14: Custo Unitário
J16: B: TOTAL | K16: =SUM(K15:K15) -> 0
A18: EQUIPAMENTO
A19: CÓD. | B19: ORGÃO | C19: DESCRIÇÃO | F19: Coef. | G19: Consumo | I19: Vl. Hr. Prod | J19: Vl. Hr. Imp | K19: Custo Horário
J21: C: TOTAL | K21: =K20 -> 0
A23: RESUMO
A24: DISCRIMINAÇÃO | F24: TAXAS | I24: VALORES
A25: MÃO-DE-OBRA (A) | F25: 0.8404 | I25: =K11 -> 3963.29
A26: MATERIAIS (B) | I26: =K16 -> 0
A27: EQUIPAMENTOS (C) | I27: =K21 -> 0
A28: CUSTOS DIRETO TOTAL A + B + C | I28: =SUM(I25:K27) -> 3963.29
A29: BDI = 23,32% | J29: =I28*0.2332 -> 924.23923
A30: CUSTO UNITÁRIO | J30: =I28+J29 -> 4887.5292
J47: ='Comp-01'!#REF!+'Comp-01'!F25:H25=L11*4.7845 -> #REF!

Sheet Comp-02
E1: COMPOSIÇÃO ANALÍTICA DE PREÇO UNITÁRIO | K1: Data-base
K3: 44348
K4: COMP-02
A6: SERVIÇO: | B6: Muro de arrimo em Conc. ciclópico 20MPa c/ 30% de pedra de mão, c/ forn., preparo e aplicação de concreto, forma de tábua pinho-reap.5 vezes, exclusive escav. e reaterro, seções tipicas nas dimensões:b=0,4m; B=0,40m e H=1,30m
A7: UND: | B7: m
A8: CÓD. DE REFERÊNCIA: DER-ES 040901 (EDIFICAÇÕES)
A10: MÃO-DE-OBRA
A11: CÓD. | B11: ORGÃO | C11: DESCRIÇÃO | F11: Coef. | G11: Encargos(%) | H11: Sal/Hora | I11: Consumo | K11: Custo Horário
A12: 20083 | B12: DER-ES | C12: AJUDANTE O.A.C. | F12: 3.1831618 | G12: 1.5727 | H12: 14.34 | I12: 1 | K12: =ROUND(F12*H12*I12,2) -> 45.65
A13: 20038 | B13: DER-ES | C13: CARPINTEIRO O.A.C. | F13: 3.1831618 | G13: 1.5727 | H13: 17.61 | I13: 1 | K13: =ROUND(F13*H13*I13,2) -> 56.06
A14: 20109 | B14: DER-ES | C14: Pedreiro de O.A.C. | F14: 0.727958 | G14: 1.5727 | H14: 17.61 | I14: 1 | K14: =ROUND(F14*H14*I14,2) -> 12.82
A15: 20060 | B15: DER-ES | C15: Encarregado de O.A.C. | F15: 1.05 | G15: 1.5727 | H15: 32.1 | I15: 2 | K15: =ROUND(F15*H15*I15,2) -> 67.41
A16: 20002 | B16: DER-ES | C16: SERVENTE O.A.C. | F16: 6.2703655 | G16: 1.5727 | H16: 14.2 | I16: 1 | K16: =ROUND(F16*H16*I16,2) -> 89.04
J17: A: TOTAL | K17: =SUM(K12:K16) -> 270.98
A19: MATERIAIS
A20: CÓD. | B20: ORGÃO | C20: DESCRIÇÃO | F20: Coef. | G20: Custo Unitário | I20: Consumo | K20: Custo Unitário
A21: 40360 | B21: DER-ES | C21: Concreto estrutural fck = 20,0 MPa, tudo incluído | F21: 0.203 | G21: 731.91 | I21: 1 | K21: =ROUND(F21*G21*I21,2) -> 148.58
A22: 28008 | B22: DER-ES (EDIFICAÇÕES) | C22: DESMOLDANTE PARA FORMAS (LABOR) | F22: 0.9794344 | G22: 10.81 | I22: 1 | K22: =ROUND(F22*G22*I22,2) -> 10.59
A23: 20521 | B23: DER-ES (EDIFICAÇÕES) | C23: PEDRA DE MAO (RACHAO) (LABOR) | F23: 0.2807838 | G23: 109.56 | I23: 1 | K23: =ROUND(F23*G23*I23,2) -> 30.76
A24: 26569 | B24: DER-ES (EDIFICAÇÕES) | C24: PREGO 18X27 (LABOR) | F24: 0.3672879 | G24: 18.83 | I24: 1 | K24: =ROUND(F24*G24*I24,2) -> 6.92
A25: 20985 | B25: DER-ES (EDIFICAÇÕES) | C25: SARRAFO DE MADEIRA PINUS 10 X 2.5CM (LABOR) | F25: 1.224293 | G25: 9.19 | I25: 1 | K25: =ROUND(F25*G25*I25,2) -> 11.25
A26: 20988 | B26: DER-ES (EDIFICAÇÕES) | C26: TABUA DE MADEIRA PINUS 30 X 2.5 CM (LABOR) | F26: 2.448586 | G26: 15.68 | I26: 1 | K26: =ROUND(F26*G26*I26,2) -> 38.39
J27: B: TOTAL | K27: =SUM(K21:K26) -> 246.49
A29: EQUIPAMENTO
A30: CÓD. | B30: ORGÃO | C30: DESCRIÇÃO | F30: Coef. | G30: Consumo | I30: Vl. Hr. Prod | J30: Vl. Hr. Imp | K30: Custo Horário
A31: 80125 | B31: DER-ES (EDIFICAÇÕES) | C31: BETONEIRA 320 L (E301) (LABOR) | F31: 0.25988101 | G31: 3 | I31: 36.41 | J31: 0 | K31: =ROUND(F31*G31*I31,2) -> 28.39
J32: C: TOTAL | K32: =K31 -> 28.39
A34: RESUMO
A35: DISCRIMINAÇÃO | F35: TAXAS | I35: VALORES
A36: MÃO-DE-OBRA (A) | F36: 1.5727 | I36: =K17 -> 270.98
A37: MATERIAIS (B) | I37: =K27 -> 246.49
A38: EQUIPAMENTOS (C) | I38: =K32 -> 28.39
A39: CUSTOS DIRETO TOTAL A + B + C | I39: =SUM(I36:K38) -> 545.86
A40: BDI = 23,32% | J40: =I39*0.2332 -> 127.29455
A41: CUSTO UNITÁRIO | J41: =I39+J40 -> 673.15455
J58: ='Comp-02'!G15+'Comp-02'!F36:H36=L17*4.7845 -> #VALUE!

Sheet Comp-03
E1: COMPOSIÇÃO ANALÍTICA DE PREÇO UNITÁRIO | L1: Data-base
L3: 44348
L4: COMP-03
A6: SERVIÇO: | B6: Mesa de ponte de Concreto Armado FCK= 30MPA ,tudo incluso exceto fornecimento dos trilhos de acordo com projeto.
A7: UND: | B7: m³
A8: CÓD. DE REFERÊNCIA: DER-ES 160704 (EDIFICAÇÕES)
A10: MÃO-DE-OBRA
A11: CÓD. | B11: ORGÃO | C11: DESCRIÇÃO | G11: Coef. | H11: Encargos(%) | I11: Sal/Hora | J11: Consumo | L11: Custo Horário
A12: 20083 | B12: DER-ES | C12: AJUDANTE O.A.C. | G12: =7.7*4.78 -> 36.806 | H12: 1.5727 | I12: 14.34 | J12: 1 | L12: =ROUND(G12*I12*J12,2) -> 527.8
A13: 20005 | B13: DER-ES | C13: SOLDADOR O.A.C. | G13: =3.2*4.78 -> 15.296 | H13: 1.5727 | I13: 27.83 | J13: 1 | L13: =ROUND(G13*I13*J13,2) -> 425.69
A14: 20038 | B14: DER-ES | C14: CARPINTEIRO O.A.C. | G14: =4.5*4.78 -> 21.51 | H14: 1.5727 | I14: 17.61 | J14: 1 | L14: =ROUND(G14*I14*J14,2) -> 378.79
A15: 20109 | B15: DER-ES | C15: PEDREIRO -O.A.C. | G15: =6*4.78 -> 28.68 | H15: 1.5727 | I15: 17.61 | J15: 1 | L15: =ROUND(G15*I15*J15,2) -> 505.05
A16: 20062 | B16: DER-ES | C16: Encarregado de O.A.C. | G16: 12 | H16: 1.5727 | I16: 32.1 | J16: 1 | L16: =ROUND(G16*I16*J16,2) -> 385.2
A17: 20002 | B17: DER-ES | C17: Servente O.A.C. | G17: =3*4.78 -> 14.34 | H17: 1.5727 | I17: 14.2 | J17: 1 | L17: =ROUND(G17*I17*J17,2) -> 203.63
K18: A: TOTAL | L18: =SUM(L12:L17) -> 2426.16
A20: MATERIAIS
A21: CÓD. | B21: ORGÃO | C21: DESCRIÇÃO | F21: unid | G21: Coef. | H21: Custo Unitário | J21: Consumo | L21: Custo Unitário
C22: Mesa
A23: 21517 | B23: DER-ES (EDIFICAÇÕES) | C23: ACO CA-50 DE 8.0MM (LABOR) | F23: kg | G23: 113 | H23: 7.81 | J23: 1 | L23: =ROUND(G23*H23*J23,2) -> 882.53
A24: 10185 | B24: DER-ES | C24: ELETRODO PARA SOLDAS- OK 4804 | F24: kg | G24: 8 | H24: 30.8 | J24: 1 | L24: =ROUND(G24*H24*J24,2) -> 246.4
A25: 20503 | B25: DER-ES (EDIFICAÇÕES) | C25: AREIA LAVADA MEDIA (LABOR) | F25: m³ | G25: =0.7155*4.78 -> 3.42009 | H25: 96.67 | J25: 1 | L25: =ROUND(G25*H25*J25,2) -> 330.62
A26: 20517 | B26: DER-ES (EDIFICAÇÕES) | C26: BRITA 1 (LABOR) | F26: m³ | G26: =0.2893*4.78 -> 1.382854 | H26: 113.33 | J26: 1 | L26: =ROUND(G26*H26*J26,2) -> 156.72
A27: 20518 | B27: DER-ES (EDIFICAÇÕES) | C27: BRITA 2 (LABOR) | F27: m³ | G27: =0.6765*4.78 -> 3.23367 | H27: 113.33 | J27: 1 | L27: =ROUND(G27*H27*J27,2) -> 366.47
A28: 21032 | B28: DER-ES (EDIFICAÇÕES) | C28: CHAPA COMPENSADA RESINADA ESP. 12MM (LABOR) | F28: m² | G28: =4.3*4.78 -> 20.554 | H28: 57.74 | J28: 1 | L28: =ROUND(G28*H28*J28,2) -> 1186.79
A29: 20508 | B29: DER-ES (EDIFICAÇÕES) | C29: CIMENTO PORTLAND CP III - 40 (LABOR) | F29: kg | G29: =340.2*4.78 -> 1626.156 | H29: 0.46 | J29: 1 | L29: =ROUND(G29*H29*J29,2) -> 748.03
A30: 28008 | B30: DER-ES (EDIFICAÇÕES) | C30: DESMOLDANTE PARA FORMAS (LABOR) | F30: l | G30: =1*4.78 -> 4.78 | H30: 10.81 | J30: 1 | L30: =ROUND(G30*H30*J30,2) -> 51.67
A31: 21009 | B31: DER-ES (EDIFICAÇÕES) | C31: PONTALETE DE MADEIRA BRUTA DE 3ª 8.0 X 8.0 CM (LABOR) | F31: m | G31: =20*4.78 -> 95.6 | H31: 14.75 | J31: 1 | L31: =ROUND(G31*H31*J31,2) -> 1410.1
A32: 26569 | B32: DER-ES (EDIFICAÇÕES) | C32: PREGO 18X27 (LABOR) | F32: kg | G32: 8 | H32: 18.83 | J32: 1 | L32: =ROUND(G32*H32*J32,2) -> 150.64
A33: 20985 | B33: DER-ES (EDIFICAÇÕES) | C33: SARRAFO DE MADEIRA PINUS 10 X 2.5CM (LABOR) | F33: m | G33: =15.3*4.78 -> 73.134 | H33: 9.19 | J33: 1 | L33: =ROUND(G33*H33*J33,2) -> 672.1
A34: 20988 | B34: DER-ES (EDIFICAÇÕES) | C34: TABUA DE MADEIRA PINUS 30 X 2.5 CM (LABOR) | F34: m | G34: 22 | H34: 15.68 | J34: 1 | L34: =ROUND(G34*H34*J34,2) -> 344.96 | P34: =0.5*1*30 -> 15
K35: B: TOTAL | L35: =SUM(L23:L34) -> 6547.03 | P35: =((0.3+0.8))/2*3*30 -> 49.5
C37: Mureta
A38: 21517 | B38: DER-ES (EDIFICAÇÕES) | C38: ACO CA-50 DE 8.0MM (LABOR) | F38: kg | G38: =12.4 -> 12.4 | H38: 7.81 | J38: 1 | L38: =ROUND(G38*H38*J38,2) -> 96.84 | P38: =P34+P35 -> 64.5
A39: 21532 | B39: DER-ES (EDIFICAÇÕES) | C39: ACO CA-60 DE 5.0MM (LABOR) | F39: kg | G39: =6.48 -> 6.48 | H39: 9.75 | J39: 1 | L39: =ROUND(G39*H39*J39,2) -> 63.18
A40: 10185 | B40: DER-ES | C40: ELETRODO PARA SOLDAS- OK 4804 | F40: kg | G40: 3 | H40: 30.8 | J40: 1 | L40: =ROUND(G40*H40*J40,2) -> 92.4
A41: 20517 | B41: DER-ES (EDIFICAÇÕES) | C41: BRITA 1 (LABOR) | F41: m³ | G41: =0.2893 -> 0.2893 | H41: 113.33 | J41: 2 | L41: =ROUND(G41*H41*J41,2) -> 65.57
A42: 20518 | B42: DER-ES (EDIFICAÇÕES) | C42: BRITA 2 (LABOR) | F42: m³ | G42: =0.6765 -> 0.6765 | H42: 113.33 | J42: 3 | L42: =ROUND(G42*H42*J42,2) -> 230
A43: 20503 | B43: DER-ES (EDIFICAÇÕES) | C43: AREIA LAVADA MEDIA (LABOR) | F43: m³ | G43: =0.7155 -> 0.7155 | H43: 96.67 | J43: 4 | L43: =ROUND(G43*H43*J43,2) -> 276.67 | M43: =SUM(L38:L49) -> 7887.84
A44: 20508 | B44: DER-ES (EDIFICAÇÕES) | C44: CIMENTO PORTLAND CP III - 40 (LABOR) | F44: kg | G44: =340.2 -> 340.2 | H44: 0.46 | J44: 5 | L44: =ROUND(G44*H44*J44,2) -> 782.46
A45: 28008 | B45: DER-ES (EDIFICAÇÕES) | C45: DESMOLDANTE PARA FORMAS (LABOR) | F45: l | G45: =1 -> 1 | H45: 10.81 | J45: 6 | L45: =ROUND(G45*H45*J45,2) -> 64.86
...

Sheet LEIS SOCIAIS
C2: PREFEITURA MUNICIPAL DE JOÃO NEIVA
C3: COMPOSIÇÃO LEIS SOCIAIS
C4: OBRA: CONSTRUÇÃO DA PONTE DE TRILHOS
C5: LOCAL: JOÃO NEIVA-ES
B7: GRUPO A - Encargos Sociais Básicos | E7: % IOPES
B8: A.1 | C8: INSS (Art. 22 da Lei 8.212/91) | E8: 0.2
B9: A.2 | C9: FGTS (Art. 27 do Decreto 99.684/90) | E9: 0.08
B10: A.3 | C10: SESI/SESC (Lei 8.029/90 e Lei 8.036/90) | E10: 0.018
B11: A.4 | C11: SENAI/SENAC (Lei 8.029/90 e Decreto-Lei 6246/44) | E11: 0.013
B12: A.5 | C12: SEBRAE (já considerado no item A.3 e A.4) | E12: -
B13: A.6 | C13: INCRA (Lei 2.613/55 e Decreto 1.146/70) | E13: 0.002
B14: A.7 | C14: SALÁRIO-EDUCAÇÃO (Decreto 87.043/82) | E14: 0.025
B15: A.8 | C15: SEGURO ACIDENTE DO TRABALHO (Lei 8.212/91 e Decreto 3.048/99) | E15: 0.03
B16: A.9 | C16: SECONCI/Medicina do Trabalho | E16: 0.01
B17: TOTAL GRUPO A | E17: =SUM(E8:E16) -> 0.378
B18: GRUPO B - Encargos Sociais que recebem a incidência do grupo A | E18: % IOPES
B19: B.1 | C19: Descanso Semanal Remunerado (Art. 66 da CLT e Art. 7º da CF/88) | E19: 0.1752
B20: B.2 | C20: Feriados (Art. 70 da CLT e Lei 605/49) | E20: 0.0391
B21: B.3 | C21: Auxílio doença e acidente do trabalho (Lei 3.607/60 e Art. 131 da CLT) | E21: 0.0076
B22: B.4 | C22: Licença Paternidade (Art. 7º da CF/88) | E22: 0.0011
B23: B.5 | C23: Faltas Legais (Art. 473 da CLT) | E23: 0.0067
B24: B.6 | C24: 13º Salário (Lei nº 4090/62) | E24: 0.1011
B25: B.7 | C25: Aviso Prévio Trabalhado (Art. 7º, inciso XXI da CF/88) | E25: 0.0034
B26: B.8 | C26: Dias de Chuvas | E26: -
B27: B.9 | C27: Férias Gozadas | E27: -
B28: B.10 | C28: Salário Maternidade | E28: -
B29: B.11 | C29: Auxílio - Enfermidade | E29: -
B30: TOTAL GRUPO B | E30: =SUM(E19:E29) -> 0.3342
B31: GRUPO C - Encargos Sociais que não recebem a incidência do grupo A | E31: % IOPES
B32: C.1 | C32: Dispensa sem justa causa (LC 110/01) | E32: 0.0534
B33: C.2 | C33: Férias indenizadas (Art. 129 a 148 da CLT) | E33: 0.112
B34: C.3 | C34: Aviso prévio indenizado (Art. 7º, inciso XXI da CF/88) | E34: 0.1129
B35: C.4 | C35: FGTS sobre aviso prévio indenizado (Súmula 305 TST) | E35: 0.009
B36: C.5 | C36: INSS sobre aviso prévio indenizado (Decreto 6.727/09) | E36: 0.0226
B37: C.6 | C37: Aviso prévio trabalhado | E37: -
B38: C.7 | C38: Indenização Adicional | E38: -
B39: TOTAL GRUPO C | E39: =SUM(E32:E38) -> 0.3099
B40: GRUPO D - Reincidência dos encargos sociais básicos | E40: % IOPES
B41: D.1 | C41: Incidência do grupo A sobre o grupo B | E41: =E17*E30 -> 0.1263276
B42: D.2 | C42: Reincidência de Grupo A sobre Aviso Prévio Trabalho e Reincidência do FGTS sobre Aviso Prévio Indenizado | E42: -
...

Sheet BDI 
B2: PREFEITURA MUNICIPAL DE JOÃO NEIVA
B3: COMPOSIÇÃO BDI
B4: OBRA: CONSTRUÇÃO DA PONTE DE TRILHOS
B5: LOCAL: JOÃO NEIVA-ES | D5: TABELA DE REFERÊNCIA: DER/ES | E5: BDI: 23,32%
B6: LEIS SOCIAIS: 157,27% | D6: DATA-BASE: JAN/22
D8: Para Serviços
B9: GRUPO AC
B10: Despesas Financeiras | D10: 0.0102
B11: Total Grupo A | D11: =D10 -> 0.0102
B12: GRUPO B
B13: Administração Central | D13: 0.038
B14: Total Grupo B | D14: =D13 -> 0.038
B15: GRUPO C
B16: Bonificação/Lucro | D16: 0.0659
B17: Total Grupo C | D17: =D16 -> 0.0659
B18: GRUPO D
B19: Seguros/Garantia | D19: 0.0032
B20: Riscos | D20: 0.005
B21: Total Grupo D | D21: =SUM(D19:D20) -> 0.0082
B22: GRUPO E
B23: ISS | D23: 0.05
B24: PIS | D24: 0.0065
B25: COFINS | D25: 0.03
B26: CPRB | D26: 0
B27: Total Grupo E | D27: =SUM(D23:D26) -> 0.0865
B29: BDI Total | D29: =((1+D11)*(1+D14+D21)*(1+D17)/(1-D27))-1 -> 0.23318999
A31: OBS:
A33: 1 | B33: - A fórmula para cálculo da taxa a ser acrescida aos custos diretos de um
B34: empreendimento a título de Benefícios e Despesas Indiretas é:
B35: BDI = {(1 + A)*(1 + B + D)*(1 + C)} -1, onde:
B36: (1 – E)
B37: A = DESPESAS FINACEIRAS;
B38: B = ADMINISTRAÇÃO CENTRAL;
B39: C = BENEFÍCIO/LUCRO;
B40: D = RISCOS, SEGUROS E GARANTIAS;
B41: E = ISS + PIS + COFINS + INSS;
