{"text_format":"3","workbook":"xlsx","n_sheets":20,"sheets":["PLANILHA ORÇAMENTÁRIA","MEMÓRIA DE CÁLCULO","CRONOGRAMA","COTAÇÕES ","BDI","LS","DRE-01","PAV-01","EQU-01","EQU-02","EQU-03","EQU-04","PAI-01","PAI-02","PAI-03","PAI-04","PAI-05","ELE-01","ELE-02","ELE-03"],"not_rendered":{"images":3,"defined_names":13},"read":"whole","date_system":"1900"}

{"sheet":"PLANILHA ORÇAMENTÁRIA","index":0,"n_rows":111,"n_cols":9,"rows_kept":111,"merged":[[4,0,5,0],[5,1,5,3],[6,0,7,0],[6,1,7,1],[6,2,7,2],[6,3,7,3],[6,4,7,4],[6,5,7,5],[6,6,6,8],[110,0,110,6]]}
[null,"PREFEITURA MUNICIPAL DE JOÃO NEIVA",null,null,"Data-base:","DER-ES EDIFICAÇÕES - FEV/2023"]
[null,"PLANILHA DE QUANTIDADES E PREÇOS UNITÁRIOS",{"$nulls":3},"DER-ES RODOVIAS SEM DESONERAÇÃO - JUL/2022"]
[null,"OBRA: REFORMA DAS PRAÇAS DE CAVALINHO"]
[null,"LOCAL: CAVALINHO - JOÃO NEIVA/ES",null,null,"Leis Sociais:",null,{"v":1.5727,"d":"157.27%"}]
[null,"ORÇAMENTISTA: JULIANA MARETO AMBROZIM CREA:ES-18536/D",null,null,"BDI:",null,{"v":0.3471,"d":"34.71%"}]
[null,"REVISÃO DO ORÇAMENTO: THAIS BAPTISTA MENELLI CAU/ES A181604-7 / BRUNA PEROVANO SIRTULI \nCAU/ES A187736-4",null,null,"Data da Revisão: 18/04/2023"]
["Item","Orgão","Código","DESCRIÇÃO SERVIÇO","Unid.","Quant.","R$ Custo"]
[{"$nulls":6},"Unitário","Unitário c/ BDI","Total"]
["01",null,null,"CANTEIRO DE OBRAS"]
["01.01","DER-ES","020305","Placa de obra nas dimensões de 2.0 x 4.0 m, padrão DER m2 ","m²",{"$f":"'MEMÓRIA DE CÁLCULO'!P11","v":{"v":8,"d":"8.00"}},{"v":242.13,"d":"R$ 242.13"},{"$f":"TRUNC(ROUND(G10*(1+$G$5),2),2)","v":{"v":326.17,"d":"R$ 326.17"}},{"$f":"TRUNC(ROUND(F10*H10,2),2)","v":{"v":2609.36,"d":"R$ 2,609.36"}}]
["01.02","DER-ES","020350 ","Tapume Telha Metálica Ondulada em aço galvalume 0,50mm Branca h=2,20m, incl. montagem estr. mad. 8\"x8\", c/adesivo \"DER-ES\" 60x60cm a cada 10m, incl. faixas pint. esmalte sint. cores azul c/ h=30cm e rosac/ h=10cm (Reaproveitamento 2x)","m",{"$f":"'MEMÓRIA DE CÁLCULO'!P39","v":{"v":152.29999999999998,"d":"152.30"}},{"v":193.41,"d":"R$ 193.41"},{"v":260.54,"d":"R$ 260.54"},{"$f":"TRUNC(ROUND(F11*H11,2),2)","v":{"v":39680.24,"d":"R$ 39,680.24"}}]
["01.03","DER-ES","020701","Barracão para escritório com sanitário área de 14.50 m2, de chapa de compens. 12mm e pontalete 8x8cm, piso cimentado e cobertura de telha de fibroc. 6mm, incl. ponto de luz e cx. de inspeção, conf. projeto (1 utilização)","m²",{"$f":"'MEMÓRIA DE CÁLCULO'!P43","v":{"v":14.5,"d":"14.50"}},{"v":826.41,"d":"R$ 826.41"},{"v":1113.26,"d":"R$ 1,113.26"},{"v":16142.27,"d":"R$ 16,142.27"}]
["01.04","DER-ES","020702","Barracão para almoxarifado área de 10.90m2, de chapa de compensado de 12mm e pontalete 8x8cm, piso cimentado e cobertura de telhas de fibrocimento de 6mm, incl. ponto de luz, conf. projeto (1 utilização)","m²",{"$f":"'MEMÓRIA DE CÁLCULO'!P47","v":{"v":10.9,"d":"10.90"}},{"v":606.6,"d":"R$ 606.60"},{"v":817.15,"d":"R$ 817.15"},{"v":8906.94,"d":"R$ 8,906.94"}]
["01.05","DER-ES","020704","Refeitório com paredes de chapa de compens. 12mm e pontaletes 8x8cm, piso ciment. e cob. de telhas fibroc. 6mm, incl. ponto de luz e cx. de inspeção (cons. 1.21 m2/func./turno), conf. projeto (1 utilização)","m²",{"$f":"'MEMÓRIA DE CÁLCULO'!P51","v":{"v":14,"d":"14.00"}},{"v":481.03,"d":"R$ 481.03"},{"v":648,"d":"R$ 648.00"},{"v":9072,"d":"R$ 9,072.00"}]
["01.06","DER-ES","020711","Reservatório de poliestileno de 1000 L, incl. suporte em madeira de 7x12cm e 8x7cm, elevado de 4m, conf. projeto (1 utilização)","und",{"$f":"'MEMÓRIA DE CÁLCULO'!P55","v":{"v":1,"d":"1.00"}},{"v":2818.64,"d":"R$ 2,818.64"},{"v":3796.99,"d":"R$ 3,796.99"},{"v":3796.99,"d":"R$ 3,796.99"}]
["01.07","DER-ES","020712","Rede de água com padrão de entrada d'água diâm. 3/4\", conf. espec. CESAN, incl. tubos e conexões para alimentação, distribuição, extravasor e limpeza, cons. o padrão a 25m, conf. projeto (1 utilização)","m",{"$f":"'MEMÓRIA DE CÁLCULO'!P59","v":{"v":15,"d":"15.00"}},{"v":53.19,"d":"R$ 53.19"},{"$f":"TRUNC(ROUND(G16*(1+$G$5),2),2)","v":{"v":71.65,"d":"R$ 71.65"}},{"v":1074.75,"d":"R$ 1,074.75"}]
["01.08","DER-ES","020713","Rede de luz, incl. padrão entrada de energia trifás., cabo de ligação até barracões, quadro de distrib., disj. e chave de força (quando necessário), cons. 20m entre padrão entrada e QDG, conf. projeto (1 utilização)","m",{"$f":"'MEMÓRIA DE CÁLCULO'!P63","v":{"v":15,"d":"15.00"}},{"v":493.36,"d":"R$ 493.36"},{"$f":"TRUNC(ROUND(G17*(1+$G$5),2),2)","v":{"v":664.61,"d":"R$ 664.61"}},{"v":9969.15,"d":"R$ 9,969.15"}]
["01.09","DER-ES","020714","Rede de esgoto, contendo fossa e filtro, inclusive tubos e conexões de ligação entre caixas, considerando distância de 25m, conforme projeto (1 utilização)","m",{"$f":"'MEMÓRIA DE CÁLCULO'!P67","v":{"v":5,"d":"5.00"}},{"v":384.56,"d":"R$ 384.56"},{"$f":"TRUNC(ROUND(G18*(1+$G$5),2),2)","v":{"v":518.04,"d":"R$ 518.04"}},{"v":2590.2,"d":"R$ 2,590.20"}]
[{"$nulls":3},"SUB-TOTAL 01",{"$nulls":4},{"$f":"SUM(I10:I18)","v":{"v":93841.9,"d":"R$ 93,841.90"}}]
[]
["02",null,null,"DEMOLIÇÃO E REGULARIZAÇÃO",null,null,0]
["02.01","DER-ES","010216","Retirada de meio-fio de concreto","m",{"$f":"'MEMÓRIA DE CÁLCULO'!P97","v":223.95},{"v":8.99,"d":"R$ 8.99"},{"$f":"TRUNC(ROUND(G22*(1+$G$5),2),2)","v":{"v":12.11,"d":"R$ 12.11"}},{"$f":"TRUNC(ROUND(F22*H22,2),2)","v":{"v":2712.03,"d":"R$ 2,712.03"}}]
["02.02","DER-ES","010210","Demolição manual de concreto simples (EMOP 05.001.001)","m³",{"$f":"'MEMÓRIA DE CÁLCULO'!P110","v":{"v":4.854000000000001,"d":"4.85"}},{"v":253.6,"d":"R$ 253.60"},{"v":341.62,"d":"R$ 341.62"},{"v":1658.22,"d":"R$ 1,658.22"}]
["02.03","DER-ES (Rodovias)","40891","Remoção de pavimentação poliédrica","m²",{"$f":"'MEMÓRIA DE CÁLCULO'!P129","v":504.32},{"v":19.53,"d":"R$ 19.53"},{"v":26.31,"d":"R$ 26.31"},{"v":13268.66,"d":"R$ 13,268.66"}]
["02.04","COMP","EQU-03","Retirada de lixeira","und",{"$f":"'MEMÓRIA DE CÁLCULO'!P133","v":{"v":4,"d":"4.00"}},{"$f":"'EQU-03'!I33","v":{"v":7.4399999999999995,"d":"R$ 7.44"}},{"v":10.02,"d":"R$ 10.02"},{"v":40.08,"d":"R$ 40.08"}]
["02.05","COMP","EQU-04","Retirada de mobiliário urbano","und",{"$f":"'MEMÓRIA DE CÁLCULO'!P137","v":{"v":3,"d":"3.00"}},{"$f":"'EQU-04'!I33","v":{"v":18.61,"d":"R$ 18.61"}},{"v":25.07,"d":"R$ 25.07"},{"v":75.21,"d":"R$ 75.21"}]
["02.06","DER-ES","030304","Índice de preço para remoção de entulho decorrente da execução de obras (Classe A CONAMA - NBR 10.004 - Classe II-B), incluindo aluguel da caçamba, carga, transporte e descarga em área licenciada","m³",{"$f":"'MEMÓRIA DE CÁLCULO'!P143","v":{"v":43.175399999999996,"d":"43.18"}},{"v":71.32,"d":"R$ 71.32"},{"v":96.08,"d":"R$ 96.08"},{"v":4148.29,"d":"R$ 4,148.29"}]
["02.07","DER-ES","030209","Aterro com areia em áreas de calçada, inclusive fornecimento e adensamento","m³",{"$f":"'MEMÓRIA DE CÁLCULO'!P150","v":{"v":71.42200000000001,"d":"71.42"}},{"v":171.49,"d":"R$ 171.49"},{"v":231.01,"d":"R$ 231.01"},{"$f":"TRUNC(ROUND(F28*H28,2),2)","v":{"v":16499.2,"d":"R$ 16,499.20"}}]
[{"$nulls":3},"SUB-TOTAL 02",{"$nulls":4},{"$f":"SUM(I22:I28)","v":{"v":38401.69,"d":"R$ 38,401.69"}}]
[]
["03",null,null,"LOCAÇÃO",null," "]
["03.01","DER-ES","010501","Locação de obra com gabarito de madeira","m²",{"$f":"'MEMÓRIA DE CÁLCULO'!P158","v":552.57},{"v":10.97,"d":"R$ 10.97"},{"$f":"TRUNC(ROUND(G32*(1+$G$5),2),2)","v":{"v":14.78,"d":"R$ 14.78"}},{"$f":"TRUNC(ROUND(F32*H32,2),2)","v":{"v":8166.98,"d":"R$ 8,166.98"}}]
[{"$nulls":3},"SUB-TOTAL 03",{"$nulls":4},{"$f":"SUM(I32)","v":{"v":8166.98,"d":"R$ 8,166.98"}}]
[]
["04",null,null,"ESCAVAÇÕES",null," "]
["04.01","DER-ES","030101","Escavação manual em material de 1a. categoria, até 1.50 m de profundidade","m²",{"$f":"'MEMÓRIA DE CÁLCULO'!P166","v":{"v":27.00434,"d":"27.00"}},{"v":51.51,"d":"R$ 51.51"},{"$f":"TRUNC(ROUND(G36*(1+$G$5),2),2)","v":{"v":69.39,"d":"R$ 69.39"}},{"$f":"TRUNC(ROUND(F36*H36,2),2)","v":{"v":1873.83,"d":"R$ 1,873.83"}}]
[{"$nulls":3},"SUB-TOTAL 04",{"$nulls":4},{"$f":"SUM(I36)","v":{"v":1873.83,"d":"R$ 1,873.83"}}]
[]
["05",null,null,"REATERRO E COMPACTAÇÃO",null," "]
["05.01","DER-ES","030211","Reaterro de valas, exclusive compactação","m³",{"$f":"'MEMÓRIA DE CÁLCULO'!P175","v":{"v":18.9384,"d":"18.94"}},{"v":7.13,"d":"R$ 7.13"},{"$f":"TRUNC(ROUND(G40*(1+$G$5),2),2)","v":{"v":9.6,"d":"R$ 9.60"}},{"$f":"TRUNC(ROUND(F40*H40,2),2)","v":{"v":181.81,"d":"R$ 181.81"}}]
[{"$nulls":3},"SUB-TOTAL 05",{"$nulls":4},{"$f":"SUM(I40)","v":{"v":181.81,"d":"R$ 181.81"}}]
[]
["06",null,null,"ALVENARIA ESTRUTURAL",null," "]
["06.01","DER-ES","050501","Alvenaria de blocos de concreto estrut. (14x19x39cm) cheios, c/ resist. mín. compr. 15MPa, assentados c/ arg. de cimento e areia no traço 1:4, esp. juntas 10mm e esp. da parede s/ revest. 14cm","m²",{"$f":"'MEMÓRIA DE CÁLCULO'!P182","v":21.58},{"v":127.34,"d":"R$ 127.34"},{"$f":"TRUNC(ROUND(G44*(1+$G$5),2),2)","v":{"v":171.54,"d":"R$ 171.54"}},{"$f":"TRUNC(ROUND(F44*H44,2),2)","v":{"v":3701.83,"d":"R$ 3,701.83"}}]
[{"$nulls":3},"SUB-TOTAL 06",{"$nulls":4},{"$f":"SUM(I44)","v":{"v":3701.83,"d":"R$ 3,701.83"}}]
[]
["07",null,null,"DRENAGEM",null," "]
["07.01","DER-ES (Rodovias)","40890","Remoção e reassentamento de blocos de concreto, inclusive perdas","m²",{"$f":"'MEMÓRIA DE CÁLCULO'!P188","v":{"v":57,"d":"57.00"}},{"v":81.19,"d":"R$ 81.19"},{"$f":"TRUNC(ROUND(G48*(1+$G$5),2),2)","v":{"v":109.37,"d":"R$ 109.37"}},{"$f":"TRUNC(ROUND(F48*H48,2),2)","v":{"v":6234.09,"d":"R$ 6,234.09"}}]
["07.02","DER-ES (Rodovias)","40420 ","Corpo BSTC diâmetro 0,30 m C.S. PB inclusive escavação, reaterro e transporte do tubo","m",{"$f":"'MEMÓRIA DE CÁLCULO'!P199","v":{"v":39.7,"d":"39.70"}},{"v":145.11,"d":"R$ 145.11"},{"v":195.48,"d":"R$ 195.48"},{"v":7760.56,"d":"R$ 7,760.56"}]
["07.03","DER-ES (Rodovias)","40423 ","Corpo BSTC diâmetro 0,40 m C.S. PB inclusive escavação, reaterro e transporte do tubo","m",{"$f":"'MEMÓRIA DE CÁLCULO'!P204","v":{"v":22,"d":"22.00"}},{"v":190.65,"d":"R$ 190.65"},{"v":256.82,"d":"R$ 256.82"},{"v":5650.04,"d":"R$ 5,650.04"}]
["07.04","DER-ES (Rodovias)","41241","Caixa ralo em blocos pré-moldados e grelha articulada em FFA em Vias Urbanas","und ",{"$f":"'MEMÓRIA DE CÁLCULO'!P208","v":{"v":7,"d":"7.00"}},{"v":1559.74,"d":"R$ 1,559.74"},{"v":2101.13,"d":"R$ 2,101.13"},{"v":14707.91,"d":"R$ 14,707.91"}]
["07.05","COMP","DRE-01","Trincheira drenante em concreto armado, incluíndo grelhas FOFO, escavação e reaterro","m ",{"$f":"'MEMÓRIA DE CÁLCULO'!P212","v":{"v":2.6,"d":"2.60"}},{"$f":"'DRE-01'!I35","v":{"v":1421.0199999999998,"d":"R$ 1,421.02"}},{"$f":"TRUNC(ROUND(G52*(1+$G$5),2),2)","v":{"v":1914.26,"d":"R$ 1,914.26"}},{"v":4977.08,"d":"R$ 4,977.08"}]
["07.06","DER-ES (Rodovias)","43046","Poço de visita para BSTC diâm. 0,40 m em blocos de concreto, em Vias Urbanas","und ",{"$f":"'MEMÓRIA DE CÁLCULO'!P216","v":{"v":2,"d":"2.00"}},{"v":1860.89,"d":"R$ 1,860.89"},{"v":2506.8,"d":"R$ 2,506.80"},{"$f":"TRUNC(ROUND(F53*H53,2),2)","v":{"v":5013.6,"d":"R$ 5,013.60"}}]
[{"$nulls":3},"SUB-TOTAL 07",{"$nulls":4},{"$f":"SUM(I48:I53)","v":{"v":44343.280000000006,"d":"R$ 44,343.28"}}]
[]
["08",null,null,"LASTRO DE CONTRAPISO",null," "]
["08.01","DER-ES","130111","Lastro impermeabilizado de concreto não estrutural, espessura de 6 cm","m²",{"$f":"'MEMÓRIA DE CÁLCULO'!P223","v":{"v":20.0124,"d":"20.01"}},{"v":60.07,"d":"R$ 60.07"},{"$f":"TRUNC(ROUND(G57*(1+$G$5),2),2)","v":{"v":80.92,"d":"R$ 80.92"}},{"$f":"TRUNC(ROUND(F57*H57,2),2)","v":{"v":1619.4,"d":"R$ 1,619.40"}}]
[{"$nulls":3},"SUB-TOTAL 08",{"$nulls":4},{"$f":"SUM(I57)","v":{"v":1619.4,"d":"R$ 1,619.40"}}]
[]
["09",null,null,"PAVIMENTAÇÃO",null,0,{"v":0,"d":"R$ 0.00"}]
["09.01","DER-ES","130112","Lastro de concreto não estrutural, espessura de 6 cm","m²",{"$f":"'MEMÓRIA DE CÁLCULO'!P229","v":{"v":246.26799999999997,"d":"246.27"}},{"v":49.89,"d":"R$ 49.89"},{"$f":"TRUNC(ROUND(G61*(1+$G$5),2),2)","v":{"v":67.21,"d":"R$ 67.21"}},{"$f":"TRUNC(ROUND(F61*H61,2),2)","v":{"v":16551.67,"d":"R$ 16,551.67"}}]
["09.02","DER-ES","130230","Piso argamassa alta resistência tipo granilite ou equiv de qualidade comprovada, esp de 10mm, com juntas plástica em quadros de 1m, na cor natural, com acabamento anti-derrapante mecanizado, inclusive regularização e=3.0cm","m²",{"$f":"'MEMÓRIA DE CÁLCULO'!P245","v":{"v":192.84799999999998,"d":"192.85"}},{"v":125.56,"d":"R$ 125.56"},{"v":169.14,"d":"R$ 169.14"},{"v":32618.31,"d":"R$ 32,618.31"}]
["09.03","COMP","PAV-01","Pavimentação com blocos de concreto pavi-s colorido H->06cm tipo, colchão de pó de pedra 5cm, inclusive transporte dos blocos e areia, em Vias Urbanas (cores: amarelo, vermelho e grafite)","m²",{"$f":"'MEMÓRIA DE CÁLCULO'!P249","v":169.79},{"$f":"'PAV-01'!I35","v":{"v":114.48,"d":"R$ 114.48"}},{"v":154.22,"d":"R$ 154.22"},{"v":26185.01,"d":"R$ 26,185.01"}]
["09.04","DER-ES","200202","Meio-fio de concreto pré-moldado com dimensões de 15x12x30x100 cm , rejuntados com argamassa de cimento e areia no traço 1:3","m",{"$f":"'MEMÓRIA DE CÁLCULO'!P279","v":121.27},{"v":59.68,"d":"R$ 59.68"},{"v":80.39,"d":"R$ 80.39"},{"v":9748.9,"d":"R$ 9,748.90"}]
["09.05","DER-ES","200253","Fornecimento e assentamento de ladrilho hidráulico pastilhado, vermelho, dim. 20x20 cm, esp. 1.5cm, assentado com pasta de cimento colante, exclusive regularização e lastro","m²",{"$f":"'MEMÓRIA DE CÁLCULO'!P359","v":{"v":49.739999999999995,"d":"49.74"}},{"v":97.74,"d":"R$ 97.74"},{"v":131.67,"d":"R$ 131.67"},{"v":6549.27,"d":"R$ 6,549.27"}]
["09.06","DER-ES","200254","Fornecimento e assentamento de ladrilho hidráulico ranhurado, vermelho, dim. 20x20 cm, esp. 1.5cm, assentado com pasta de cimento colante, exclusive regularização e lastro","m²",{"$f":"'MEMÓRIA DE CÁLCULO'!P367","v":3.68},{"v":97.74,"d":"R$ 97.74"},{"v":131.67,"d":"R$ 131.67"},{"v":484.55,"d":"R$ 484.55"}]
[{"$nulls":3},"SUB-TOTAL 09",{"$nulls":4},{"$f":"SUM(I61:I66)","v":{"v":92137.70999999999,"d":"R$ 92,137.71"}}]
[{"$nulls":6},{"v":0,"d":"R$ 0.00"}]
["10",null,null,"EQUIPAMENTOS",null,null,{"v":0,"d":"R$ 0.00"}]
["10.1","COMP","EQU-01","Fornecimento e instalação de banco com encosto e assento em madeira conforme detalhe de projeto","und",{"$f":"'MEMÓRIA DE CÁLCULO'!P374","v":{"v":15,"d":"15.00"}},{"$f":"'EQU-01'!I40","v":{"v":1051.8,"d":"R$ 1,051.80"}},{"$f":"TRUNC(ROUND(G70*(1+$G$5),2),2)","v":{"v":1416.88,"d":"R$ 1,416.88"}},{"$f":"TRUNC(ROUND(F70*H70,2),2)","v":{"v":21253.2,"d":"R$ 21,253.20"}}]
["10.2","COMP","EQU-02","Fornecimento instalação de lixeira seletiva 50 litros, com suporte tubular em aço galvanizado, DN 3\", incluindo chumbamento em base de concreto","und",{"$f":"'MEMÓRIA DE CÁLCULO'!P380","v":{"v":5,"d":"5.00"}},{"$f":"'EQU-02'!I33","v":{"v":452.28,"d":"R$ 452.28"}},{"$f":"TRUNC(ROUND(G71*(1+$G$5),2),2)","v":{"v":609.27,"d":"R$ 609.27"}},{"$f":"TRUNC(ROUND(F71*H71,2),2)","v":{"v":3046.35,"d":"R$ 3,046.35"}}]
["10.3","DER-ES","210301","Guarda corpo de tubo de ferro galvanizado, diâm. 3\" e 2\", h=0.8 m inclusive pintura a óleo ou esmalte","m",{"$f":"'MEMÓRIA DE CÁLCULO'!P384","v":{"v":3.2,"d":"3.20"}},{"v":375.63,"d":"R$ 375.63"},{"$f":"TRUNC(ROUND(G72*(1+$G$5),2),2)","v":{"v":506.01,"d":"R$ 506.01"}},{"$f":"TRUNC(ROUND(F72*H72,2),2)","v":{"v":1619.23,"d":"R$ 1,619.23"}}]
["10.4","DER-ES","200573","Bicicletário em tubo de ferro galvanizado 1\" e ferro liso 1/2\", inclusive pintura, conforme projeto padrão SEDU","m",{"$f":"'MEMÓRIA DE CÁLCULO'!P388","v":3.76},{"v":244.36,"d":"R$ 244.36"},{"$f":"TRUNC(ROUND(G73*(1+$G$5),2),2)","v":{"v":329.18,"d":"R$ 329.18"}},{"$f":"TRUNC(ROUND(F73*H73,2),2)","v":{"v":1237.72,"d":"R$ 1,237.72"}}]
[{"$nulls":3},"SUB-TOTAL 10",null,null,{"v":0,"d":"R$ 0.00"},null,{"$f":"SUM(I70:I73)","v":{"v":27156.5,"d":"R$ 27,156.50"}}]
[{"$nulls":6},{"v":0,"d":"R$ 0.00"}]
["11",null,null,"PAISAGISMO",null,null,{"v":0,"d":"R$ 0.00"}]
["11.1","COMP","PAI-05","Fornecimento e Plantio de GRAMA BATATAIS (Paspalum Notatum)","m² ",{"$f":"'MEMÓRIA DE CÁLCULO'!P399","v":{"v":81.60197905773377,"d":"81.60"}},{"$f":"'PAI-05'!I32","v":{"v":13.09,"d":"R$ 13.09"}},{"$f":"TRUNC(ROUND(G77*(1+$G$5),2),2)","v":{"v":17.63,"d":"R$ 17.63"}},{"$f":"TRUNC(ROUND(F77*H77,2),2)","v":{"v":1438.64,"d":"R$ 1,438.64"}}]
["11.2","COMP","PAI-04","Fornecimento e Plantio de VEDÉLIA (wedlia trilobata)","und",{"$f":"'MEMÓRIA DE CÁLCULO'!P406","v":{"v":196,"d":"196.00"}},{"$f":"'PAI-04'!I33","v":{"v":17.9,"d":"R$ 17.90"}},{"$f":"TRUNC(ROUND(G78*(1+$G$5),2),2)","v":{"v":24.11,"d":"R$ 24.11"}},{"$f":"TRUNC(ROUND(F78*H78,2),2)","v":{"v":4725.56,"d":"R$ 4,725.56"}}]
["11.3","COMP","PAI-01","Fornecimento e Plantio de CLÚSIA (clusia fluminensis)","und",{"$f":"'MEMÓRIA DE CÁLCULO'!P410","v":{"v":21,"d":"21.00"}},{"$f":"'PAI-01'!I33","v":{"v":36.03000000000001,"d":"R$ 36.03"}},{"$f":"TRUNC(ROUND(G79*(1+$G$5),2),2)","v":{"v":48.54,"d":"R$ 48.54"}},{"$f":"TRUNC(ROUND(F79*H79,2),2)","v":{"v":1019.34,"d":"R$ 1,019.34"}}]
["11.4","COMP","PAI-02","Fornecimento e Plantio de IXORA (ixora coccínea)","und",{"$f":"'MEMÓRIA DE CÁLCULO'!P414","v":{"v":28,"d":"28.00"}},{"$f":"'PAI-02'!I34","v":{"v":22.46,"d":"R$ 22.46"}},{"$f":"TRUNC(ROUND(G80*(1+$G$5),2),2)","v":{"v":30.26,"d":"R$ 30.26"}},{"$f":"TRUNC(ROUND(F80*H80,2),2)","v":{"v":847.28,"d":"R$ 847.28"}}]
["11.5","COMP","PAI-03","Fornecimento e Plantio de PINGO DE OURO (duranta repens)","und",{"$f":"'MEMÓRIA DE CÁLCULO'!P418","v":{"v":19,"d":"19.00"}},{"$f":"'PAI-03'!I34","v":{"v":8.72,"d":"R$ 8.72"}},{"$f":"TRUNC(ROUND(G81*(1+$G$5),2),2)","v":{"v":11.75,"d":"R$ 11.75"}},{"$f":"TRUNC(ROUND(F81*H81,2),2)","v":{"v":223.25,"d":"R$ 223.25"}}]
[{"$nulls":3},"SUB-TOTAL 11",null,null,{"v":0,"d":"R$ 0.00"},null,{"$f":"SUM(I77:I81)","v":{"v":8254.07,"d":"R$ 8,254.07"}}]
[]
["12",null,null,"INSTALAÇÕES ELÉTRICAS",null,null,{"v":0,"d":"R$ 0.00"}]
["12.1","DER-ES","151139","Eletroduto PEAD, cor preta, diam. 2\", marca ref. Kanaflex ou equivalente","m",{"$f":"'MEMÓRIA DE CÁLCULO'!P423","v":{"v":100,"d":"100.00"}},{"v":25.37,"d":"R$ 25.37"},{"$f":"TRUNC(ROUND(G85*(1+$G$5),2),2)","v":{"v":34.18,"d":"R$ 34.18"}},{"$f":"TRUNC(ROUND(F85*H85,2),2)","v":{"v":3418,"d":"R$ 3,418.00"}}]
["12.2","DER-ES","151418","Cabo de cobre termoplástico (PVC) flexível isolado 0,6/1kV, anti-chama 90ºC HEPR - 4,0 mm2 ","m",{"$f":"'MEMÓRIA DE CÁLCULO'!P427","v":{"v":460,"d":"460.00"}},{"v":10.62,"d":"R$ 10.62"},{"v":14.31,"d":"R$ 14.31"},{"v":6582.6,"d":"R$ 6,582.60"}]
["12.3","DER-ES","151421","Cabo de cobre termoplástico (PVC) flexível isolado 0,6/1kV, anti-chama 90ºC HEPR - 16,0 mm2","m",{"$f":"'MEMÓRIA DE CÁLCULO'!P431","v":{"v":95,"d":"95.00"}},{"v":25.93,"d":"R$ 25.93"},{"v":34.93,"d":"R$ 34.93"},{"v":3318.35,"d":"R$ 3,318.35"}]
["12.4","DER-ES","151703","Padrão de entrada de energia elétrica, trifásico, entrada aérea, a 4 fios, carga instalada em muro de 15001 até 26000W - 220/127V","und",{"$f":"'MEMÓRIA DE CÁLCULO'!P435","v":{"v":1,"d":"1.00"}},{"v":3374.97,"d":"R$ 3,374.97"},{"$f":"TRUNC(ROUND(G88*(1+$G$5),2),2)","v":{"v":4546.42,"d":"R$ 4,546.42"}},{"$f":"TRUNC(ROUND(F88*H88,2),2)","v":{"v":4546.42,"d":"R$ 4,546.42"}}]
["12.5","DER-ES","150614","Caixa de passagem de alvenaria de blocos de concreto 9x19x39cm, dimensões de 30x30x50cm, com revestimento interno em chapisco e reboco, tampa de concreto esp.5cm e lastro de brita 5 cm","und",{"$f":"'MEMÓRIA DE CÁLCULO'!P439","v":{"v":9,"d":"9.00"}},{"v":142.54,"d":"R$ 142.54"},{"v":192.02,"d":"R$ 192.02"},{"v":1728.18,"d":"R$ 1,728.18"}]
["12.6","COMP","ELE-01","Quadro de comando em policarbonato dimensões mínimas 500x400x200mm completo com placa de montagem, disjuntores, contator , trilho, canaleta de pvc e barras de cobre conforme detalhe em projeto","und",{"$f":"'MEMÓRIA DE CÁLCULO'!P443","v":{"v":1,"d":"1.00"}},{"$f":"'ELE-01'!I31","v":{"v":1756.04,"d":"R$ 1,756.04"}},{"v":2365.56,"d":"R$ 2,365.56"},{"v":2365.56,"d":"R$ 2,365.56"}]
["12.7","COMP","ELE-02","Poste fotovoltáico, altura de 4,00 m, 2 luminárias 150W, fornecimento e instalação","und",{"$f":"'MEMÓRIA DE CÁLCULO'!P447","v":{"v":8,"d":"8.00"}},{"$f":"'ELE-02'!I39","v":{"v":8956.58,"d":"R$ 8,956.58"}},{"v":12065.41,"d":"R$ 12,065.41"},{"v":96523.28,"d":"R$ 96,523.28"}]
["12.8","COMP","ELE-03","Rele fofoelétrico para comando de iluminação externa 1000 W - fornecimento e instalação","und",{"$f":"'MEMÓRIA DE CÁLCULO'!P451","v":{"v":1,"d":"1.00"}},{"$f":"'ELE-03'!I33","v":{"v":44.059999999999995,"d":"R$ 44.06"}},{"v":59.35,"d":"R$ 59.35"},{"v":59.35,"d":"R$ 59.35"}]
["12.9","DER-ES","150701","Envelopamento de concreto simples com consumo mínimo de cimento de 250kg/m3, inclusive escavação para profundidade mínima do eletroduto de 50 cm, de 25 x 25 cm, para 1 eletroduto","m",{"$f":"'MEMÓRIA DE CÁLCULO'!P455","v":{"v":100,"d":"100.00"}},{"v":56.43,"d":"R$ 56.43"},{"v":76.02,"d":"R$ 76.02"},{"v":7602,"d":"R$ 7,602.00"}]
["12.10","DER-ES"," 150918","Fita isolante em rolo de 19mm x 20 m, número 33 Scoth ou equivalente","und",{"$f":"'MEMÓRIA DE CÁLCULO'!P459","v":{"v":3,"d":"3.00"}},{"v":32.43,"d":"R$ 32.43"},{"v":43.69,"d":"R$ 43.69"},{"v":131.07,"d":"R$ 131.07"}]
[{"$nulls":3},"SUB-TOTAL 12",{"$nulls":4},{"$f":"SUM(I85:I94)","v":{"v":126274.81000000001,"d":"R$ 126,274.81"}}]
[]
["13",null,null,"REVESTIMENTO EMPREGANDO ARGAMASSA DE CIMENTO, CAL E AREIA"]
["13.1","DER-ES","120303","Reboco tipo paulista de argamassa de cimento, cal hidratada CH1 e areia média ou grossa lavada no traço 1:0.5:6, espessura 25 mm","m²",{"$f":"'MEMÓRIA DE CÁLCULO'!P467","v":43.16},{"v":55.01,"d":"R$ 55.01"},{"$f":"TRUNC(ROUND(G98*(1+$G$5),2),2)","v":{"v":74.1,"d":"R$ 74.10"}},{"$f":"TRUNC(ROUND(F98*H98,2),2)","v":{"v":3198.16,"d":"R$ 3,198.16"}}]
["13.2","DER-ES","120308","Chapisco de argamassa de cimento e areia média ou grossa lavada no traço 1:3, espessura 5mm, com utilização de impermeabilizante","m²",{"$f":"'MEMÓRIA DE CÁLCULO'!P468","v":43.16},{"v":7.79,"d":"R$ 7.79"},{"$f":"TRUNC(ROUND(G99*(1+$G$5),2),2)","v":{"v":10.49,"d":"R$ 10.49"}},{"$f":"TRUNC(ROUND(F99*H99,2),2)","v":{"v":452.75,"d":"R$ 452.75"}}]
[{"$nulls":3},"SUB-TOTAL 13",{"$nulls":4},{"$f":"SUM(I98:I99)","v":{"v":3650.91,"d":"R$ 3,650.91"}}]
[]
["14",null,null,"PINTURA"]
["14.1","DER-ES","190117","Pintura com tinta acrílica, marcas de referência Suvinil, Coral e Metalatex, inclusive selador acrílico, em paredes e forros, a duas demãos","m²",{"$f":"'MEMÓRIA DE CÁLCULO'!P480","v":{"v":91.391,"d":"91.39"}},{"v":20.51,"d":"R$ 20.51"},{"$f":"TRUNC(ROUND(G103*(1+$G$5),2),2)","v":{"v":27.63,"d":"R$ 27.63"}},{"$f":"TRUNC(ROUND(F103*H103,2),2)","v":{"v":2525.13,"d":"R$ 2,525.13"}}]
["14.2","DER-ES","190603","Pintura sobre pisos, marcas de referência Novacor, Coral ou Suvinil, a duas demãos, Linha Premium","m²",{"$f":"'MEMÓRIA DE CÁLCULO'!P484","v":{"v":5.46125,"d":"5.46"}},{"v":20.4,"d":"R$ 20.40"},{"$f":"TRUNC(ROUND(G104*(1+$G$5),2),2)","v":{"v":27.48,"d":"R$ 27.48"}},{"$f":"TRUNC(ROUND(F104*H104,2),2)","v":{"v":150.08,"d":"R$ 150.08"}}]
[{"$nulls":3},"SUB-TOTAL 14",{"$nulls":4},{"$f":"SUM(I103:I104)","v":{"v":2675.21,"d":"R$ 2,675.21"}}]
[]
["15",null,null,"LIMPEZA"]
["15.1","DER-ES","200402","Limpeza geral de obras (quadras, praças e jardins)","m²",{"$f":"'MEMÓRIA DE CÁLCULO'!P491","v":570.77},{"v":1.11,"d":"R$ 1.11"},{"$f":"TRUNC(ROUND(G108*(1+$G$5),2),2)","v":{"v":1.5,"d":"R$ 1.50"}},{"$f":"TRUNC(ROUND(F108*H108,2),2)","v":{"v":856.16,"d":"R$ 856.16"}}]
[{"$nulls":3},"SUB-TOTAL 15",{"$nulls":4},{"$f":"SUM(I108)","v":{"v":856.16,"d":"R$ 856.16"}}]
[]
["TOTAL GERAL",{"$nulls":7},{"$f":"SUM(I10:I110)/2","v":{"v":453136.0900000001,"d":"R$ 453,136.09"}}]

{"sheet":"MEMÓRIA DE CÁLCULO","index":1,"n_rows":491,"n_cols":75,"rows_kept":491,"merged":[[2,1,2,4],[3,2,3,16],[4,2,4,10],[5,0,6,0],[5,1,6,1],[5,2,5,7],[5,8,6,8],[5,9,6,9],[5,15,6,15],[5,16,6,16],[6,2,6,4],[6,5,6,7],[226,5,226,7],[231,2,231,4],[231,5,231,7],[232,2,232,4],[232,5,232,7],[238,1,240,1],[251,1,253,1],[255,1,266,1],[268,1,277,1],[369,1,369,4],[474,1,478,1]]}
[null,"PREFEITURA MUNICIPAL DE JOÃO NEIVA"]
[null,"MEMÓRIA DE CÁLCULO"]
[null,"OBRA: REFORMA DAS PRAÇAS DE CAVALINHO"]
[null,"LOCAL: CAVALINHO - JOÃO NEIVA/ES","REVISÃO DO ORÇAMENTO: THAIS BAPTISTA MENELLI CAU/ES A181604-7 / BRUNA PEROVANO SIRTULI CAU/ES A187736-4"]
[null,"ORÇAMENTISTA: JULIANA MARETO AMBROZIM CREA:ES-18536/D","Data da Revisão: 18/04/2023"]
["CÓD.","DISCRIMINAÇÃO","LOCALIZAÇÃO (Estaca)",{"$nulls":5},"POS.","QUANT.","EXT.","LARG.","PROF.","ÁREA","VOLUME","TOTAL","UND"]
[null,null,"Inicial",null,null,"Final",{"$nulls":4},"(m)","(m)","(m)","(m²)","(m³)"]
[{"$f":"'PLANILHA ORÇAMENTÁRIA'!A9","v":"01"},"CANTEIRO DE OBRAS"]
[{"$f":"'PLANILHA ORÇAMENTÁRIA'!A10","v":"01.01"},{"$f":"'PLANILHA ORÇAMENTÁRIA'!D10","v":"Placa de obra nas dimensões de 2.0 x 4.0 m, padrão DER m2 "}]
[{"$nulls":10},{"v":2,"d":"2.00"},{"v":4,"d":"4.00"},{"$nulls":3},{"$f":"K10*L10","v":{"v":8,"d":"8.00"}}]
[null,"QUANTIDADE",{"$nulls":13},{"$f":"P10","v":{"v":8,"d":"8.00"}},{"$f":"'PLANILHA ORÇAMENTÁRIA'!E10","v":"m²"}]
[]
[{"$f":"'PLANILHA ORÇAMENTÁRIA'!A11","v":"01.02"},{"$f":"'PLANILHA ORÇAMENTÁRIA'!D11","v":"Tapume Telha Metálica Ondulada em aço galvalume 0,50mm Branca h=2,20m, incl. montagem estr. mad. 8\"x8\", c/adesivo \"DER-ES\" 60x60cm a cada 10m, incl. faixas pint. esmalte sint. cores azul c/ h=30cm e rosac/ h=10cm (Reaproveitamento 2x)"}]
[null,"Considerando 50 cm de afastamento dos limites das praças"]
[null,"Praça Coreto ",{"$nulls":7},{"v":1,"d":"1.00"},21.78,{"$nulls":4},{"$f":"K15","v":21.78}]
[null,"Praça Coreto",{"$nulls":7},{"v":1,"d":"1.00"},4.67,{"$nulls":4},{"$f":"K16","v":4.67}]
[null,"Praça Coreto",{"$nulls":7},{"v":1,"d":"1.00"},11.04,{"$nulls":4},11.04]
[null,"Praça Coreto",{"$nulls":7},{"v":1,"d":"1.00"},4.58,{"$nulls":4},4.58]
[null,"Praça Coreto",{"$nulls":7},{"v":1,"d":"1.00"},17.35,{"$nulls":4},17.35]
[null,"Praça Coreto",{"$nulls":7},{"v":1,"d":"1.00"},1.17,{"$nulls":4},1.17]
[null,"Praça 01",{"$nulls":7},{"v":1,"d":"1.00"},9.69,{"$nulls":4},9.69]
[null,"Praça 01",{"$nulls":7},{"v":1,"d":"1.00"},7.89,{"$nulls":4},7.89]
[null,"Praça 01",{"$nulls":7},{"v":1,"d":"1.00"},1.19,{"$nulls":4},1.19]
[null,"Praça 01",{"$nulls":7},{"v":1,"d":"1.00"},4.46,{"$nulls":4},4.46]
[null,"Praça 01",{"$nulls":7},{"v":1,"d":"1.00"},0.86,{"$nulls":4},0.86]
[null,"Praça 01",{"$nulls":7},{"v":1,"d":"1.00"},0.93,{"$nulls":4},0.93]
[null,"Praça 01",{"$nulls":7},{"v":1,"d":"1.00"},16.13,{"$nulls":4},16.13]
[null,"Praça 01",{"$nulls":7},{"v":1,"d":"1.00"},1.03,{"$nulls":4},1.03]
[null,"Praça 01",{"$nulls":7},{"v":1,"d":"1.00"},1.83,{"$nulls":4},1.83]
[null,"Praça 01",{"$nulls":7},{"v":1,"d":"1.00"},0.68,{"$nulls":4},0.68]
[null,"Praça 02",{"$nulls":7},{"v":1,"d":"1.00"},15.54,{"$nulls":4},15.54]
[null,"Praça 02",{"$nulls":7},{"v":1,"d":"1.00"},1.95,{"$nulls":4},1.95]
[null,"Praça 02",{"$nulls":7},{"v":1,"d":"1.00"},4.16,{"$nulls":4},4.16]
[null,"Praça 02",{"$nulls":7},{"v":1,"d":"1.00"},1.47,{"$nulls":4},1.47]
[null,"Praça 02",{"$nulls":7},{"v":1,"d":"1.00"},16.36,{"$nulls":4},16.36]
[null,"Praça 02",{"$nulls":7},{"v":1,"d":"1.00"},1.39,{"$nulls":4},1.39]
[null,"Praça 02",{"$nulls":7},{"v":1,"d":"1.00"},4.16,{"$nulls":4},4.16]
[null,"Praça 02",{"$nulls":7},{"v":1,"d":"1.00"},1.99,{"$nulls":4},1.99]
[null,"QUANTIDADE",{"$nulls":13},{"$f":"SUM(P15:P38)","v":{"v":152.29999999999998,"d":"152.30"}},{"$f":"'PLANILHA ORÇAMENTÁRIA'!E11","v":"m"}]
[]
[{"$f":"'PLANILHA ORÇAMENTÁRIA'!A12","v":"01.03"},{"$f":"'PLANILHA ORÇAMENTÁRIA'!D12","v":"Barracão para escritório com sanitário área de 14.50 m2, de chapa de compens. 12mm e pontalete 8x8cm, piso cimentado e cobertura de telha de fibroc. 6mm, incl. ponto de luz e cx. de inspeção, conf. projeto (1 utilização)"}]
[{"$nulls":13},{"v":14.5,"d":"14.50"},null,{"$f":"N42","v":{"v":14.5,"d":"14.50"}}]
[null,"QUANTIDADE",{"$nulls":13},{"$f":"P42","v":{"v":14.5,"d":"14.50"}},{"$f":"'PLANILHA ORÇAMENTÁRIA'!E12","v":"m²"}]
[]
[{"$f":"'PLANILHA ORÇAMENTÁRIA'!A13","v":"01.04"},{"$f":"'PLANILHA ORÇAMENTÁRIA'!D13","v":"Barracão para almoxarifado área de 10.90m2, de chapa de compensado de 12mm e pontalete 8x8cm, piso cimentado e cobertura de telhas de fibrocimento de 6mm, incl. ponto de luz, conf. projeto (1 utilização)"}]
[{"$nulls":13},{"v":10.9,"d":"10.90"},null,{"$f":"N46","v":{"v":10.9,"d":"10.90"}}]
[null,"QUANTIDADE",{"$nulls":13},{"$f":"P46","v":{"v":10.9,"d":"10.90"}},{"$f":"'PLANILHA ORÇAMENTÁRIA'!E13","v":"m²"}]
[]
[{"$f":"'PLANILHA ORÇAMENTÁRIA'!A14","v":"01.05"},{"$f":"'PLANILHA ORÇAMENTÁRIA'!D14","v":"Refeitório com paredes de chapa de compens. 12mm e pontaletes 8x8cm, piso ciment. e cob. de telhas fibroc. 6mm, incl. ponto de luz e cx. de inspeção (cons. 1.21 m2/func./turno), conf. projeto (1 utilização)"}]
[{"$nulls":13},{"v":14,"d":"14.00"},null,{"$f":"N50","v":{"v":14,"d":"14.00"}}]
[null,"QUANTIDADE",{"$nulls":13},{"$f":"P50","v":{"v":14,"d":"14.00"}},{"$f":"'PLANILHA ORÇAMENTÁRIA'!E14","v":"m²"}]
[]
[{"$f":"'PLANILHA ORÇAMENTÁRIA'!A15","v":"01.06"},{"$f":"'PLANILHA ORÇAMENTÁRIA'!D15","v":"Reservatório de poliestileno de 1000 L, incl. suporte em madeira de 7x12cm e 8x7cm, elevado de 4m, conf. projeto (1 utilização)"}]
[{"$nulls":9},{"v":1,"d":"1.00"},{"$nulls":5},{"$f":"J54","v":{"v":1,"d":"1.00"}}]
[null,"QUANTIDADE",{"$nulls":13},{"$f":"P54","v":{"v":1,"d":"1.00"}},{"$f":"'PLANILHA ORÇAMENTÁRIA'!E15","v":"und"}]
[]
[{"$f":"'PLANILHA ORÇAMENTÁRIA'!A16","v":"01.07"},{"$f":"'PLANILHA ORÇAMENTÁRIA'!D16","v":"Rede de água com padrão de entrada d'água diâm. 3/4\", conf. espec. CESAN, incl. tubos e conexões para alimentação, distribuição, extravasor e limpeza, cons. o padrão a 25m, conf. projeto (1 utilização)"}]
[{"$nulls":10},{"v":15,"d":"15.00"},{"$nulls":4},{"$f":"K58","v":{"v":15,"d":"15.00"}}]
[null,"QUANTIDADE",{"$nulls":13},{"$f":"P58","v":{"v":15,"d":"15.00"}},{"$f":"'PLANILHA ORÇAMENTÁRIA'!E16","v":"m"}]
[]
[{"$f":"'PLANILHA ORÇAMENTÁRIA'!A17","v":"01.08"},{"$f":"'PLANILHA ORÇAMENTÁRIA'!D17","v":"Rede de luz, incl. padrão entrada de energia trifás., cabo de ligação até barracões, quadro de distrib., disj. e chave de força (quando necessário), cons. 20m entre padrão entrada e QDG, conf. projeto (1 utilização)"}]
[{"$nulls":10},{"v":15,"d":"15.00"},{"$nulls":4},{"$f":"K62","v":{"v":15,"d":"15.00"}}]
[null,"QUANTIDADE",{"$nulls":13},{"$f":"P62","v":{"v":15,"d":"15.00"}},{"$f":"'PLANILHA ORÇAMENTÁRIA'!E17","v":"m"}]
[]
[{"$f":"'PLANILHA ORÇAMENTÁRIA'!A18","v":"01.09"},{"$f":"'PLANILHA ORÇAMENTÁRIA'!D18","v":"Rede de esgoto, contendo fossa e filtro, inclusive tubos e conexões de ligação entre caixas, considerando distância de 25m, conforme projeto (1 utilização)"}]
[{"$nulls":10},{"v":5,"d":"5.00"},{"$nulls":4},{"$f":"K66","v":{"v":5,"d":"5.00"}}]
[null,"QUANTIDADE",{"$nulls":13},{"$f":"P66","v":{"v":5,"d":"5.00"}},{"$f":"'PLANILHA ORÇAMENTÁRIA'!E18","v":"m"}]
[]
[{"$f":"'PLANILHA ORÇAMENTÁRIA'!A21","v":"02"},"DEMOLIÇÃO E REGULARIZAÇÃO",{"$nulls":67},400,"+",{"v":3.6,"d":"3.60"},405,"+",{"v":2.5,"d":"2.50"}]
[{"$f":"'PLANILHA ORÇAMENTÁRIA'!A22","v":"02.01"},{"$f":"'PLANILHA ORÇAMENTÁRIA'!D22","v":"Retirada de meio-fio de concreto"},{"$nulls":67},400,"+",{"v":3.6,"d":"3.60"},405,"+",{"v":2.5,"d":"2.50"}]
[null,"Praça 01",{"$nulls":7},{"v":1,"d":"1.00"},7.61,{"$nulls":4},{"$f":"K71","v":7.61}]
[null,"Praça 01",{"$nulls":7},{"v":1,"d":"1.00"},0.77,{"$nulls":4},{"$f":"K72","v":0.77}]
[null,"Praça 01",{"$nulls":7},{"v":1,"d":"1.00"},4.14,{"$nulls":4},4.14]
[null,"Praça 01",{"$nulls":7},{"v":1,"d":"1.00"},0.58,{"$nulls":4},0.58]
[null,"Praça 01",{"$nulls":7},{"v":1,"d":"1.00"},0.62,{"$nulls":4},0.62]
[null,"Praça 01",{"$nulls":7},{"v":1,"d":"1.00"},15.76,{"$nulls":4},15.76]
[null,"Praça 01",{"$nulls":7},{"v":1,"d":"1.00"},0.63,{"$nulls":4},0.63]
[null,"Praça 01",{"$nulls":7},{"v":1,"d":"1.00"},1.56,{"$nulls":4},1.56]
[null,"Praça 01",{"$nulls":7},{"v":1,"d":"1.00"},0.33,{"$nulls":4},0.33]
[null,"Praça 01",{"$nulls":7},{"v":1,"d":"1.00"},{"v":9.4,"d":"9.40"},{"$nulls":4},{"v":9.4,"d":"9.40"}]
[null,"Praça 02",{"$nulls":7},{"v":1,"d":"1.00"},0.85,{"$nulls":4},0.85]
[null,"Praça 02",{"$nulls":7},{"v":1,"d":"1.00"},15.85,{"$nulls":4},15.85]
[null,"Praça 02",{"$nulls":7},{"v":1,"d":"1.00"},0.81,{"$nulls":4},0.81]
[null,"Praça 02",{"$nulls":7},{"v":1,"d":"1.00"},4.17,{"$nulls":4},4.17]
[null,"Praça 02",{"$nulls":7},{"v":1,"d":"1.00"},0.72,{"$nulls":4},0.72]
[null,"Praça 02",{"$nulls":7},{"v":1,"d":"1.00"},16.22,{"$nulls":4},16.22]
[null,"Praça 02",{"$nulls":7},{"v":1,"d":"1.00"},0.64,{"$nulls":4},0.64]
[null,"Praça 02",{"$nulls":7},{"v":1,"d":"1.00"},4.49,{"$nulls":4},4.49]
[null,"Golas praça 01",{"$nulls":7},{"v":3,"d":"3.00"},{"v":2,"d":"2.00"},{"v":2.5,"d":"2.50"},{"$nulls":3},{"$f":"((K89+L89)*2)*J89","v":{"v":27,"d":"27.00"}}]
[null,"Golas praça 02",{"$nulls":7},{"v":3,"d":"3.00"},{"v":2,"d":"2.00"},{"v":2.5,"d":"2.50"},{"$nulls":3},{"$f":"((K90+L90)*2)*J90","v":{"v":27,"d":"27.00"}}]
[null,"Praça Coreto",{"$nulls":7},{"v":1,"d":"1.00"},15.44,{"$nulls":4},15.44]
[null,"Praça Coreto",{"$nulls":7},{"v":1,"d":"1.00"},3.66,{"$nulls":4},3.66]
[null,"Praça Coreto",{"$nulls":7},{"v":1,"d":"1.00"},13.96,{"$nulls":4},13.96]
[null,"Praça Coreto",{"$nulls":7},{"v":1,"d":"1.00"},1.83,{"$nulls":4},1.83]
[null,"Praça Coreto",{"$nulls":7},{"v":1,"d":"1.00"},13.91,{"$nulls":4},13.91]
[null,"Golas praça Coreto",{"$nulls":7},{"v":9,"d":"9.00"},{"v":1,"d":"1.00"},{"v":1,"d":"1.00"},{"$nulls":3},{"$f":"((K96+L96)*2)*J96","v":{"v":36,"d":"36.00"}}]
[null,"QUANTIDADE",{"$nulls":13},{"$f":"SUM(P71:P96)","v":223.95},{"$f":"'PLANILHA ORÇAMENTÁRIA'!E22","v":"m"},{"$nulls":52},500,"+",{"v":5,"d":"5.00"},505,"+",15.65]
[]
[{"$f":"'PLANILHA ORÇAMENTÁRIA'!A23","v":"02.02"},{"$f":"'PLANILHA ORÇAMENTÁRIA'!D23","v":"Demolição manual de concreto simples (EMOP 05.001.001)"}]
[null,"Bancos - volume da do encosto e pé",{"$nulls":7},{"v":19,"d":"19.00"},{"v":1.2,"d":"1.20"},{"v":1,"d":"1.00"},{"v":0.1,"d":"0.10"},null,{"$f":"J100*K100*L100*M100","v":2.2800000000000002},{"$f":"O100","v":{"v":2.2800000000000002,"d":"2.28"}}]
[null,"Bancos - volume do assento",{"$nulls":7},{"v":19,"d":"19.00"},{"v":1.2,"d":"1.20"},{"v":0.5,"d":"0.50"},{"v":0.1,"d":"0.10"},null,{"$f":"J101*K101*L101*M101","v":1.1400000000000001},{"$f":"O101","v":{"v":1.1400000000000001,"d":"1.14"}}]
[null,"Praça Coreto- interno",{"$nulls":7},{"v":1,"d":"1.00"},6.29,{"v":0.2,"d":"0.20"},0.25,null,{"$f":"J102*K102*L102*M102","v":{"v":0.3145,"d":"0.31"}},{"v":0.3145,"d":"0.31"}]
[null,"Praça Coreto- interno",{"$nulls":7},{"v":1,"d":"1.00"},1.15,{"v":0.2,"d":"0.20"},0.25,null,{"$f":"J103*K103*L103*M103","v":{"v":0.057499999999999996,"d":"0.06"}},{"v":0.057499999999999996,"d":"0.06"}]
[null,"Praça Coreto- interno",{"$nulls":7},{"v":1,"d":"1.00"},1.58,{"v":0.2,"d":"0.20"},0.25,null,{"v":0.07900000000000001,"d":"0.08"},{"v":0.07900000000000001,"d":"0.08"}]
[null,"Praça Coreto- interno",{"$nulls":7},{"v":1,"d":"1.00"},{"v":11.7,"d":"11.70"},{"v":0.2,"d":"0.20"},0.25,null,{"v":0.585,"d":"0.59"},{"v":0.585,"d":"0.59"}]
[null,"Praça Coreto- interno",{"$nulls":7},{"v":1,"d":"1.00"},0.97,{"v":0.2,"d":"0.20"},0.25,null,{"v":0.0485,"d":"0.05"},{"v":0.0485,"d":"0.05"}]
[null,"Praça Coreto- interno",{"$nulls":7},{"v":1,"d":"1.00"},{"v":1,"d":"1.00"},{"v":0.2,"d":"0.20"},0.25,null,0.05,0.05]
[null,"Praça Coreto- interno",{"$nulls":7},{"v":1,"d":"1.00"},1.35,{"v":0.2,"d":"0.20"},0.25,null,{"v":0.0675,"d":"0.07"},{"v":0.0675,"d":"0.07"}]
[null,"Praça Coreto- interno",{"$nulls":7},{"v":1,"d":"1.00"},4.64,{"v":0.2,"d":"0.20"},0.25,null,{"v":0.23199999999999998,"d":"0.23"},{"v":0.23199999999999998,"d":"0.23"}]
[null,"QUANTIDADE",{"$nulls":13},{"$f":"SUM(P100:P109)","v":{"v":4.854000000000001,"d":"4.85"}},{"$f":"'PLANILHA ORÇAMENTÁRIA'!E23","v":"m³"},{"$nulls":52},500,"+",{"v":5,"d":"5.00"},505,"+",15.65]
[]
[{"$f":"'PLANILHA ORÇAMENTÁRIA'!A24","v":"02.03"},{"$f":"'PLANILHA ORÇAMENTÁRIA'!D24","v":"Remoção de pavimentação poliédrica"}]
[null,"área praça pequena",{"$nulls":11},{"v":78.2,"d":"78.20"},null,{"$f":"N113","v":{"v":78.2,"d":"78.20"}}]
[null,"Descontos"]
[null,"Gola de árvore",{"$nulls":7},{"v":3,"d":"3.00"},{"v":2,"d":"2.00"},{"v":2.5,"d":"2.50"},null,{"$f":"-J115*K115*L115","v":{"v":-15,"d":"-15.00"}},null,{"v":-15,"d":"-15.00"}]
[]
[null,"área praça pequena",{"$nulls":11},93.83,null,{"$f":"N117","v":93.83}]
[null,"Descontos"]
[null,"Gola de árvore",{"$nulls":7},{"v":3,"d":"3.00"},{"v":2,"d":"2.00"},{"v":2.5,"d":"2.50"},null,{"$f":"-J119*K119*L119","v":{"v":-15,"d":"-15.00"}},null,{"$f":"N119","v":{"v":-15,"d":"-15.00"}}]
[]
[null,"área praça coreto",{"$nulls":11},{"v":308.6,"d":"308.60"},null,{"$f":"N121","v":{"v":308.6,"d":"308.60"}}]
[null,"Descontos"]
[null,"Gola de árvore",{"$nulls":7},{"v":9,"d":"9.00"},{"v":1,"d":"1.00"},{"v":1,"d":"1.00"},null,{"v":-9,"d":"-9.00"},null,{"$f":"N123","v":{"v":-9,"d":"-9.00"}}]
[null,"Coreto",{"$nulls":11},{"v":-18.2,"d":"-18.20"},null,{"$f":"N124","v":{"v":-18.2,"d":"-18.20"}}]
[]
[null,"área rua (ampliação da praça)",{"$nulls":11},{"$f":"380.54-308.6","v":71.94},null,{"$f":"N126","v":71.94}]
[]
[null,"área rua (passagem de eletrodutos)",{"$nulls":8},{"$f":"5.6+12.3","v":{"v":17.9,"d":"17.90"}},{"v":0.5,"d":"0.50"},null,{"$f":"K128*L128","v":8.95},null,{"$f":"N128","v":8.95}]
[null,"QUANTIDADE",{"$nulls":13},{"$f":"SUM(P113:P128)","v":504.32},{"$f":"'PLANILHA ORÇAMENTÁRIA'!E24","v":"m²"},{"$nulls":52},500,"+",{"v":5,"d":"5.00"},505,"+",15.65]
[]
[{"$f":"'PLANILHA ORÇAMENTÁRIA'!A25","v":"02.04"},{"$f":"'PLANILHA ORÇAMENTÁRIA'!D25","v":"Retirada de lixeira"}]
[{"$nulls":9},{"v":4,"d":"4.00"},{"$nulls":5},{"v":4,"d":"4.00"}]
[null,"QUANTIDADE",{"$nulls":13},{"$f":"P132","v":{"v":4,"d":"4.00"}},{"$f":"'PLANILHA ORÇAMENTÁRIA'!E25","v":"und"},{"$nulls":52},500,"+",{"v":5,"d":"5.00"},505,"+",15.65]
[]
[{"$f":"'PLANILHA ORÇAMENTÁRIA'!A26","v":"02.05"},{"$f":"'PLANILHA ORÇAMENTÁRIA'!D26","v":"Retirada de mobiliário urbano"}]
[null,"Praça coreto - escorregador, balanço e orelhão",{"$nulls":7},{"v":3,"d":"3.00"},{"$nulls":5},{"$f":"J136","v":{"v":3,"d":"3.00"}}]
[null,"QUANTIDADE",{"$nulls":13},{"$f":"P136","v":{"v":3,"d":"3.00"}},{"$f":"'PLANILHA ORÇAMENTÁRIA'!E26","v":"und"},{"$nulls":52},500,"+",{"v":5,"d":"5.00"},505,"+",15.65]
[]
[{"$f":"'PLANILHA ORÇAMENTÁRIA'!A27","v":"02.06"},{"$f":"'PLANILHA ORÇAMENTÁRIA'!D27","v":"Índice de preço para remoção de entulho decorrente da execução de obras (Classe A CONAMA - NBR 10.004 - Classe II-B), incluindo aluguel da caçamba, carga, transporte e descarga em área licenciada"}]
[null,"Remoção de Meio fio",{"$nulls":8},{"$f":"P97","v":223.95},0.12,{"v":0.3,"d":"0.30"},null,{"$f":"K140*L140*M140","v":{"v":8.062199999999999,"d":"8.06"}},{"$f":"O140","v":{"v":8.062199999999999,"d":"8.06"}}]
[null,"Demolição de concreto",{"$nulls":12},{"$f":"P110","v":{"v":4.854000000000001,"d":"4.85"}},{"$f":"O141","v":{"v":4.854000000000001,"d":"4.85"}}]
[null,"Remoção de pavimentação",{"$nulls":10},0.06,{"$f":"P129","v":504.32},{"$f":"M142*N142","v":{"v":30.2592,"d":"30.26"}},{"$f":"O142","v":{"v":30.2592,"d":"30.26"}}]
[null,"QUANTIDADE",{"$nulls":13},{"$f":"SUM(P140:P142)","v":{"v":43.175399999999996,"d":"43.18"}},{"$f":"'PLANILHA ORÇAMENTÁRIA'!E27","v":"m³"},{"$nulls":52},500,"+",{"v":5,"d":"5.00"},505,"+",15.65]
[]
[{"$f":"'PLANILHA ORÇAMENTÁRIA'!A28","v":"02.07"},{"$f":"'PLANILHA ORÇAMENTÁRIA'!D28","v":"Aterro com areia em áreas de calçada, inclusive fornecimento e adensamento"}]
[null,"Área praça coreto (com desconto coreto)",{"$nulls":10},{"v":0.1,"d":"0.10"},{"v":308.6,"d":"308.60"},-18.2,{"$f":"(N146+O146)*M146","v":{"v":29.040000000000006,"d":"29.04"}}]
[null,"Área praça 01",{"$nulls":10},{"v":0.1,"d":"0.10"},{"v":78.2,"d":"78.20"},null,{"$f":"M147*N147","v":7.82}]
[null,"Área praça 02",{"$nulls":10},{"v":0.1,"d":"0.10"},93.83,null,{"$f":"M148*N148","v":{"v":9.383000000000001,"d":"9.38"}}]
[null,"Área rua - Complemento praça",{"$nulls":10},0.35,{"$f":"380.54-308.6","v":71.94},null,{"$f":"M149*N149","v":{"v":25.179,"d":"25.18"}}]
[null,"QUANTIDADE",{"$nulls":13},{"$f":"SUM(P146:P149)","v":{"v":71.42200000000001,"d":"71.42"}},{"$f":"'PLANILHA ORÇAMENTÁRIA'!E28","v":"m³"},{"$nulls":52},500,"+",{"v":5,"d":"5.00"},505,"+",15.65]
[]
[{"$f":"'PLANILHA ORÇAMENTÁRIA'!A31","v":"03"},{"$f":"'PLANILHA ORÇAMENTÁRIA'!D31","v":"LOCAÇÃO"}]
[{"$f":"'PLANILHA ORÇAMENTÁRIA'!A32","v":"03.01"},{"$f":"'PLANILHA ORÇAMENTÁRIA'!D32","v":"Locação de obra com gabarito de madeira"}]
[null,"Praça coreto",{"$nulls":11},{"$f":"380.54+18.2","v":398.74},null,{"$f":"N154","v":398.74}]
[null,"Desconto coreto",{"$nulls":11},{"v":-18.2,"d":"-18.20"},null,{"$f":"N155","v":{"v":-18.2,"d":"-18.20"}}]
[null,"Praça 01",{"$nulls":11},93.83,null,{"$f":"N156","v":93.83}]
[null,"Praça 02",{"$nulls":11},{"v":78.2,"d":"78.20"},null,{"$f":"N157","v":{"v":78.2,"d":"78.20"}}]
[null,"QUANTIDADE",{"$nulls":13},{"$f":"SUM(P154:P157)","v":552.57},{"$f":"'PLANILHA ORÇAMENTÁRIA'!E32","v":"m²"},{"$nulls":52},500,"+",{"v":5,"d":"5.00"},505,"+",15.65]
[]
[{"$f":"'PLANILHA ORÇAMENTÁRIA'!A35","v":"04"},{"$f":"'PLANILHA ORÇAMENTÁRIA'!D35","v":"ESCAVAÇÕES"}]
[{"$f":"'PLANILHA ORÇAMENTÁRIA'!A36","v":"04.01"},{"$f":"'PLANILHA ORÇAMENTÁRIA'!D36","v":"Escavação manual em material de 1a. categoria, até 1.50 m de profundidade"}]
[null,"Praça coreto - rampa lado esquerdo",{"$nulls":8},{"$f":"1.73+3.94+4.12","v":9.79},0.54,0.35,null,{"$f":"K162*L162*M162","v":{"v":1.85031,"d":"1.85"}},{"$f":"O162","v":{"v":1.85031,"d":"1.85"}}]
[null,"Praça coreto - rampa lado direito",{"$nulls":8},{"$f":"1.35+3.92+5.11","v":{"v":10.379999999999999,"d":"10.38"}},0.54,0.35,null,{"$f":"K163*L163*M163","v":{"v":1.96182,"d":"1.96"}},{"$f":"O163","v":{"v":1.96182,"d":"1.96"}}]
[null,"Praça coreto - parte interna rampas",{"$nulls":8},{"$f":"1.54+1.52+10.99+1.39+1.45","v":16.89},0.54,0.35,null,{"$f":"K164*L164*M164","v":{"v":3.19221,"d":"3.19"}},{"$f":"O164","v":{"v":3.19221,"d":"3.19"}}]
[null,"Passagem de eletrodutos",{"$nulls":8},{"v":100,"d":"100.00"},{"v":0.5,"d":"0.50"},{"v":0.4,"d":"0.40"},null,{"$f":"K165*L165*M165","v":{"v":20,"d":"20.00"}},{"$f":"O165","v":{"v":20,"d":"20.00"}}]
[null,"QUANTIDADE",{"$nulls":13},{"$f":"SUM(P162:P165)","v":{"v":27.00434,"d":"27.00"}},{"$f":"'PLANILHA ORÇAMENTÁRIA'!E36","v":"m²"},{"$nulls":52},500,"+",{"v":5,"d":"5.00"},505,"+",15.65]
[]
[{"$f":"'PLANILHA ORÇAMENTÁRIA'!A39","v":"05"},{"$f":"'PLANILHA ORÇAMENTÁRIA'!D39","v":"REATERRO E COMPACTAÇÃO"}]
[{"$f":"'PLANILHA ORÇAMENTÁRIA'!A40","v":"05.01"},{"$f":"'PLANILHA ORÇAMENTÁRIA'!D40","v":"Reaterro de valas, exclusive compactação"}]
[null,"Praça coreto - rampa lado esquerdo",{"$nulls":8},{"$f":"1.73+3.94+4.12","v":9.79},{"v":0.4,"d":"0.40"},0.35,null,{"$f":"K170*L170*M170","v":{"v":1.3705999999999998,"d":"1.37"}},{"$f":"O170","v":{"v":1.3705999999999998,"d":"1.37"}}]
[null,"Praça coreto - rampa lado direito",{"$nulls":8},{"$f":"1.35+3.92+5.11","v":{"v":10.379999999999999,"d":"10.38"}},{"v":0.4,"d":"0.40"},0.35,null,{"$f":"K171*L171*M171","v":{"v":1.4532,"d":"1.45"}},{"$f":"O171","v":{"v":1.4532,"d":"1.45"}}]
[null,"Praça coreto - parte interna rampas",{"$nulls":8},{"$f":"1.54+1.52+10.99+1.39+1.45","v":16.89},{"v":0.4,"d":"0.40"},0.35,null,{"$f":"K172*L172*M172","v":{"v":2.3646,"d":"2.36"}},{"$f":"O172","v":{"v":2.3646,"d":"2.36"}}]
[null,"Reaterro escavação eletrodutos",{"$nulls":8},{"v":100,"d":"100.00"},{"v":0.5,"d":"0.50"},{"v":0.4,"d":"0.40"},null,{"$f":"K173*L173*M173","v":{"v":20,"d":"20.00"}},{"$f":"O173","v":{"v":20,"d":"20.00"}}]
[null,"Desconto envelopamento",{"$nulls":8},{"v":100,"d":"100.00"},0.25,0.25,null,{"$f":"-(K174*L174*M174)","v":-6.25},{"$f":"O174","v":-6.25}]
[null,"QUANTIDADE",{"$nulls":13},{"$f":"SUM(P170:P174)","v":{"v":18.9384,"d":"18.94"}},{"$f":"'PLANILHA ORÇAMENTÁRIA'!E40","v":"m³"},{"$nulls":52},500,"+",{"v":5,"d":"5.00"},505,"+",15.65]
[]
[{"$f":"'PLANILHA ORÇAMENTÁRIA'!A43","v":"06"},{"$f":"'PLANILHA ORÇAMENTÁRIA'!D43","v":"ALVENARIA ESTRUTURAL"}]
[{"$f":"'PLANILHA ORÇAMENTÁRIA'!A44","v":"06.01"},{"$f":"'PLANILHA ORÇAMENTÁRIA'!D44","v":"Alvenaria de blocos de concreto estrut. (14x19x39cm) cheios, c/ resist. mín. compr. 15MPa, assentados c/ arg. de cimento e areia no traço 1:4, esp. juntas 10mm e esp. da parede s/ revest. 14cm"}]
[null,"Praça coreto - rampa lado esquerdo",{"$nulls":8},{"$f":"1.73+3.94+4.12","v":9.79},null,{"$f":"0.8/2","v":{"v":0.4,"d":"0.40"}},{"$f":"K179*M179","v":{"v":3.916,"d":"3.92"}},null,{"$f":"N179","v":{"v":3.916,"d":"3.92"}}]
[null,"Praça coreto - rampa lado direito",{"$nulls":8},{"$f":"1.35+3.92+5.11","v":{"v":10.379999999999999,"d":"10.38"}},null,{"$f":"0.8/2","v":{"v":0.4,"d":"0.40"}},{"$f":"K180*M180","v":{"v":4.152,"d":"4.15"}},null,{"$f":"N180","v":{"v":4.152,"d":"4.15"}}]
[null,"Praça coreto - parte interna rampas",{"$nulls":8},{"$f":"1.54+1.52+10.99+1.39+1.45","v":16.89},null,{"v":0.8,"d":"0.80"},{"$f":"K181*M181","v":{"v":13.512,"d":"13.51"}},null,{"$f":"N181","v":{"v":13.512,"d":"13.51"}}]
[null,"QUANTIDADE",{"$nulls":13},{"$f":"SUM(P179:P181)","v":21.58},{"$f":"'PLANILHA ORÇAMENTÁRIA'!E44","v":"m²"},{"$nulls":52},500,"+",{"v":5,"d":"5.00"},505,"+",15.65]
[]
[{"$f":"'PLANILHA ORÇAMENTÁRIA'!A47","v":"07"},"DRENAGEM"]
[{"$f":"'PLANILHA ORÇAMENTÁRIA'!A48","v":"07.01"},{"$f":"'PLANILHA ORÇAMENTÁRIA'!D48","v":"Remoção e reassentamento de blocos de concreto, inclusive perdas"}]
[null,"Corpo BSTC 0,40m",{"$nulls":8},{"v":22,"d":"22.00"},{"v":1.5,"d":"1.50"},{"$nulls":3},{"$f":"K186*L186","v":{"v":33,"d":"33.00"}}]
[null,"Corpo BSTC 0,30m",{"$nulls":8},{"v":16,"d":"16.00"},{"v":1.5,"d":"1.50"},{"$nulls":3},{"$f":"K187*L187","v":{"v":24,"d":"24.00"}}]
[null,"QUANTIDADE",{"$nulls":13},{"$f":"SUM(P186:P187)","v":{"v":57,"d":"57.00"}},{"$f":"'PLANILHA ORÇAMENTÁRIA'!E48","v":"m²"},{"$nulls":52},500,"+",{"v":5,"d":"5.00"},505,"+",15.65]
[]
[{"$f":"'PLANILHA ORÇAMENTÁRIA'!A49","v":"07.02"},{"$f":"'PLANILHA ORÇAMENTÁRIA'!D49","v":"Corpo BSTC diâmetro 0,30 m C.S. PB inclusive escavação, reaterro e transporte do tubo"}]
[{"$nulls":9},{"v":3,"d":"3.00"},{"$nulls":5},{"$f":"J191","v":{"v":3,"d":"3.00"}}]
[{"$nulls":9},{"v":1,"d":"1.00"},{"$nulls":5},{"$f":"J192","v":{"v":1,"d":"1.00"}}]
[{"$nulls":9},{"v":2.3,"d":"2.30"},{"$nulls":5},{"v":2.3,"d":"2.30"}]
[{"$nulls":9},{"v":5,"d":"5.00"},{"$nulls":5},{"v":5,"d":"5.00"}]
[{"$nulls":9},{"v":10,"d":"10.00"},{"$nulls":5},{"v":10,"d":"10.00"}]
[{"$nulls":9},{"v":2.8,"d":"2.80"},{"$nulls":5},{"v":2.8,"d":"2.80"}]
[{"$nulls":9},{"v":2.6,"d":"2.60"},{"$nulls":5},{"v":2.6,"d":"2.60"}]
[{"$nulls":9},{"v":13,"d":"13.00"},{"$nulls":5},{"v":13,"d":"13.00"}]
[null,"QUANTIDADE",{"$nulls":13},{"$f":"SUM(P191:P198)","v":{"v":39.7,"d":"39.70"}},{"$f":"'PLANILHA ORÇAMENTÁRIA'!E49","v":"m"},{"$nulls":52},500,"+",{"v":5,"d":"5.00"},505,"+",15.65]
[]
[{"$f":"'PLANILHA ORÇAMENTÁRIA'!A50","v":"07.03"},{"$f":"'PLANILHA ORÇAMENTÁRIA'!D50","v":"Corpo BSTC diâmetro 0,40 m C.S. PB inclusive escavação, reaterro e transporte do tubo"}]
[{"$nulls":9},{"v":10,"d":"10.00"},{"$nulls":5},{"v":10,"d":"10.00"}]
[{"$nulls":9},{"v":12,"d":"12.00"},{"$nulls":5},{"v":12,"d":"12.00"}]
[null,"QUANTIDADE",{"$nulls":13},{"$f":"SUM(P202:P203)","v":{"v":22,"d":"22.00"}},{"$f":"'PLANILHA ORÇAMENTÁRIA'!E50","v":"m"},{"$nulls":52},500,"+",{"v":5,"d":"5.00"},505,"+",15.65]
[]
[{"$f":"'PLANILHA ORÇAMENTÁRIA'!A51","v":"07.04"},{"$f":"'PLANILHA ORÇAMENTÁRIA'!D51","v":"Caixa ralo em blocos pré-moldados e grelha articulada em FFA em Vias Urbanas"}]
[{"$nulls":9},{"v":7,"d":"7.00"},{"$nulls":5},{"$f":"J207","v":{"v":7,"d":"7.00"}}]
[null,"QUANTIDADE",{"$nulls":13},{"$f":"P207","v":{"v":7,"d":"7.00"}},{"$f":"'PLANILHA ORÇAMENTÁRIA'!E51","v":"und "},{"$nulls":52},500,"+",{"v":5,"d":"5.00"},505,"+",15.65]
[]
[{"$f":"'PLANILHA ORÇAMENTÁRIA'!A52","v":"07.05"},{"$f":"'PLANILHA ORÇAMENTÁRIA'!D52","v":"Trincheira drenante em concreto armado, incluíndo grelhas FOFO, escavação e reaterro"}]
[{"$nulls":10},{"v":2.6,"d":"2.60"},{"$nulls":4},{"$f":"K211","v":{"v":2.6,"d":"2.60"}}]
[null,"QUANTIDADE",{"$nulls":13},{"$f":"P211","v":{"v":2.6,"d":"2.60"}},{"$f":"'PLANILHA ORÇAMENTÁRIA'!E52","v":"m "},{"$nulls":52},500,"+",{"v":5,"d":"5.00"},505,"+",15.65]
[]
[{"$f":"'PLANILHA ORÇAMENTÁRIA'!A53","v":"07.06"},{"$f":"'PLANILHA ORÇAMENTÁRIA'!D53","v":"Poço de visita para BSTC diâm. 0,40 m em blocos de concreto, em Vias Urbanas"}]
[{"$nulls":9},{"v":2,"d":"2.00"},{"$nulls":5},{"$f":"J215","v":{"v":2,"d":"2.00"}}]
[null,"QUANTIDADE",{"$nulls":13},{"$f":"P215","v":{"v":2,"d":"2.00"}},{"$f":"'PLANILHA ORÇAMENTÁRIA'!E53","v":"und "},{"$nulls":52},500,"+",{"v":5,"d":"5.00"},505,"+",15.65]
[{"$nulls":69},500,"+",{"v":5,"d":"5.00"},505,"+",15.65]
[{"$f":"'PLANILHA ORÇAMENTÁRIA'!A56","v":"08"},{"$f":"'PLANILHA ORÇAMENTÁRIA'!D56","v":"LASTRO DE CONTRAPISO"}]
[{"$f":"'PLANILHA ORÇAMENTÁRIA'!A57","v":"08.01"},{"$f":"'PLANILHA ORÇAMENTÁRIA'!D57","v":"Lastro impermeabilizado de concreto não estrutural, espessura de 6 cm"}]
[null,"Praça coreto - rampa lado esquerdo",{"$nulls":8},{"$f":"1.73+3.94+4.12","v":9.79},0.54,null,{"$f":"K220*L220","v":{"v":5.2866,"d":"5.29"}},null,{"$f":"N220","v":{"v":5.2866,"d":"5.29"}}]
[null,"Praça coreto - rampa lado direito",{"$nulls":8},{"$f":"1.35+3.92+5.11","v":{"v":10.379999999999999,"d":"10.38"}},0.54,null,{"$f":"K221*L221","v":{"v":5.6052,"d":"5.61"}},null,{"$f":"N221","v":{"v":5.6052,"d":"5.61"}}]
[null,"Praça coreto - parte interna rampas",{"$nulls":8},{"$f":"1.54+1.52+10.99+1.39+1.45","v":16.89},0.54,null,{"$f":"K222*L222","v":{"v":9.120600000000001,"d":"9.12"}},null,{"$f":"N222","v":{"v":9.120600000000001,"d":"9.12"}}]
[null,"QUANTIDADE",{"$nulls":13},{"$f":"SUM(P220:P222)","v":{"v":20.0124,"d":"20.01"}},{"$f":"'PLANILHA ORÇAMENTÁRIA'!E57","v":"m²"},{"$nulls":52},500,"+",{"v":5,"d":"5.00"},505,"+",15.65]
[]
[{"$f":"'PLANILHA ORÇAMENTÁRIA'!A60","v":"09"},"PAVIMENTAÇÃO"]
[{"$f":"'PLANILHA ORÇAMENTÁRIA'!A61","v":"09.01"},{"$f":"'PLANILHA ORÇAMENTÁRIA'!D61","v":"Lastro de concreto não estrutural, espessura de 6 cm"}]
[null,"Piso argamassa alta resistência tipo granilite anti-derrapante",{"$nulls":11},{"$f":"P245","v":{"v":192.84799999999998,"d":"192.85"}},null,{"$f":"N227","v":{"v":192.84799999999998,"d":"192.85"}}]
[null,"Piso em ladrilho hidraulico",{"$nulls":11},{"$f":"P359+P367","v":{"v":53.419999999999995,"d":"53.42"}},null,{"$f":"N228","v":{"v":53.419999999999995,"d":"53.42"}}]
[null,"QUANTIDADE",{"$nulls":13},{"$f":"SUM(P227:P228)","v":{"v":246.26799999999997,"d":"246.27"}},{"$f":"'PLANILHA ORÇAMENTÁRIA'!E61","v":"m²"},{"$nulls":52},500,"+",{"v":5,"d":"5.00"},505,"+",15.65]
[]
[{"$f":"'PLANILHA ORÇAMENTÁRIA'!A62","v":"09.02"},{"$f":"'PLANILHA ORÇAMENTÁRIA'!D62","v":"Piso argamassa alta resistência tipo granilite ou equiv de qualidade comprovada, esp de 10mm, com juntas plástica em quadros de 1m, na cor natural, com acabamento anti-derrapante mecanizado, inclusive regularização e=3.0cm"}]
[null,"Rampa menor","Base Maior",null,null,"Base Menor",{"$nulls":3},{"v":4,"d":"4.00"},null,null,{"v":1.2,"d":"1.20"},{"$f":"((C233+F233)*M232)/2","v":{"v":1.6019999999999999,"d":"1.60"}},null,{"$f":"J232*N232","v":{"v":6.4079999999999995,"d":"6.41"}}]
[null,null,1.47,null,null,{"v":1.2,"d":"1.20"}]
[null,"Rampa praça coreto",{"$nulls":11},{"$f":"10.11+2.7+11.3","v":24.11},null,{"$f":"N234","v":24.11}]
[null,"Praça coreto",{"$nulls":11},{"$f":"2.93+3.14+8.3+2.7+2.88+3.67+3.58+2.98","v":{"v":30.179999999999996,"d":"30.18"}},null,{"$f":"N235","v":{"v":30.179999999999996,"d":"30.18"}}]
[null,"Praça coreto - Circunferência - Lado direito",{"$nulls":11},2.64,null,{"$f":"N236","v":2.64}]
[null,"Praça coreto - Circunferência - Lado esquerdo",{"$nulls":11},2.89,null,{"$f":"N237","v":2.89}]
[null,"Praça coreto - Contorno coreto",{"$nulls":11},{"v":4.6,"d":"4.60"},null,{"v":4.6,"d":"4.60"}]
[null,"Praça coreto - Contorno jardim",{"$nulls":11},3.04,null,3.04]
[{"$nulls":13},{"v":0.6,"d":"0.60"},null,{"v":0.6,"d":"0.60"}]
[{"$nulls":13},3.27,null,3.27]
[null,"Praça 01",{"$nulls":11},48.84,null,48.84]
[null,"Praça 02",{"$nulls":11},77.67,null,77.67]
[null,"Descontos ",{"$nulls":7},{"v":3,"d":"3.00"},{"v":1.9,"d":"1.90"},{"v":2,"d":"2.00"},null,{"$f":"-(J244*K244*L244)","v":{"v":-11.399999999999999,"d":"-11.40"}},null,{"$f":"N244","v":{"v":-11.399999999999999,"d":"-11.40"}}]
[null,"QUANTIDADE",{"$nulls":13},{"$f":"SUM(P232:P244)","v":{"v":192.84799999999998,"d":"192.85"}},{"$f":"'PLANILHA ORÇAMENTÁRIA'!E62","v":"m²"},{"$nulls":52},500,"+",{"v":5,"d":"5.00"},505,"+",15.65]
[]
[{"$f":"'PLANILHA ORÇAMENTÁRIA'!A63","v":"09.03"},{"$f":"'PLANILHA ORÇAMENTÁRIA'!D63","v":"Pavimentação com blocos de concreto pavi-s colorido H->06cm tipo, colchão de pó de pedra 5cm, inclusive transporte dos blocos e areia, em Vias Urbanas (cores: amarelo, vermelho e grafite)"}]
[null,"Área conforme projeto - praça do coreto",{"$nulls":11},169.79,null,{"$f":"N248","v":169.79}]
[null,"QUANTIDADE",{"$nulls":13},{"$f":"P248","v":169.79},{"$f":"'PLANILHA ORÇAMENTÁRIA'!E63","v":"m²"},{"$nulls":52},500,"+",{"v":5,"d":"5.00"},505,"+",15.65]
[]
[{"$f":"'PLANILHA ORÇAMENTÁRIA'!A64","v":"09.04"},{"$f":"'PLANILHA ORÇAMENTÁRIA'!D64","v":"Meio-fio de concreto pré-moldado com dimensões de 15x12x30x100 cm , rejuntados com argamassa de cimento e areia no traço 1:3"},{"$nulls":9}," "]
[null,"Praça do coreto",{"$nulls":7},{"v":1,"d":"1.00"},null,15.19,null,{"$f":"L252","v":15.19},null,{"$f":"N252","v":15.19}]
[{"$nulls":9},{"v":1,"d":"1.00"},null,{"v":1.8,"d":"1.80"},null,{"$f":"L253","v":{"v":1.8,"d":"1.80"}},null,{"$f":"N253","v":{"v":1.8,"d":"1.80"}}]
[{"$nulls":9},{"v":1,"d":"1.00"},null,19.01,null,{"$f":"L254","v":19.01},null,{"$f":"N254","v":19.01}]
[]
[null,"Praça 01",{"$nulls":7},{"v":1,"d":"1.00"},null,{"v":9.4,"d":"9.40"},null,{"v":9.4,"d":"9.40"},null,{"v":9.4,"d":"9.40"}]
[{"$nulls":9},{"v":1,"d":"1.00"},null,1.29,null,1.29,null,1.29]
[{"$nulls":9},{"v":1,"d":"1.00"},null,1.47,null,1.47,null,1.47]
[{"$nulls":9},{"v":1,"d":"1.00"},null,4.85,null,4.85,null,4.85]
[{"$nulls":9},{"v":1,"d":"1.00"},null,0.77,null,0.77,null,0.77]
[{"$nulls":9},{"v":1,"d":"1.00"},null,4.14,null,4.14,null,4.14]
[{"$nulls":9},{"v":1,"d":"1.00"},null,0.58,null,0.58,null,0.58]
[{"$nulls":9},{"v":1,"d":"1.00"},null,0.62,null,0.62,null,0.62]
[{"$nulls":9},{"v":1,"d":"1.00"},null,15.76,null,15.76,null,15.76]
[{"$nulls":9},{"v":1,"d":"1.00"},null,0.63,null,0.63,null,0.63]
[{"$nulls":9},{"v":1,"d":"1.00"},null,1.56,null,1.56,null,1.56]
[{"$nulls":9},{"v":1,"d":"1.00"},null,0.33,null,0.33,null,0.33]
[]
[null,"Praça 02",{"$nulls":7},{"v":1,"d":"1.00"},null,11.26,null,4.23,null,4.23]
[{"$nulls":9},{"v":1,"d":"1.00"},null,1.47,null,{"$f":"L270","v":1.47},null,{"$f":"N270","v":1.47}]
[{"$nulls":9},{"v":1,"d":"1.00"},null,0.57,null,9.84,null,9.84]
[{"$nulls":9},{"v":1,"d":"1.00"},null,1.44,null,1.13,null,1.13]
[{"$nulls":9},{"v":1,"d":"1.00"},null,15.54,null,4.17,null,4.17]
[{"$nulls":9},{"v":1,"d":"1.00"},null,1.13,null,0.78,null,0.78]
[{"$nulls":9},{"v":1,"d":"1.00"},null,4.23,null,16.21,null,16.21]
[{"$nulls":9},{"v":1,"d":"1.00"},null,0.72,null,0.65,null,0.65]
[{"$nulls":9},{"v":1,"d":"1.00"},null,16.21,null,4.17,null,4.17]
[{"$nulls":9},{"v":1,"d":"1.00"},null,0.65,null,1.22,null,1.22]
[null,"QUANTIDADE",{"$nulls":13},{"$f":"SUM(P252:P278)","v":121.27},{"$f":"'PLANILHA ORÇAMENTÁRIA'!E64","v":"m"},{"$nulls":52},500,"+",{"v":5,"d":"5.00"},505,"+",15.65]
[]
[{"$f":"'PLANILHA ORÇAMENTÁRIA'!A65","v":"09.05"},{"$f":"'PLANILHA ORÇAMENTÁRIA'!D65","v":"Fornecimento e assentamento de ladrilho hidráulico pastilhado, vermelho, dim. 20x20 cm, esp. 1.5cm, assentado com pasta de cimento colante, exclusive regularização e lastro"}]
[null,"Ladrilho hidráulico tipo pastilhado - Gola de árvore",{"$nulls":7},{"v":16,"d":"16.00"},{"v":1.9,"d":"1.90"},{"v":0.2,"d":"0.20"},null,6.08,null,6.08]
[null,"Ladrilho hidráulico tipo pastilhado - Gola de árvore",{"$nulls":7},{"v":16,"d":"16.00"},{"v":1.6,"d":"1.60"},{"v":0.2,"d":"0.20"},null,5.12,null,5.12]
[null,"Ladrilho hidráulico tipo pastilhado - Gola de árvore",{"$nulls":7},{"v":1,"d":"1.00"},2.84,{"v":0.2,"d":"0.20"},null,0.56,null,0.56]
[null,"Ladrilho hidráulico tipo pastilhado - Gola de árvore",{"$nulls":7},{"v":1,"d":"1.00"},3.02,0.21,null,0.63,null,0.63]
[null,"Ladrilho hidráulico tipo pastilhado - Gola de árvore",{"$nulls":7},{"v":1,"d":"1.00"},{"v":1.5,"d":"1.50"},0.21,null,0.31,null,0.31]
[null,"Ladrilho hidráulico tipo pastilhado - Gola de árvore",{"$nulls":7},{"v":1,"d":"1.00"},0.39,0.21,null,0.08,null,0.08]
[null,"Ladrilho hidráulico tipo pastilhado - Gola de árvore",{"$nulls":7},{"v":1,"d":"1.00"},2.66,0.21,null,0.55,null,0.55]
[null,"Ladrilho hidráulico tipo pastilhado - em volta da praça",{"$nulls":7},{"v":1,"d":"1.00"},{"v":0.8,"d":"0.80"},{"v":0.2,"d":"0.20"},null,0.16,null,0.16]
[null,"Ladrilho hidráulico tipo pastilhado - em volta da praça",{"$nulls":7},{"v":1,"d":"1.00"},1.43,{"v":0.2,"d":"0.20"},null,0.28,null,0.28]
[null,"Ladrilho hidráulico tipo pastilhado - em volta da praça",{"$nulls":7},{"v":1,"d":"1.00"},1.57,{"v":0.2,"d":"0.20"},null,0.31,null,0.31]
[null,"Ladrilho hidráulico tipo pastilhado - em volta da praça",{"$nulls":7},{"v":1,"d":"1.00"},1.51,{"v":0.2,"d":"0.20"},null,{"v":0.3,"d":"0.30"},null,{"v":0.3,"d":"0.30"}]
[null,"Ladrilho hidráulico tipo pastilhado - em volta da praça",{"$nulls":7},{"v":1,"d":"1.00"},1.59,{"v":0.2,"d":"0.20"},null,0.31,null,0.31]
[null,"Ladrilho hidráulico tipo pastilhado - em volta da praça",{"$nulls":7},{"v":1,"d":"1.00"},2.65,{"v":0.2,"d":"0.20"},null,0.53,null,0.53]
[null,"Ladrilho hidráulico tipo pastilhado - em volta da praça",{"$nulls":7},{"v":1,"d":"1.00"},{"v":1.6,"d":"1.60"},{"v":0.2,"d":"0.20"},null,0.32,null,0.32]
[null,"Ladrilho hidráulico tipo pastilhado - em volta da praça",{"$nulls":7},{"v":1,"d":"1.00"},{"v":1.9,"d":"1.90"},{"v":0.2,"d":"0.20"},null,0.38,null,0.38]
[null,"Ladrilho hidráulico tipo pastilhado - em volta da praça",{"$nulls":7},{"v":1,"d":"1.00"},{"v":1.6,"d":"1.60"},{"v":0.2,"d":"0.20"},null,0.32,null,0.32]
[null,"Ladrilho hidráulico tipo pastilhado - em volta da praça",{"$nulls":7},{"v":1,"d":"1.00"},{"v":2.3,"d":"2.30"},{"v":0.2,"d":"0.20"},null,0.46,null,0.46]
[null,"Ladrilho hidráulico tipo pastilhado - em volta da praça",{"$nulls":7},{"v":1,"d":"1.00"},{"v":1.6,"d":"1.60"},{"v":0.2,"d":"0.20"},null,0.32,null,0.32]
[null,"Ladrilho hidráulico tipo pastilhado - em volta da praça",{"$nulls":7},{"v":1,"d":"1.00"},{"v":1.5,"d":"1.50"},{"v":0.2,"d":"0.20"},null,{"v":0.3,"d":"0.30"},null,{"v":0.3,"d":"0.30"}]
[null,"Ladrilho hidráulico tipo pastilhado - em volta da praça",{"$nulls":7},{"v":1,"d":"1.00"},{"v":1.6,"d":"1.60"},{"v":0.2,"d":"0.20"},null,0.32,null,0.32]
[null,"Ladrilho hidráulico tipo pastilhado - em volta da praça",{"$nulls":7},{"v":1,"d":"1.00"},3.24,{"v":0.2,"d":"0.20"},null,0.64,null,0.64]
[null,"Ladrilho hidráulico tipo pastilhado - em volta da praça",{"$nulls":7},{"v":1,"d":"1.00"},0.45,{"v":0.2,"d":"0.20"},null,0.09,null,0.09]
[null,"Ladrilho hidráulico tipo pastilhado - em volta da praça",{"$nulls":7},{"v":1,"d":"1.00"},0.66,{"v":0.2,"d":"0.20"},null,0.13,null,0.13]
[null,"Ladrilho hidráulico tipo pastilhado - em volta da praça",{"$nulls":7},{"v":1,"d":"1.00"},0.53,{"v":0.2,"d":"0.20"},null,{"v":0.1,"d":"0.10"},null,{"v":0.1,"d":"0.10"}]
[null,"Ladrilho hidráulico tipo pastilhado - em volta da praça",{"$nulls":7},{"v":1,"d":"1.00"},0.52,{"v":0.2,"d":"0.20"},null,{"v":0.1,"d":"0.10"},null,{"v":0.1,"d":"0.10"}]
[null,"Ladrilho hidráulico tipo pastilhado - em volta da praça",{"$nulls":7},{"v":1,"d":"1.00"},0.45,{"v":0.2,"d":"0.20"},null,0.09,null,0.09]
[null,"Ladrilho hidráulico tipo pastilhado - em volta da praça",{"$nulls":7},{"v":1,"d":"1.00"},0.69,{"v":0.2,"d":"0.20"},null,0.13,null,0.13]
[null,"Ladrilho hidráulico tipo pastilhado - em volta da praça",{"$nulls":7},{"v":1,"d":"1.00"},5.57,{"v":0.2,"d":"0.20"},null,1.11,null,1.11]
[null,"Ladrilho hidráulico tipo pastilhado - em volta da praça",{"$nulls":7},{"v":1,"d":"1.00"},{"v":4.1,"d":"4.10"},{"v":0.2,"d":"0.20"},null,0.82,null,0.82]
[null,"Ladrilho hidráulico tipo pastilhado - em volta da praça",{"$nulls":7},{"v":1,"d":"1.00"},0.57,{"v":0.2,"d":"0.20"},null,0.11,null,0.11]
[null,"Ladrilho hidráulico tipo pastilhado - em volta da praça",{"$nulls":7},{"v":1,"d":"1.00"},0.55,{"v":0.2,"d":"0.20"},null,0.11,null,0.11]
[null,"Ladrilho hidráulico tipo pastilhado - em volta da praça",{"$nulls":7},{"v":1,"d":"1.00"},0.78,{"v":0.2,"d":"0.20"},null,0.15,null,0.15]
[null,"Ladrilho hidráulico tipo pastilhado - em volta da praça",{"$nulls":7},{"v":1,"d":"1.00"},0.77,{"v":0.2,"d":"0.20"},null,0.15,null,0.15]
[null,"Ladrilho hidráulico tipo pastilhado - em volta da praça",{"$nulls":7},{"v":1,"d":"1.00"},0.73,{"v":0.2,"d":"0.20"},null,0.14,null,0.14]
[null,"Ladrilho hidráulico tipo pastilhado - em volta da praça",{"$nulls":7},{"v":1,"d":"1.00"},0.45,{"v":0.2,"d":"0.20"},null,0.09,null,0.09]
[null,"Ladrilho hidráulico tipo pastilhado - em volta da praça",{"$nulls":7},{"v":1,"d":"1.00"},3.92,{"v":0.2,"d":"0.20"},null,0.78,null,0.78]
[null,"Ladrilho hidráulico tipo pastilhado - em volta da praça",{"$nulls":7},{"v":1,"d":"1.00"},1.56,{"v":0.2,"d":"0.20"},null,0.31,null,0.31]
[null,"Ladrilho hidráulico tipo pastilhado - em volta da praça",{"$nulls":7},{"v":1,"d":"1.00"},{"v":1.6,"d":"1.60"},{"v":0.2,"d":"0.20"},null,0.32,null,0.32]
[null,"Ladrilho hidráulico tipo pastilhado - em volta da praça",{"$nulls":7},{"v":1,"d":"1.00"},11.04,{"v":0.2,"d":"0.20"},null,{"v":2.2,"d":"2.20"},null,{"v":2.2,"d":"2.20"}]
[null,"Ladrilho hidráulico tipo pastilhado - em volta da praça",{"$nulls":7},{"v":1,"d":"1.00"},1.84,{"v":0.2,"d":"0.20"},null,0.36,null,0.36]
[null,"Ladrilho hidráulico tipo pastilhado - em volta da praça",{"$nulls":7},{"v":1,"d":"1.00"},1.54,{"v":0.2,"d":"0.20"},null,{"v":0.3,"d":"0.30"},null,{"v":0.3,"d":"0.30"}]
[null,"Ladrilho hidráulico tipo pastilhado - em volta da praça",{"$nulls":7},{"v":1,"d":"1.00"},1.49,{"v":0.2,"d":"0.20"},null,0.29,null,0.29]
[null,"Ladrilho hidráulico tipo pastilhado - em volta da praça",{"$nulls":7},{"v":1,"d":"1.00"},{"v":1.6,"d":"1.60"},{"v":0.2,"d":"0.20"},null,0.32,null,0.32]
[null,"Ladrilho hidráulico tipo pastilhado - em volta da praça",{"$nulls":7},{"v":1,"d":"1.00"},{"v":1.5,"d":"1.50"},{"v":0.2,"d":"0.20"},null,{"v":0.3,"d":"0.30"},null,{"v":0.3,"d":"0.30"}]
[null,"Ladrilho hidráulico tipo pastilhado - em volta da praça",{"$nulls":7},{"v":1,"d":"1.00"},5.89,{"v":0.2,"d":"0.20"},null,1.17,null,1.17]
[null,"Ladrilho hidráulico tipo pastilhado - em volta da praça",{"$nulls":7},{"v":1,"d":"1.00"},1.52,{"v":0.2,"d":"0.20"},null,{"v":0.3,"d":"0.30"},null,{"v":0.3,"d":"0.30"}]
[null,"Ladrilho hidráulico tipo pastilhado - em volta da praça",{"$nulls":7},{"v":1,"d":"1.00"},{"v":1.6,"d":"1.60"},{"v":0.2,"d":"0.20"},null,0.32,null,0.32]
[null,"Ladrilho hidráulico tipo pastilhado - em volta da praça",{"$nulls":7},{"v":1,"d":"1.00"},1.51,{"v":0.2,"d":"0.20"},null,{"v":0.3,"d":"0.30"},null,{"v":0.3,"d":"0.30"}]
[null,"Ladrilho hidráulico tipo pastilhado - em volta da praça",{"$nulls":7},{"v":1,"d":"1.00"},2.48,{"v":0.2,"d":"0.20"},null,0.49,null,0.49]
[null,"Ladrilho hidráulico tipo pastilhado - em volta da praça",{"$nulls":7},{"v":1,"d":"1.00"},1.51,{"v":0.2,"d":"0.20"},null,{"v":0.3,"d":"0.30"},null,{"v":0.3,"d":"0.30"}]
[null,"Ladrilho hidráulico tipo pastilhado - em volta da praça",{"$nulls":7},{"v":1,"d":"1.00"},{"v":1.6,"d":"1.60"},{"v":0.2,"d":"0.20"},null,0.32,null,0.32]
[null,"Ladrilho hidráulico tipo pastilhado - em volta da praça",{"$nulls":7},{"v":1,"d":"1.00"},1.49,{"v":0.2,"d":"0.20"},null,0.29,null,0.29]
[null,"Ladrilho hidráulico tipo pastilhado - em volta da praça",{"$nulls":7},{"v":1,"d":"1.00"},1.17,{"v":0.2,"d":"0.20"},null,0.23,null,0.23]
[null,"Ladrilho hidráulico tipo pastilhado - em volta da praça",{"$nulls":7},{"v":1,"d":"1.00"},1.28,{"v":0.2,"d":"0.20"},null,0.25,null,0.25]
[null,"Ladrilho hidráulico tipo pastilhado - em volta da praça",{"$nulls":7},{"v":1,"d":"1.00"},4.74,{"v":0.2,"d":"0.20"},null,0.94,null,0.94]
[null,"Ladrilho hidráulico tipo pastilhado - em volta da praça",{"$nulls":7},{"v":1,"d":"1.00"},0.61,{"v":0.2,"d":"0.20"},null,0.12,null,0.12]
[null,"Ladrilho hidráulico tipo pastilhado - em volta da praça",{"$nulls":7},{"v":1,"d":"1.00"},9.73,{"v":0.2,"d":"0.20"},null,1.94,null,1.94]
[null,"Ladrilho hidráulico tipo pastilhado - praça menor",{"$nulls":7},{"v":1,"d":"1.00"},9.65,{"v":0.2,"d":"0.20"},null,1.93,null,1.93]
[null,"Ladrilho hidráulico tipo pastilhado - praça menor",{"$nulls":7},{"v":1,"d":"1.00"},0.96,{"v":0.2,"d":"0.20"},null,0.19,null,0.19]
[null,"Ladrilho hidráulico tipo pastilhado - praça menor",{"$nulls":7},{"v":2,"d":"2.00"},4.17,{"v":0.2,"d":"0.20"},null,1.66,null,1.66]
[null,"Ladrilho hidráulico tipo pastilhado - praça menor",{"$nulls":7},{"v":1,"d":"1.00"},0.64,{"v":0.2,"d":"0.20"},null,0.12,null,0.12]
[null,"Ladrilho hidráulico tipo pastilhado - praça menor",{"$nulls":7},{"v":1,"d":"1.00"},16.17,{"v":0.2,"d":"0.20"},null,3.23,null,3.23]
[null,"Ladrilho hidráulico tipo pastilhado - praça menor",{"$nulls":7},{"v":1,"d":"1.00"},0.51,{"v":0.2,"d":"0.20"},null,{"v":0.1,"d":"0.10"},null,{"v":0.1,"d":"0.10"}]
[null,"Ladrilho hidráulico tipo pastilhado - praça menor",{"$nulls":7},{"v":1,"d":"1.00"},1.07,{"v":0.2,"d":"0.20"},null,0.21,null,0.21]
[null,"Ladrilho hidráulico tipo pastilhado - praça menor",{"$nulls":7},{"v":1,"d":"1.00"},4.03,{"v":0.2,"d":"0.20"},null,{"v":0.8,"d":"0.80"},null,{"v":0.8,"d":"0.80"}]
[null,"Ladrilho hidráulico tipo pastilhado - praça menor",{"$nulls":7},{"v":1,"d":"1.00"},{"v":4.6,"d":"4.60"},{"v":0.2,"d":"0.20"},null,0.92,null,0.92]
[null,"Ladrilho hidráulico tipo pastilhado - praça menor",{"$nulls":7},{"v":1,"d":"1.00"},0.77,{"v":0.2,"d":"0.20"},null,0.15,null,0.15]
[null,"Ladrilho hidráulico tipo pastilhado - praça menor",{"$nulls":7},{"v":1,"d":"1.00"},4.08,{"v":0.2,"d":"0.20"},null,0.81,null,0.81]
[null,"Ladrilho hidráulico tipo pastilhado - praça menor",{"$nulls":7},{"v":1,"d":"1.00"},0.53,{"v":0.2,"d":"0.20"},null,{"v":0.1,"d":"0.10"},null,{"v":0.1,"d":"0.10"}]
[null,"Ladrilho hidráulico tipo pastilhado - praça menor",{"$nulls":7},{"v":1,"d":"1.00"},0.55,{"v":0.2,"d":"0.20"},null,0.11,null,0.11]
[null,"Ladrilho hidráulico tipo pastilhado - praça menor",{"$nulls":7},{"v":1,"d":"1.00"},15.69,{"v":0.2,"d":"0.20"},null,3.13,null,3.13]
[null,"Ladrilho hidráulico tipo pastilhado - praça menor",{"$nulls":7},{"v":1,"d":"1.00"},0.55,{"v":0.2,"d":"0.20"},null,0.11,null,0.11]
[null,"Ladrilho hidráulico tipo pastilhado - praça menor",{"$nulls":7},{"v":1,"d":"1.00"},{"v":1.5,"d":"1.50"},{"v":0.2,"d":"0.20"},null,{"v":0.3,"d":"0.30"},null,{"v":0.3,"d":"0.30"}]
[null,"Ladrilho hidráulico tipo pastilhado - praça menor",{"$nulls":7},{"v":1,"d":"1.00"},0.26,{"v":0.2,"d":"0.20"},null,0.05,null,0.05]
[null,"Ladrilho hidráulico tipo pastilhado - praça menor",{"$nulls":7},{"v":1,"d":"1.00"},5.32,{"v":0.2,"d":"0.20"},null,1.06,null,1.06]
[null,"Ladrilho hidráulico tipo pastilhado - praça menor",{"$nulls":7},{"v":1,"d":"1.00"},4.03,{"v":0.2,"d":"0.20"},null,{"v":0.8,"d":"0.80"},null,{"v":0.8,"d":"0.80"}]
[null,"Ladrilho hidráulico tipo pastilhado - praça menor",{"$nulls":7},{"v":1,"d":"1.00"},1.08,{"v":0.2,"d":"0.20"},null,0.21,null,0.21]
[null,"QUANTIDADE",{"$nulls":13},{"$f":"SUM(P282:P358)","v":{"v":49.739999999999995,"d":"49.74"}},{"$f":"'PLANILHA ORÇAMENTÁRIA'!E65","v":"m²"},{"$nulls":52},500,"+",{"v":5,"d":"5.00"},505,"+",15.65]
[{"$nulls":69},500,"+",{"v":5,"d":"5.00"},505,"+",15.65]
[{"$f":"'PLANILHA ORÇAMENTÁRIA'!A66","v":"09.06"},{"$f":"'PLANILHA ORÇAMENTÁRIA'!D66","v":"Fornecimento e assentamento de ladrilho hidráulico ranhurado, vermelho, dim. 20x20 cm, esp. 1.5cm, assentado com pasta de cimento colante, exclusive regularização e lastro"}]
[null,"Ladrilho hidráulico tipo ranhurado - Rampa",{"$nulls":7},{"v":4,"d":"4.00"},1.41,{"v":0.2,"d":"0.20"},null,1.12,null,1.12]
[null,"Ladrilho hidráulico tipo ranhurado - Rampa",{"$nulls":7},{"v":2,"d":"2.00"},{"v":1.2,"d":"1.20"},{"v":0.2,"d":"0.20"},null,0.48,null,0.48]
[null,"Ladrilho hidráulico tipo ranhurado - Rampa",{"$nulls":7},{"v":2,"d":"2.00"},{"v":1.4,"d":"1.40"},{"v":0.2,"d":"0.20"},null,0.56,null,0.56]
[null,"Ladrilho hidráulico tipo ranhurado - Rampa",{"$nulls":7},{"v":4,"d":"4.00"},1.31,{"v":0.2,"d":"0.20"},null,1.04,null,1.04]
[null,"Ladrilho hidráulico tipo ranhurado - Rampa",{"$nulls":7},{"v":2,"d":"2.00"},{"v":1.2,"d":"1.20"},{"v":0.2,"d":"0.20"},null,0.48,null,0.48]
[null,"QUANTIDADE",{"$nulls":13},{"$f":"SUM(P362:P366)","v":3.68},{"$f":"'PLANILHA ORÇAMENTÁRIA'!E66","v":"m²"},{"$nulls":52},500,"+",{"v":5,"d":"5.00"},505,"+",15.65]
[]
[{"$f":"'PLANILHA ORÇAMENTÁRIA'!A69","v":"10"},"EQUIPAMENTOS"]
[{"$f":"'PLANILHA ORÇAMENTÁRIA'!A70","v":"10.1"},{"$f":"'PLANILHA ORÇAMENTÁRIA'!D70","v":"Fornecimento e instalação de banco com encosto e assento em madeira conforme detalhe de projeto"}]
[null,"Praça Coreto",{"$nulls":7},{"v":6,"d":"6.00"},{"$nulls":5},{"$f":"J371","v":{"v":6,"d":"6.00"}}]
[null,"Praça menor",{"$nulls":7},{"v":5,"d":"5.00"},{"$nulls":5},{"$f":"J372","v":{"v":5,"d":"5.00"}}]
[null,"Praça menor ",{"$nulls":7},{"v":4,"d":"4.00"},{"$nulls":5},{"$f":"J373","v":{"v":4,"d":"4.00"}}]
[null,"QUANTIDADE",{"$nulls":13},{"$f":"SUM(P371:P373)","v":{"v":15,"d":"15.00"}},{"$f":"'PLANILHA ORÇAMENTÁRIA'!E70","v":"und"},{"$nulls":52},500,"+",{"v":5,"d":"5.00"},505,"+",15.65]
[{"$nulls":69},500,"+",{"v":5,"d":"5.00"},505,"+",15.65]
[{"$f":"'PLANILHA ORÇAMENTÁRIA'!A71","v":"10.2"},{"$f":"'PLANILHA ORÇAMENTÁRIA'!D71","v":"Fornecimento instalação de lixeira seletiva 50 litros, com suporte tubular em aço galvanizado, DN 3\", incluindo chumbamento em base de concreto"}]
[null,"Praça Coreto",{"$nulls":7},{"v":2,"d":"2.00"},{"$nulls":5},{"$f":"J377","v":{"v":2,"d":"2.00"}}]
[null,"Praça 01",{"$nulls":7},{"v":1,"d":"1.00"},{"$nulls":5},{"$f":"J378","v":{"v":1,"d":"1.00"}}]
[null,"Praça 02",{"$nulls":7},{"v":2,"d":"2.00"},{"$nulls":5},{"$f":"J379","v":{"v":2,"d":"2.00"}}]
[null,"QUANTIDADE",{"$nulls":13},{"$f":"SUM(P377:P379)","v":{"v":5,"d":"5.00"}},{"$f":"'PLANILHA ORÇAMENTÁRIA'!E71","v":"und"},{"$nulls":52},500,"+",{"v":5,"d":"5.00"},505,"+",15.65]
[{"$nulls":69},500,"+",{"v":5,"d":"5.00"},505,"+",15.65]
[{"$f":"'PLANILHA ORÇAMENTÁRIA'!A72","v":"10.3"},{"$f":"'PLANILHA ORÇAMENTÁRIA'!D72","v":"Guarda corpo de tubo de ferro galvanizado, diâm. 3\" e 2\", h=0.8 m inclusive pintura a óleo ou esmalte"}]
[null,"Escada",{"$nulls":7},{"v":2,"d":"2.00"},{"v":1.6,"d":"1.60"},null,null,{"$f":"J383*K383","v":{"v":3.2,"d":"3.20"}},null,{"$f":"N383","v":{"v":3.2,"d":"3.20"}}]
[null,"QUANTIDADE",{"$nulls":13},{"$f":"P383","v":{"v":3.2,"d":"3.20"}},{"$f":"'PLANILHA ORÇAMENTÁRIA'!E72","v":"m"},{"$nulls":52},500,"+",{"v":5,"d":"5.00"},505,"+",15.65]
[{"$nulls":69},500,"+",{"v":5,"d":"5.00"},505,"+",15.65]
[{"$f":"'PLANILHA ORÇAMENTÁRIA'!A73","v":"10.4"},{"$f":"'PLANILHA ORÇAMENTÁRIA'!D73","v":"Bicicletário em tubo de ferro galvanizado 1\" e ferro liso 1/2\", inclusive pintura, conforme projeto padrão SEDU"}]
[{"$nulls":9},{"v":2,"d":"2.00"},1.88,null,null,{"$f":"J387*K387","v":3.76},null,{"$f":"N387","v":3.76}]
[null,"QUANTIDADE",{"$nulls":13},{"$f":"P387","v":3.76},{"$f":"'PLANILHA ORÇAMENTÁRIA'!E73","v":"m"},{"$nulls":52},500,"+",{"v":5,"d":"5.00"},505,"+",15.65]
[{"$nulls":69},500,"+",{"v":5,"d":"5.00"},505,"+",15.65]
[{"$f":"'PLANILHA ORÇAMENTÁRIA'!A76","v":"11"},"PAISAGISMO"]
[{"$f":"'PLANILHA ORÇAMENTÁRIA'!A77","v":"11.1"},{"$f":"'PLANILHA ORÇAMENTÁRIA'!D77","v":"Fornecimento e Plantio de GRAMA BATATAIS (Paspalum Notatum)"}]
[null,"Golas das árvores",{"$nulls":7},{"v":14,"d":"14.00"},{"v":1.6,"d":"1.60"},{"v":1.5,"d":"1.50"},{"$nulls":3},{"$f":"J392*K392*L392","v":{"v":33.6,"d":"33.60"}}]
[{"$nulls":9},"Base Maior ","Base Menor"]
[null,"Gola da árvore - praça menor",{"$nulls":7},2.37,1.46,null,{"$f":"(3.02+2.62)/2","v":{"v":2.8200000000000003,"d":"2.82"}},{"$f":"((J394+K394)*M394)/2","v":{"v":5.4003000000000005,"d":"5.40"}},null,{"$f":"N394","v":{"v":5.4003000000000005,"d":"5.40"}}]
[{"$nulls":10},"Diâmetro"]
[null,"Gramado circunferência - Lado direito",{"$nulls":7},{"v":1,"d":"1.00"},{"v":4,"d":"4.00"},null,null,{"$f":"PI()*((K396/2)^2)","v":{"v":12.566370614359172,"d":"12.57"}},null,{"$f":"N396","v":{"v":12.566370614359172,"d":"12.57"}}]
[null,"Gramado circunferência - Lado esquerdo",{"$nulls":7},{"v":1,"d":"1.00"},{"v":4.4,"d":"4.40"},null,null,{"$f":"PI()*((K397/2)^2)","v":{"v":15.205308443374602,"d":"15.21"}},null,{"$f":"N397","v":{"v":15.205308443374602,"d":"15.21"}}]
[null,"Gramado - contorno Coreto",{"$nulls":11},14.83,null,{"$f":"N398","v":14.83}]
[null,"QUANTIDADE",{"$nulls":13},{"$f":"SUM(P392:P398)","v":{"v":81.60197905773377,"d":"81.60"}},{"$f":"'PLANILHA ORÇAMENTÁRIA'!E77","v":"m² "},{"$nulls":52},500,"+",{"v":5,"d":"5.00"},505,"+",15.65]
[]
[{"$f":"'PLANILHA ORÇAMENTÁRIA'!A78","v":"11.2"},{"$f":"'PLANILHA ORÇAMENTÁRIA'!D78","v":"Fornecimento e Plantio de VEDÉLIA (wedlia trilobata)"},{"$nulls":12},"mudas/m²"]
[null,"triângulo",{"$nulls":7},{"v":1,"d":"1.00"},4.03,{"v":1.5,"d":"1.50"},null,3.02,{"v":25,"d":"25.00"},{"$f":"TRUNC(ROUND(N402*O402,0),0)","v":{"v":76,"d":"76.00"}}]
[null,"retângulo",{"$nulls":7},{"v":1,"d":"1.00"},{"v":2,"d":"2.00"},{"v":0.5,"d":"0.50"},null,{"v":1,"d":"1.00"},{"v":25,"d":"25.00"},{"$f":"TRUNC(ROUND(N403*O403,0),0)","v":{"v":25,"d":"25.00"}}]
[null,"retângulo",{"$nulls":7},{"v":1,"d":"1.00"},2.22,{"v":0.5,"d":"0.50"},null,1.11,{"v":25,"d":"25.00"},{"$f":"TRUNC(ROUND(N404*O404,0),0)","v":{"v":28,"d":"28.00"}}]
[null,"retângulo",{"$nulls":7},{"v":1,"d":"1.00"},2.88,0.93,null,2.67,{"v":25,"d":"25.00"},{"$f":"TRUNC(ROUND(N405*O405,0),0)","v":{"v":67,"d":"67.00"}}]
[null,"QUANTIDADE",{"$nulls":13},{"$f":"SUM(P402:P405)","v":{"v":196,"d":"196.00"}},{"$f":"'PLANILHA ORÇAMENTÁRIA'!E78","v":"und"},{"$nulls":52},500,"+",{"v":5,"d":"5.00"},505,"+",15.65]
[]
[{"$f":"'PLANILHA ORÇAMENTÁRIA'!A79","v":"11.3"},{"$f":"'PLANILHA ORÇAMENTÁRIA'!D79","v":"Fornecimento e Plantio de CLÚSIA (clusia fluminensis)"}]
[{"$nulls":9},{"v":21,"d":"21.00"},{"$nulls":5},{"$f":"J409","v":{"v":21,"d":"21.00"}}]
[null,"QUANTIDADE",{"$nulls":13},{"$f":"P409","v":{"v":21,"d":"21.00"}},{"$f":"'PLANILHA ORÇAMENTÁRIA'!E79","v":"und"},{"$nulls":52},500,"+",{"v":5,"d":"5.00"},505,"+",15.65]
[]
[{"$f":"'PLANILHA ORÇAMENTÁRIA'!A80","v":"11.4"},{"$f":"'PLANILHA ORÇAMENTÁRIA'!D80","v":"Fornecimento e Plantio de IXORA (ixora coccínea)"}]
[{"$nulls":9},{"v":28,"d":"28.00"},{"$nulls":5},{"$f":"J413","v":{"v":28,"d":"28.00"}}]
[null,"QUANTIDADE",{"$nulls":13},{"$f":"P413","v":{"v":28,"d":"28.00"}},{"$f":"'PLANILHA ORÇAMENTÁRIA'!E80","v":"und"},{"$nulls":52},500,"+",{"v":5,"d":"5.00"},505,"+",15.65]
[]
[{"$f":"'PLANILHA ORÇAMENTÁRIA'!A81","v":"11.5"},{"$f":"'PLANILHA ORÇAMENTÁRIA'!D81","v":"Fornecimento e Plantio de PINGO DE OURO (duranta repens)"}]
[{"$nulls":9},{"v":19,"d":"19.00"},{"$nulls":5},{"$f":"J417","v":{"v":19,"d":"19.00"}}]
[null,"QUANTIDADE",{"$nulls":13},{"$f":"P417","v":{"v":19,"d":"19.00"}},{"$f":"'PLANILHA ORÇAMENTÁRIA'!E81","v":"und"},{"$nulls":52},500,"+",{"v":5,"d":"5.00"},505,"+",15.65]
[{"$nulls":69},500,"+",{"v":5,"d":"5.00"},505,"+",15.65]
[{"$f":"'PLANILHA ORÇAMENTÁRIA'!A84","v":"12"},"INSTALAÇÕES ELÉTRICAS"]
[{"$f":"'PLANILHA ORÇAMENTÁRIA'!A85","v":"12.1"},{"$f":"'PLANILHA ORÇAMENTÁRIA'!D85","v":"Eletroduto PEAD, cor preta, diam. 2\", marca ref. Kanaflex ou equivalente"}]
[{"$nulls":10},{"v":100,"d":"100.00"},{"$nulls":4},{"$f":"K422","v":{"v":100,"d":"100.00"}}]
[null,"QUANTIDADE",{"$nulls":13},{"$f":"P422","v":{"v":100,"d":"100.00"}},{"$f":"'PLANILHA ORÇAMENTÁRIA'!E85","v":"m"},{"$f":"13.45+13.15+13.12+10.44+11.96+11.37+9.52+12.48","v":95.49},{"$nulls":51},500,"+",{"v":5,"d":"5.00"},505,"+",15.65]
[{"$nulls":69},500,"+",{"v":5,"d":"5.00"},505,"+",15.65]
[{"$f":"'PLANILHA ORÇAMENTÁRIA'!A86","v":"12.2"},{"$f":"'PLANILHA ORÇAMENTÁRIA'!D86","v":"Cabo de cobre termoplástico (PVC) flexível isolado 0,6/1kV, anti-chama 90ºC HEPR - 4,0 mm2 "}]
[{"$nulls":10},{"v":460,"d":"460.00"},{"$nulls":4},{"$f":"K426","v":{"v":460,"d":"460.00"}}]
[null,"QUANTIDADE",{"$nulls":13},{"$f":"P426","v":{"v":460,"d":"460.00"}},{"$f":"'PLANILHA ORÇAMENTÁRIA'!E86","v":"m"},{"$nulls":52},500,"+",{"v":5,"d":"5.00"},505,"+",15.65]
[{"$nulls":69},500,"+",{"v":5,"d":"5.00"},505,"+",15.65]
[{"$f":"'PLANILHA ORÇAMENTÁRIA'!A87","v":"12.3"},{"$f":"'PLANILHA ORÇAMENTÁRIA'!D87","v":"Cabo de cobre termoplástico (PVC) flexível isolado 0,6/1kV, anti-chama 90ºC HEPR - 16,0 mm2"}]
[{"$nulls":10},{"v":95,"d":"95.00"},{"$nulls":4},{"$f":"K430","v":{"v":95,"d":"95.00"}}]
[null,"QUANTIDADE",{"$nulls":13},{"$f":"P430","v":{"v":95,"d":"95.00"}},{"$f":"'PLANILHA ORÇAMENTÁRIA'!E87","v":"m"},{"$nulls":52},500,"+",{"v":5,"d":"5.00"},505,"+",15.65]
[{"$nulls":69},500,"+",{"v":5,"d":"5.00"},505,"+",15.65]
[{"$f":"'PLANILHA ORÇAMENTÁRIA'!A88","v":"12.4"},{"$f":"'PLANILHA ORÇAMENTÁRIA'!D88","v":"Padrão de entrada de energia elétrica, trifásico, entrada aérea, a 4 fios, carga instalada em muro de 15001 até 26000W - 220/127V"}]
[{"$nulls":9},{"v":1,"d":"1.00"},{"$nulls":5},{"$f":"J434","v":{"v":1,"d":"1.00"}}]
[null,"QUANTIDADE",{"$nulls":13},{"$f":"P434","v":{"v":1,"d":"1.00"}},{"$f":"'PLANILHA ORÇAMENTÁRIA'!E88","v":"und"},{"$nulls":52},500,"+",{"v":5,"d":"5.00"},505,"+",15.65]
[{"$nulls":69},500,"+",{"v":5,"d":"5.00"},505,"+",15.65]
[{"$f":"'PLANILHA ORÇAMENTÁRIA'!A89","v":"12.5"},{"$f":"'PLANILHA ORÇAMENTÁRIA'!D89","v":"Caixa de passagem de alvenaria de blocos de concreto 9x19x39cm, dimensões de 30x30x50cm, com revestimento interno em chapisco e reboco, tampa de concreto esp.5cm e lastro de brita 5 cm"}]
[{"$nulls":9},{"v":9,"d":"9.00"},{"$nulls":5},{"$f":"J438","v":{"v":9,"d":"9.00"}}]
[null,"QUANTIDADE",{"$nulls":13},{"$f":"P438","v":{"v":9,"d":"9.00"}},{"$f":"'PLANILHA ORÇAMENTÁRIA'!E89","v":"und"},{"$nulls":52},500,"+",{"v":5,"d":"5.00"},505,"+",15.65]
[{"$nulls":69},500,"+",{"v":5,"d":"5.00"},505,"+",15.65]
[{"$f":"'PLANILHA ORÇAMENTÁRIA'!A90","v":"12.6"},{"$f":"'PLANILHA ORÇAMENTÁRIA'!D90","v":"Quadro de comando em policarbonato dimensões mínimas 500x400x200mm completo com placa de montagem, disjuntores, contator , trilho, canaleta de pvc e barras de cobre conforme detalhe em projeto"}]
[{"$nulls":9},{"v":1,"d":"1.00"},{"$nulls":5},{"v":1,"d":"1.00"}]
[null,"QUANTIDADE",{"$nulls":13},{"$f":"P442","v":{"v":1,"d":"1.00"}},{"$f":"'PLANILHA ORÇAMENTÁRIA'!E90","v":"und"},{"$nulls":52},500,"+",{"v":5,"d":"5.00"},505,"+",15.65]
[{"$nulls":69},500,"+",{"v":5,"d":"5.00"},505,"+",15.65]
[{"$f":"'PLANILHA ORÇAMENTÁRIA'!A91","v":"12.7"},{"$f":"'PLANILHA ORÇAMENTÁRIA'!D91","v":"Poste fotovoltáico, altura de 4,00 m, 2 luminárias 150W, fornecimento e instalação"}]
[{"$nulls":9},{"v":8,"d":"8.00"},{"$nulls":5},{"v":8,"d":"8.00"}]
[null,"QUANTIDADE",{"$nulls":13},{"$f":"P446","v":{"v":8,"d":"8.00"}},{"$f":"'PLANILHA ORÇAMENTÁRIA'!E91","v":"und"},{"$nulls":52},500,"+",{"v":5,"d":"5.00"},505,"+",15.65]
[{"$nulls":69},500,"+",{"v":5,"d":"5.00"},505,"+",15.65]
[{"$f":"'PLANILHA ORÇAMENTÁRIA'!A92","v":"12.8"},{"$f":"'PLANILHA ORÇAMENTÁRIA'!D92","v":"Rele fofoelétrico para comando de iluminação externa 1000 W - fornecimento e instalação"}]
[{"$nulls":9},{"v":1,"d":"1.00"},{"$nulls":5},{"v":1,"d":"1.00"}]
[null,"QUANTIDADE",{"$nulls":13},{"$f":"P450","v":{"v":1,"d":"1.00"}},{"$f":"'PLANILHA ORÇAMENTÁRIA'!E92","v":"und"},{"$nulls":52},500,"+",{"v":5,"d":"5.00"},505,"+",15.65]
[{"$nulls":69},500,"+",{"v":5,"d":"5.00"},505,"+",15.65]
[{"$f":"'PLANILHA ORÇAMENTÁRIA'!A93","v":"12.9"},{"$f":"'PLANILHA ORÇAMENTÁRIA'!D93","v":"Envelopamento de concreto simples com consumo mínimo de cimento de 250kg/m3, inclusive escavação para profundidade mínima do eletroduto de 50 cm, de 25 x 25 cm, para 1 eletroduto"}]
[{"$nulls":9},{"v":100,"d":"100.00"},{"$nulls":5},{"$f":"J454","v":{"v":100,"d":"100.00"}}]
[null,"QUANTIDADE",{"$nulls":13},{"$f":"P454","v":{"v":100,"d":"100.00"}},{"$f":"'PLANILHA ORÇAMENTÁRIA'!E93","v":"m"},{"$nulls":52},500,"+",{"v":5,"d":"5.00"},505,"+",15.65]
[{"$nulls":69},500,"+",{"v":5,"d":"5.00"},505,"+",15.65]
[{"$f":"'PLANILHA ORÇAMENTÁRIA'!A94","v":"12.10"},{"$f":"'PLANILHA ORÇAMENTÁRIA'!D94","v":"Fita isolante em rolo de 19mm x 20 m, número 33 Scoth ou equivalente"}]
[{"$nulls":9},{"v":3,"d":"3.00"},{"$nulls":5},{"v":3,"d":"3.00"}]
[null,"QUANTIDADE",{"$nulls":13},{"$f":"P458","v":{"v":3,"d":"3.00"}},{"$f":"'PLANILHA ORÇAMENTÁRIA'!E94","v":"und"},{"$nulls":52},500,"+",{"v":5,"d":"5.00"},505,"+",15.65]
[]
[{"$f":"'PLANILHA ORÇAMENTÁRIA'!A97","v":"13"},{"$f":"'PLANILHA ORÇAMENTÁRIA'!D97","v":"REVESTIMENTO EMPREGANDO ARGAMASSA DE CIMENTO, CAL E AREIA"}]
[{"$f":"'PLANILHA ORÇAMENTÁRIA'!A98","v":"13.1"},{"$f":"'PLANILHA ORÇAMENTÁRIA'!D98","v":"Reboco tipo paulista de argamassa de cimento, cal hidratada CH1 e areia média ou grossa lavada no traço 1:0.5:6, espessura 25 mm"}]
[null,"Duas vezes a área da alvenaria estrutural",{"$nulls":7},{"v":2,"d":"2.00"},{"$nulls":3},{"$f":"P182","v":21.58},null,{"$f":"J463*N463","v":43.16}]
[null,"QUANTIDADE",{"$nulls":13},{"$f":"P463","v":43.16},{"$f":"'PLANILHA ORÇAMENTÁRIA'!E98","v":"m²"},{"$nulls":52},500,"+",{"v":5,"d":"5.00"},505,"+",15.65]
[]
[{"$f":"'PLANILHA ORÇAMENTÁRIA'!A99","v":"13.2"},{"$f":"'PLANILHA ORÇAMENTÁRIA'!D99","v":"Chapisco de argamassa de cimento e areia média ou grossa lavada no traço 1:3, espessura 5mm, com utilização de impermeabilizante"}]
[null,"Duas vezes a área da alvenaria estrutural",{"$nulls":7},{"v":2,"d":"2.00"},{"$nulls":3},{"$f":"P182","v":21.58},null,{"$f":"J467*N467","v":43.16}]
[null,"QUANTIDADE",{"$nulls":13},{"$f":"P467","v":43.16},{"$f":"'PLANILHA ORÇAMENTÁRIA'!E104","v":"m²"},{"$nulls":52},500,"+",{"v":5,"d":"5.00"},505,"+",15.65]
[]
[{"$f":"'PLANILHA ORÇAMENTÁRIA'!A102","v":"14"},{"$f":"'PLANILHA ORÇAMENTÁRIA'!D102","v":"PINTURA"}]
[{"$f":"'PLANILHA ORÇAMENTÁRIA'!A103","v":"14.1"},{"$f":"'PLANILHA ORÇAMENTÁRIA'!D103","v":"Pintura com tinta acrílica, marcas de referência Suvinil, Coral e Metalatex, inclusive selador acrílico, em paredes e forros, a duas demãos"}]
[null,"Praça coreto - rampa lado esquerdo",{"$nulls":7},{"v":2,"d":"2.00"},{"$f":"1.73+3.94+4.12","v":9.79},null,{"$f":"0.8/2","v":{"v":0.4,"d":"0.40"}},{"$f":"K472*M472","v":{"v":3.916,"d":"3.92"}},null,{"$f":"J472*N472","v":{"v":7.832,"d":"7.83"}}]
[null,"Praça coreto - rampa lado direito",{"$nulls":7},{"v":2,"d":"2.00"},{"$f":"1.35+3.92+5.11","v":{"v":10.379999999999999,"d":"10.38"}},null,{"$f":"0.8/2","v":{"v":0.4,"d":"0.40"}},{"$f":"K473*M473","v":{"v":4.152,"d":"4.15"}},null,{"$f":"J473*N473","v":{"v":8.304,"d":"8.30"}}]
[null,"Praça coreto - parte interna rampas",{"$nulls":7},{"v":1,"d":"1.00"},{"$f":"1.54+1.52+10.99+1.39+1.45","v":16.89},null,{"v":0.8,"d":"0.80"},{"$f":"K474*M474","v":{"v":13.512,"d":"13.51"}},null,{"$f":"J474*N474","v":{"v":13.512,"d":"13.51"}}]
[null,"Coreto",{"$nulls":7},{"v":1,"d":"1.00"},{"$f":"2.4+2.47+2.42+2.42+2.18","v":11.89},null,{"v":0.9,"d":"0.90"},{"$f":"K475*M475","v":{"v":10.701,"d":"10.70"}},null,{"$f":"N475","v":{"v":10.701,"d":"10.70"}}]
[{"$nulls":9},{"v":2,"d":"2.00"},{"$f":"2.4+2.47+2.42+2.42+2.18+1.72","v":{"v":13.610000000000001,"d":"13.61"}},null,{"v":1.1,"d":"1.10"},{"$f":"J476*K476*M476","v":{"v":29.942000000000004,"d":"29.94"}},null,{"$f":"N476","v":{"v":29.942000000000004,"d":"29.94"}}]
[{"$nulls":9},{"v":1,"d":"1.00"},{"$nulls":3},15.06,null,{"$f":"N477","v":15.06}]
[{"$nulls":9},{"v":6,"d":"6.00"},{"$f":"0.15+0.15+0.15+0.15","v":{"v":0.6,"d":"0.60"}},null,{"v":1.3,"d":"1.30"},{"$f":"J478*K478*M478","v":4.68},null,{"$f":"N478","v":4.68}]
[{"$nulls":9},{"v":2,"d":"2.00"},{"$nulls":3},0.68,null,{"$f":"J479*N479","v":1.36}]
[null,"QUANTIDADE",{"$nulls":13},{"$f":"SUM(P472:P479)","v":{"v":91.391,"d":"91.39"}},{"$f":"'PLANILHA ORÇAMENTÁRIA'!E103","v":"m²"},{"$nulls":52},500,"+",{"v":5,"d":"5.00"},505,"+",15.65]
[]
[{"$f":"'PLANILHA ORÇAMENTÁRIA'!A104","v":"14.2"},{"$f":"'PLANILHA ORÇAMENTÁRIA'!D104","v":"Pintura sobre pisos, marcas de referência Novacor, Coral ou Suvinil, a duas demãos, Linha Premium"}]
[null,"Escada coreto",{"$nulls":7},{"v":5,"d":"5.00"},2.57,0.25,{"v":0.175,"d":"0.18"},{"$f":"J483*K483*(L483+M483)","v":{"v":5.46125,"d":"5.46"}},null,{"$f":"N483","v":{"v":5.46125,"d":"5.46"}}]
[null,"QUANTIDADE",{"$nulls":13},{"$f":"P483","v":{"v":5.46125,"d":"5.46"}},{"$f":"'PLANILHA ORÇAMENTÁRIA'!E104","v":"m²"},{"$nulls":52},500,"+",{"v":5,"d":"5.00"},505,"+",15.65]
[]
[{"$f":"'PLANILHA ORÇAMENTÁRIA'!A107","v":"15"},{"$f":"'PLANILHA ORÇAMENTÁRIA'!D107","v":"LIMPEZA"}]
[{"$f":"'PLANILHA ORÇAMENTÁRIA'!A108","v":"15.1"},{"$f":"'PLANILHA ORÇAMENTÁRIA'!D108","v":"Limpeza geral de obras (quadras, praças e jardins)"}]
[null,"Praça coreto",{"$nulls":11},{"$f":"380.54+18.2","v":398.74},null,{"$f":"N488","v":398.74}]
[null,"Praça 01",{"$nulls":11},93.83,null,{"$f":"N489","v":93.83}]
[null,"Praça 02",{"$nulls":11},{"v":78.2,"d":"78.20"},null,{"$f":"N490","v":{"v":78.2,"d":"78.20"}}]
[null,"QUANTIDADE",{"$nulls":13},{"$f":"SUM(P488:P490)","v":570.77},{"$f":"'PLANILHA ORÇAMENTÁRIA'!E108","v":"m²"},{"$nulls":52},500,"+",{"v":5,"d":"5.00"},505,"+",15.65]

{"sheet":"CRONOGRAMA","index":2,"n_rows":41,"n_cols":16,"rows_kept":41,"merged":[[4,3,4,10],[5,0,6,0],[5,1,6,2],[5,3,6,3],[5,4,5,11],[7,0,8,0],[7,1,8,1],[9,0,10,0],[9,1,10,1],[11,0,12,0],[11,1,12,1],[13,0,14,0],[13,1,14,1],[15,0,16,0],[15,1,16,1],[17,0,18,0],[17,1,18,1],[19,0,20,0],[19,1,20,1],[21,0,22,0],[21,1,22,1],[23,0,24,0],[23,1,24,1],[25,0,26,0],[25,1,26,1],[27,0,28,0],[27,1,28,1],[29,0,30,0],[29,1,30,1],[31,0,32,0],[31,1,32,1],[33,0,34,0],[33,1,34,1],[35,0,36,0],[35,1,36,1],[37,3,40,3]]}
[null,"PREFEITURA MUNICIPAL DE JOÃO NEIVA"]
[null,"CRONOGRAMA FÍSICO-FINANCEIRO"]
[null,"OBRA: REFORMA DAS PRAÇAS DE CAVALINHO"]
[null,"LOCAL:CAVALINHO - JOÃO NEIVA/ES",{"$nulls":10},"I0= nov/12","I1= jul/13",null,"Reajuste R=1+(I1- I0)/I0"]
[null,"ORÇAMENTISTA: JULIANA MARETO AMBROZIM CREA:ES-18536/D",null,"REVISÃO DO ORÇAMENTO: THAIS BAPTISTA MENELLI CAU/ES A181604-7 / BRUNA PEROVANO SIRTULI CAU/ES A187736-4"]
["ITEM","DESCRIÇÃO",null,"VALORES R$","PERÍODO (MESES)"]
[{"$nulls":4},1,2,3,4,5,6,7,12]
["01","CANTEIRO DE OBRAS","Físico (%) ",{"$f":"D9/D38","v":{"v":0.20709429699144027,"d":"20.71%"}},{"$f":"E9/D9","v":{"v":1,"d":"100.00%"}}]
[null,null,"Financeiro (R$)",{"$f":"'PLANILHA ORÇAMENTÁRIA'!I19","v":{"v":93841.9,"d":"R$ 93,841.90"}},{"$f":"D9","v":{"v":93841.9,"d":"R$ 93,841.90"}},0,0,0,0,0,0,0]
["02","DEMOLIÇÃO E REGULARIZAÇÃO","Físico (%) ",{"$f":"D11/D38","v":{"v":0.08474648311503948,"d":"8.47%"}},null,{"$f":"F11/D11","v":{"v":1,"d":"100.00%"}}]
[null,null,"Financeiro (R$)",{"$f":"'PLANILHA ORÇAMENTÁRIA'!I29","v":{"v":38401.69,"d":"R$ 38,401.69"}},null,{"$f":"D11","v":{"v":38401.69,"d":"R$ 38,401.69"}},0,0,0,0,0,0]
["03","LOCAÇÃO","Físico (%) ",{"$f":"D13/D38","v":{"v":0.018023238890550523,"d":"1.80%"}},null,{"$f":"F13/D13","v":{"v":1,"d":"100.00%"}}]
[null,null,"Financeiro (R$)",{"$f":"'PLANILHA ORÇAMENTÁRIA'!I33","v":{"v":8166.98,"d":"R$ 8,166.98"}},null,{"$f":"D13","v":{"v":8166.98,"d":"R$ 8,166.98"}},0,0,0,0,0,0]
["04","ESCAVAÇÕES","Físico (%) ",{"$f":"D15/D38","v":{"v":0.0041352477574673,"d":"0.41%"}},null,{"$f":"F15/D15","v":{"v":1,"d":"100.00%"}}]
[null,null,"Financeiro (R$)",{"$f":"'PLANILHA ORÇAMENTÁRIA'!I37","v":{"v":1873.83,"d":"R$ 1,873.83"}},null,{"$f":"D15","v":{"v":1873.83,"d":"R$ 1,873.83"}},0,0,0,0,0,0]
["05","REATERRO E COMPACTAÇÃO","Físico (%) ",{"$f":"D17/D38","v":{"v":4.0122604226911179E-4,"d":"0.04%"}},null,null,{"$f":"G17/D17","v":{"v":1,"d":"100.00%"}}]
[null,null,"Financeiro (R$)",{"$f":"'PLANILHA ORÇAMENTÁRIA'!I41","v":{"v":181.81,"d":"R$ 181.81"}},null,null,{"$f":"D17","v":{"v":181.81,"d":"R$ 181.81"}},0,0,0,0,0]
["06","ALVENARIA ESTRUTURAL","Físico (%) ",{"$f":"D19/D38","v":{"v":0.008169355921308323,"d":"0.82%"}},null,null,{"$f":"G19/D19","v":{"v":1,"d":"100.00%"}}]
[null,null,"Financeiro (R$)",{"$f":"'PLANILHA ORÇAMENTÁRIA'!I45","v":{"v":3701.83,"d":"R$ 3,701.83"}},null,null,{"$f":"D19","v":{"v":3701.83,"d":"R$ 3,701.83"}},0,0,0,0,0]
["07","DRENAGEM","Físico (%) ",{"$f":"D21/D38","v":{"v":0.09785863668462165,"d":"9.79%"}},null,null,{"$f":"G21/D21","v":{"v":0.3,"d":"30.00%"}},{"$f":"H21/D21","v":{"v":0.3,"d":"30.00%"}},{"$f":"I21/D21","v":{"v":0.39999999999999997,"d":"40.00%"}}]
[null,null,"Financeiro (R$)",{"$f":"'PLANILHA ORÇAMENTÁRIA'!I54","v":{"v":44343.280000000006,"d":"R$ 44,343.28"}},null,null,{"$f":"D21*0.3","v":{"v":13302.984000000002,"d":"13,302.98"}},{"$f":"D21*0.3","v":{"v":13302.984000000002,"d":"13,302.98"}},{"$f":"D21*0.4","v":{"v":17737.312,"d":"17,737.31"}},0,0,0]
["08","LASTRO DE CONTRAPISO","Físico (%) ",{"$f":"D23/D38","v":{"v":3.5737608099147443E-3,"d":"0.36%"}},null,null,{"$f":"G23/D23","v":{"v":1,"d":"100.00%"}}]
[null,null,"Financeiro (R$)",{"$f":"'PLANILHA ORÇAMENTÁRIA'!I58","v":{"v":1619.4,"d":"R$ 1,619.40"}},null,null,{"$f":"D23","v":{"v":1619.4,"d":"R$ 1,619.40"}},{"$nulls":4},0]
["09","PAVIMENTAÇÃO","Físico (%) ",{"$f":"D25/D38","v":{"v":0.2033334180025255,"d":"20.33%"}},{"$nulls":3},{"$f":"H25/D25","v":{"v":0.25,"d":"25.00%"}},{"$f":"I25/D25","v":{"v":0.25,"d":"25.00%"}},{"$f":"J25/D25","v":{"v":0.5,"d":"50.00%"}}]
[null,null,"Financeiro (R$)",{"$f":"'PLANILHA ORÇAMENTÁRIA'!I67","v":{"v":92137.70999999999,"d":"R$ 92,137.71"}},{"$nulls":3},{"$f":"D25*0.25","v":{"v":23034.427499999998,"d":"23,034.43"}},{"$f":"D25*0.25","v":{"v":23034.427499999998,"d":"23,034.43"}},{"$f":"D25*0.5","v":{"v":46068.854999999996,"d":"46,068.86"}},null,0]
["10","EQUIPAMENTOS","Físico (%) ",{"$f":"D27/D38","v":{"v":0.05993011944822141,"d":"5.99%"}},{"$nulls":6},{"$f":"K27/D27","v":{"v":1,"d":"100.00%"}},{"v":0.25,"d":"25.00%"}]
[null,null,"Financeiro (R$)",{"$f":"'PLANILHA ORÇAMENTÁRIA'!I74","v":{"v":27156.5,"d":"R$ 27,156.50"}},{"$nulls":6},{"$f":"D27","v":{"v":27156.5,"d":"R$ 27,156.50"}},{"v":2091.4125,"d":"2,091.41"}]
["11","PAISAGISMO","Físico (%) ",{"$f":"D29/D38","v":{"v":0.01821543280739347,"d":"1.82%"}},{"$nulls":6},{"$f":"K29/D29","v":{"v":1,"d":"100.00%"}},{"v":0.5,"d":"50.00%"}]
[null,null,"Financeiro (R$)",{"$f":"'PLANILHA ORÇAMENTÁRIA'!I82","v":{"v":8254.07,"d":"R$ 8,254.07"}},{"$nulls":6},{"$f":"D29","v":{"v":8254.07,"d":"R$ 8,254.07"}},{"v":2409.89,"d":"2,409.89"}]
["12","INSTALAÇÕES ELÉTRICAS","Físico (%) ",{"$f":"D31/D38","v":{"v":0.2786686224882243,"d":"27.87%"}},null,null,{"$f":"G31/D31","v":{"v":0.25,"d":"25.00%"}},{"$f":"H31/D31","v":{"v":0.25,"d":"25.00%"}},{"$f":"I31/D31","v":{"v":0.25,"d":"25.00%"}},{"$f":"J31/D31","v":{"v":0.25,"d":"25.00%"}},null,{"v":0.1,"d":"10.00%"}]
[null,null,"Financeiro (R$)",{"$f":"'PLANILHA ORÇAMENTÁRIA'!I95","v":{"v":126274.81000000001,"d":"R$ 126,274.81"}},null,null,{"$f":"D31*0.25","v":{"v":31568.702500000003,"d":"31,568.70"}},{"$f":"D31*0.25","v":{"v":31568.702500000003,"d":"31,568.70"}},{"$f":"D31*0.25","v":{"v":31568.702500000003,"d":"31,568.70"}},{"$f":"D31*0.25","v":{"v":31568.702500000003,"d":"31,568.70"}},null,{"v":2916.4790000000007,"d":"2,916.48"}]
["13","REVESTIMENTO EMPREGANDO ARGAMASSA DE CIMENTO, CAL E AREIA","Físico (%) ",{"$f":"D33/D38","v":{"v":0.008056983499151437,"d":"0.81%"}},null,null,{"$f":"G33/D33","v":{"v":1,"d":"100.00%"}},{"$nulls":4},{"v":1,"d":"100.00%"}]
[null,null,"Financeiro (R$)",{"$f":"'PLANILHA ORÇAMENTÁRIA'!I100","v":{"v":3650.91,"d":"R$ 3,650.91"}},null,0,{"$f":"D33","v":{"v":3650.91,"d":"R$ 3,650.91"}},0,0,0,0,443.24]
["14","PINTURA","Físico (%) ",{"$f":"D35/D38","v":{"v":0.00590376723248859,"d":"0.59%"}},{"$nulls":6},{"$f":"K35/D35","v":{"v":1,"d":"100.00%"}},{"v":1,"d":"100.00%"}]
[null,null,"Financeiro (R$)",{"$f":"'PLANILHA ORÇAMENTÁRIA'!I105","v":{"v":2675.21,"d":"R$ 2,675.21"}},null,0,0,0,0,0,{"$f":"D35","v":{"v":2675.21,"d":"R$ 2,675.21"}},443.24]
["15","LIMPEZA","Físico (%) ",{"$f":"D37/D38","v":{"v":1.8894103093840973E-3,"d":"0.19%"}},{"$nulls":6},{"$f":"K37/D37","v":{"v":1,"d":"100.00%"}},{"v":1,"d":"100.00%"}]
[null,null,"Financeiro (R$)",{"$f":"'PLANILHA ORÇAMENTÁRIA'!I109","v":{"v":856.16,"d":"R$ 856.16"}},null,0,0,0,0,0,{"$f":"D37","v":{"v":856.16,"d":"R$ 856.16"}},443.24]
[null,"Total Parcial (%)",null,{"$f":"D9+D11+D13+D15+D17+D19+D21+D23+D25+D27+D29+D31+D33+D35+D37","v":{"v":453136.0899999999,"d":"R$ 453,136.09"}},{"$f":"E40/$D$38","v":{"v":0.20709429699144027,"d":"20.71%"}},{"$f":"F40/$D$38","v":{"v":0.1069049697630573,"d":"10.69%"}},{"$f":"G40/$D$38","v":{"v":0.11922607290008619,"d":"11.92%"}},{"v":0.14985810112807393,"d":"14.99%"},{"v":0.1596439647965361,"d":"15.96%"},{"v":0.17133386462331882,"d":"17.13%"},{"v":0.08593872979748757,"d":"8.59%"},{"v":0.0397373726262975,"d":"3.97%"}]
[null,"Total Acumulado (%)",null,null,{"$f":"E41/$D$38","v":{"v":0.20709429699144027,"d":"20.71%"}},{"$f":"E39+F38","v":{"v":0.3139992667544976,"d":"31.40%"}},{"$f":"F39+G38","v":{"v":0.43322533965458376,"d":"43.32%"}},{"v":0.5830834407826577,"d":"58.31%"},{"v":0.7427274055791938,"d":"74.27%"},{"v":0.9140612702025126,"d":"91.41%"},{"v":1.0000000000000002,"d":"100.00%"},{"v":0.2101687688762746,"d":"21.02%"}]
[null,"Total Financeiro (R$)",null,null,{"$f":"E9+E11+E13+E15+E17+E19+E21+E23+E25+E27+E29+E31+E33+E35+E37","v":{"v":93841.9,"d":"R$ 93,841.90"}},{"$f":"F9+F11+F13+F15+F17+F19+F21+F23+F25+F27+F29+F31+F33+F35+F37","v":{"v":48442.5,"d":"R$ 48,442.50"}},{"v":54025.63650000001,"d":"R$ 54,025.64"},{"v":67906.114,"d":"R$ 67,906.11"},{"v":72340.442,"d":"R$ 72,340.44"},{"$f":"J9+J11+J13+J15+J17+J19+J21+J23+J25+J27+J29+J31+J33+J35+J37","v":{"v":77637.5575,"d":"R$ 77,637.56"}},{"$f":"K9+K11+K13+K15+K17+K19+K21+K23+K25+K27+K29+K31+K33+K35+K37","v":{"v":38941.94,"d":"R$ 38,941.94"}},{"v":7861.021500000001,"d":"7,861.02"}]
[null,"Total Acumulado (R$)",null,null,{"$f":"E40","v":{"v":93841.9,"d":"R$ 93,841.90"}},{"$f":"E41+F40","v":{"v":142284.4,"d":"R$ 142,284.40"}},{"$f":"F41+G40","v":{"v":196310.0365,"d":"R$ 196,310.04"}},{"v":264216.1505,"d":"R$ 264,216.15"},{"v":336556.59249999997,"d":"R$ 336,556.59"},{"v":414194.14999999997,"d":"R$ 414,194.15"},{"v":453136.08999999997,"d":"R$ 453,136.09"},{"v":197824.39,"d":"197,824.39"}]

{"sheet":"COTAÇÕES ","index":3,"n_rows":18,"n_cols":22,"rows_kept":18,"merged":[[0,0,4,0],[0,1,0,21],[1,1,1,21],[2,1,2,21],[3,1,3,21],[4,1,4,21],[5,0,6,0],[5,1,6,1],[5,2,6,2],[5,3,6,3],[5,4,6,4],[5,5,6,5],[5,6,6,6],[5,7,6,7],[5,8,6,8],[5,9,6,9],[5,10,6,10],[5,11,6,11],[5,12,6,12],[5,13,6,13],[5,14,6,14],[5,15,6,15],[5,16,6,16],[5,17,6,17],[5,18,6,18],[5,19,6,19],[5,20,6,20],[5,21,6,21]]}
[null,"PREFEITURA MUNICIPAL DE JOÃO NEIVA"]
[null,"COTAÇÕES"]
[null,"OBRA: REFORMA DAS PRAÇAS DE CAVALINHO"]
[null,"LOCAL: JOÃO NEIVA-ES"]
[null,"REVISÃO DO ORÇAMENTO: THAIS BAPTISTA MENELLI CAU/ES A181604-7 / BRUNA PEROVANO SIRTULI CAU/ES A187736-4"]
["NÚMERO","ITEM PLANILHA","DESCRIÇÃO","FORNECEDOR 1","CONTATO","PREÇO","FRETE","DATA ","FORNECEDOR 2","CONTATO","PREÇO","FRETE","DATA","FORNECEDOR 3","CONTATO","PREÇO","FRETE","DATA","MÉDIA DOS \nPREÇOS","MÉDIA DOS \nFRETES","PREÇO","OBSERVAÇÕES"]
[]
["01",{"$f":"'PLANILHA ORÇAMENTÁRIA'!A71","v":"10.2"},"Lixeira seletiva 50 litros verde","Proposto","https://www.proposto.com.br/42702-lixeira-coleta-seletiva-50-litros-plstico-vermelho-p10920?utm_source=google&utm_medium=cpc&utm_campaign=lojavirtual&pp=/44.769&gclid=Cj0KCQiAtICdBhCLARIsALUBFcGdjKmGTWKn4tZ6ViVanqUOatBdyixHk7lJBocyI-f3FUXrnF8Hiw4aAtrBEALw_wcB",{"v":170.81,"d":"R$ 170.81"},{"v":152.8,"d":"R$ 152.80"},"2023-04-13","Americanas","https://www.americanas.com.br/produto/5159860272?pfm_carac=aproveite%20e%20veja%20tamb%C3%A9m&pfm_index=2&pfm_page=product&pfm_pos=item_page.rr1&pfm_type=vit_recommendation&DCSext.recom=RR_item_page.rr1-mars_MarsClickCP%3AP%3A15%3A%3Aads%3Dtrue%3AorderAdsTest%3Dmotor_high_ads&nm_origem=rec_item_page.rr1-mars_MarsClickCP%3AP%3A15%3A%3Aads%3Dtrue%3AorderAdsTest%3Dmotor_high_ads&nm_ranking_rec=2&offerId=628e3269234ca7e6fda3956f&cor=Verde&tamanho=Grande&condition=NEW",{"v":297.08,"d":"R$ 297.08"},{"v":0,"d":"R$ 0.00"},"2023-04-13","Madeira Madeira","https://www.madeiramadeira.com.br/lixeira-individual-para-coleta-seletiva-papeleira-50-litros-4607733.html?origem=pla-4607733&utm_source=google&utm_medium=cpc&utm_content=lixeiras-de-calcada-4678&utm_term=&utm_id=17817035511&gclid=Cj0KCQiAtICdBhCLARIsALUBFcFPzZxEyrAwbuIKnAcpKSUx2f_GgXqZPofY1hGida7GtXDppEwahBsaAuA3EALw_wcB",{"v":191.14,"d":"R$ 191.14"},{"v":187.33,"d":"R$ 187.33"},"2023-04-13",{"$f":"(F8+K8+P8)/3","v":{"v":219.67666666666665,"d":"R$ 219.68"}},{"$f":"(G8+L8+Q8)/3","v":{"v":113.37666666666667,"d":"R$ 113.38"}},{"$f":"S8+T8/3","v":{"v":257.46888888888884,"d":"R$ 257.47"}},"O frete foi dividido pela quantidade total do orçamento"]
["02",{"$f":"'PLANILHA ORÇAMENTÁRIA'!A78","v":"11.2"},"Vedélia (muda)","Horto Express","https://www.hortoexpress.com.br/vedelia-caixa-com-15-unidades",{"$f":"39.9/15","v":{"v":2.6599999999999997,"d":"R$ 2.66"}},{"v":0,"d":"R$ 0.00"},"2023-04-13","Vivo Plantas","https://vivoplantas.com.br/produto/vedelia/",{"$f":"37.5/15","v":{"v":2.5,"d":"R$ 2.50"}},{"v":0,"d":"R$ 0.00"},"2023-04-13","Tirol Plantas","https://tirolplantas.com/product/sphagneticola-trilobata-vedelia-caixa-com-15-mudas/",{"$f":"42.9/15","v":{"v":2.86,"d":"R$ 2.86"}},{"v":0,"d":"R$ 0.00"},"2023-04-13",{"v":2.6733333333333333,"d":"R$ 2.67"},{"v":0,"d":"R$ 0.00"},{"$f":"S9+T9","v":{"v":2.6733333333333333,"d":"R$ 2.67"}},"Não foi considerado frete"]
["03",{"$f":"'PLANILHA ORÇAMENTÁRIA'!A79","v":"11.3"},"Clúsia fluminenses (muda)","AMK \nJardinagem e paisagismo","https://www.lojaamk.com.br/muda-de-clusia-pronta-para-plantio-10-cm-a-40-cm?parceiro=8023",{"v":20.5,"d":"R$ 20.50"},{"v":0,"d":"R$ 0.00"},"2023-04-13","Floralondrina","https://www.floralondrina.com.br/muda-de-clusia-clusia-fluminensis/",{"v":22.9,"d":"R$ 22.90"},{"v":0,"d":"R$ 0.00"},"2023-04-13","Garden Citrus","https://www.gardencitrus.com.br/muda-de-clusia-verde?utm_source=google&utm_medium=Shopping&utm_campaign=muda-de-clusia-verde&inStock",{"v":39.99,"d":"R$ 39.99"},{"v":0,"d":"R$ 0.00"},"2023-04-13",{"v":27.796666666666667,"d":"R$ 27.80"},{"v":0,"d":"R$ 0.00"},{"$f":"S10+T10","v":{"v":27.796666666666667,"d":"R$ 27.80"}},"Não foi considerado frete"]
["04",{"$f":"'PLANILHA ORÇAMENTÁRIA'!A80","v":"11.4"},"Ixora Coral (muda)","Orquidário 4 Estações","https://www.orquidario4e.com.br/ixora-vermelha?srsltid=AYJSbAeXPPT2UQ0XXMR06RB0HnnwwvKxxOM7rxLCkq1ioBfoD_fSaPYTxHg",{"v":9.9,"d":"R$ 9.90"},{"v":0,"d":"R$ 0.00"},"2023-04-13","Magalu","https://www.magazineluiza.com.br/mudas-de-ixora-com-15cm-a-20cm-cerca-viva-florida-vermelha-davanssi-produtos-naturais/p/gh1682744f/de/fpta/?&seller_id=bellamocashop",{"v":16.8,"d":"R$ 16.80"},{"v":0,"d":"R$ 0.00"},"2023-04-13","Jardeen","https://jardeen.com.br/muda-de-ixora.html",{"v":16,"d":"R$ 16.00"},{"v":0,"d":"R$ 0.00"},"2023-04-13",{"v":14.233333333333334,"d":"R$ 14.23"},{"v":0,"d":"R$ 0.00"},{"$f":"S11+T11","v":{"v":14.233333333333334,"d":"R$ 14.23"}},"Não foi considerado frete"]
["05",{"$f":"'PLANILHA ORÇAMENTÁRIA'!A81","v":"11.5"},"Pingo de ouro (muda)","Magalu","https://www.magazineluiza.com.br/pingo-de-ouro-mastogarden/p/kkbfajeh9h/md/bric/?seller_id=mastodonte",{"v":5,"d":"R$ 5.00"},{"v":0,"d":"R$ 0.00"},"2023-04-13","Plantei","https://www.plantei.com.br/muda-de-pingo-de-ouro?parceiro=3092",{"v":4.9,"d":"R$ 4.90"},{"v":0,"d":"R$ 0.00"},"2023-04-13","Garden Arts","https://www.gardenarts.com.br/pingo-de-ouro-10-mudas-no-saquinho",{"$f":"28/10","v":{"v":2.8,"d":"R$ 2.80"}},{"v":0,"d":"R$ 0.00"},"2023-04-13",{"v":4.233333333333333,"d":"R$ 4.23"},{"v":0,"d":"R$ 0.00"},{"$f":"S12+T12","v":{"v":4.233333333333333,"d":"R$ 4.23"}},"Não foi considerado frete"]
[]
[]
[]
[]
[]
[{"$nulls":14}," "]

{"sheet":"BDI","index":4,"n_rows":69,"n_cols":8,"rows_kept":69,"merged":[[1,2,1,9],[2,2,2,4],[2,7,2,9],[3,2,3,4],[3,7,4,9],[4,2,4,4],[5,2,6,6],[5,7,6,9],[11,2,11,3],[14,2,14,3],[16,2,16,3],[17,2,17,3],[18,2,18,3],[19,2,19,3],[20,2,20,3],[21,2,21,3],[24,2,24,3],[27,2,27,3],[28,2,28,3],[30,2,30,3],[31,2,31,3],[33,2,33,3],[39,2,39,5],[40,2,40,5],[47,1,47,9],[48,1,48,9],[49,1,49,9],[50,2,50,5],[52,2,52,5],[53,2,53,8],[57,2,57,5],[58,2,58,8],[59,2,59,5],[60,2,60,8],[62,2,62,5],[63,2,63,8],[64,2,64,5],[65,2,65,8],[66,2,66,8],[67,2,67,8],[68,2,68,8],[69,2,69,8]]}
[]
[null,null,"PREFEITURA MUNICIPAL DE JOÃO NEIVA"]
[null,null,"COMPOSIÇÃO BDI",{"$nulls":4},"TABELAS DE REFERÊNCIA:"]
[null,null,"OBRA:REFORMA DAS PRAÇAS DE CAVALINHO",null,null,"L. SOCIAIS:",{"v":1.5727,"d":"157.27%"},"DER-ES EDIFICAÇÕES - FEV/2023"]
[null,null,"LOCAL: JOÃO NEIVA-ES",null,null,"BDI:",{"v":0.3471,"d":"34.71%"}]
[null,null,"REVISÃO DO ORÇAMENTO: THAIS BAPTISTA MENELLI CAU/ES A181604-7 /  \nBRUNA PEROVANO SIRTULI CAU/ES A187736-4",{"$nulls":4},"DER-ES RODOVIAS SEM DESONERAÇÃO - JUL/2022"]
[]
[]
[{"$nulls":4},"Para Serviços"]
[null,null,"GRUPO A"]
[null,null,"Administração Central",null,{"v":0.0406,"d":"4.06%"}]
[null,null,"Total Grupo A",null,{"$f":"E11","v":{"v":0.0406,"d":"4.06%"}}]
[null,null,"GRUPO B"]
[null,null,"Administração Local",null,{"v":0.0819,"d":"8.19%"}]
[null,null,"Total Grupo B",null,{"$f":"E14","v":{"v":0.0819,"d":"8.19%"}}]
[null,null,"GRUPO C"]
[null,null,"Impostos/Tributos"]
[null,null,"ISS",null,{"v":0.05,"d":"5.00%"}]
[null,null,"PIS",null,{"v":0.0065,"d":"0.65%"}]
[null,null,"COFINS",null,{"v":0.03,"d":"3.00%"}]
[null,null,"CPRB",null,{"v":0,"d":"0.00%"}]
[null,null,"Total Grupo C",null,{"$f":"SUM(E18:E21)","v":{"v":0.0865,"d":"8.65%"}}]
[null,null,"GRUPO D"]
[null,null,"Custos Financeiros",null,{"v":0.0061,"d":"0.61%"}]
[null,null,"Total Grupo D",null,{"$f":"E24","v":{"v":0.0061,"d":"0.61%"}}]
[null,null,"GRUPO E"]
[null,null,"Seguros / Garantia",null,{"v":0.005,"d":"0.50%"}]
[null,null,"Riscos",null,{"v":0.005,"d":"0.50%"}]
[null,null,"Total Grupo E",null,{"$f":"SUM(E27:E28)","v":{"v":0.01,"d":"1.00%"}}]
[null,null,"GRUPO F"]
[null,null,"Lucro",null,{"v":0.08,"d":"8.00%"}]
[null,null,"Total Grupo F",null,{"$f":"E31","v":{"v":0.08,"d":"8.00%"}}]
[]
[null,null,"BDI Total",null,{"$f":"(((1+E25)*(1+E12+E15+E29)*(1+E32)/(1-E22))-1)","v":{"v":0.3470836453201973,"d":"34.71%"}}]
[]
[null,"OBS:"]
[]
[null,"1","- A fórmula para cálculo da taxa a ser acrescida aos custos diretos de um"]
[null,null,"empreendimento a título de Benefícios e Despesas Indiretas é:"]
[null,null,"BDI = {(1 + D)*(1 + A+B+E)*(1 + F)}  -1, onde:"]
[null,null,"(1 – C)"]
[null,null,"A = ADMINISTRAÇÃO CENTRAL;"]
[null,null,"B = ADMINISTRAÇÃO LOCAL;"]
[null,null,"C = ISS + PIS + COFINS+INSS;"]
[null,null,"D = CUSTOS FINANCEIROS;"]
[null,null,"E = RISCOS, SEGUROS E GARANTIAS;"]
[null,null,"F = BENEFÍCIO/LUCRO;"]
[null,"JUSTIFICATIVA MODIFICAÇÃO DOS PERCENTUAIS:"]
[null,"ADMINISTRAÇÃO LOCAL: FOI CONSIDERADO PERCENTUAL INFERIOR AO DA TABELA DE TAXA DE BDI PADRÃO APLICÁVEL, CONFORME RESOLUÇÃO Nº329, DE 24 DE SETEMBRO DE 2019, VISANDO NÃO ULTRAPASSAR O PERCENTUAL DO BDI TOTAL, CONSIDERANDO QUE HOUVE A NECESSIDADE DE AUMENTO DO ISSQN, DE ACORDO COM A LEI MUNICIPAL N° 3.203, DE 27 DE SETEMBRO DE 2019"]
[null,"ISSQN: FOI CONSIDERADO PERCENTUAL SUPERIOR AO DA TABELA DE TAXA DE BDI PADRÃO APLICÁVEL, CONFORME RESOLUÇÃO Nº329, DE 24 DE SETEMBRO DE 2019, CONSIDERANDO QUE HOUVE A NECESSIDADE DE AUMENTO DO ISSQN, DE ACORDO COM A LEI MUNICIPAL N° 3.203, DE 27 DE SETEMBRO DE 2019."]
[null,"2","- Discriminação do BDI"]
[]
[null,null,"A – Despesas financeiras: "]
[null,null,"são aquelas decorrentes do custo do capital de giro para fazer frente às despesas realizadas antes do efetivo recebimento das devidas receitas. Foi apropriada por estimativa com base na média proposta no ACÓRDÃO Nº 2.622/2013, PLENÁRIO de 25 set.2013."]
[]
[]
[]
[null,null,"B – Administração Central: "]
[null,null,"são as despesas relativas à manutenção de parcela do custo do escritório central da empresa, tais como: instalações do imóvel/sede (custo de propriedade ou de locação de imóveis); aquisição e manutenção dos equipamentos da sede (computadores, ar condicionado, veículos e correlatos); despesas administrativas (secretária, vigilante, auxiliar de escritório, contínuo, assessorias tercerizadas - ex. contadoria); despesas com consumo (água, luz, telefone, material para escritório, material para limpeza, alimentos, etc). Foi apropriada por estimativa com base na média proposta noACÓRDÃO Nº 2.622/2013, PLENÁRIO de 25 set.2013."]
[null,null," C – Benefício/Lucro: "]
[null,null,"é a parcela que contempla a remuneração do construtor, definidos com base em valor percentual sobre o total dos custos diretos e despesas indiretas, excluídas aquelas referentes às parcelas tributárias. A taxa adotada como benefício deve ser entendida como uma provisão de onde será retirado o lucro do construtor, após desconto de todos os encargos decorrentes de inúmeras incertezas que podem ocorrer durante as obras, difíceis de serem mensuradas no seu conjunto com base no ACÓRDÃO Nº 2.622/2013, PLENÁRIO de 25 set.2013."]
[]
[null,null,"D – Riscos Imprevistos, Garantias e Seguros: "]
[null,null,"valores para cobertura de despesas imprevisíveis e os seguros e garantias estabelecidos no Projeto Básico e orientação contante no ACÓRDÃO Nº 2.622/2013, PLENÁRIO de 25 set.2013."]
[null,null,"E – Valores Relativos aos Tributos:                                                                                                   "]
[null,null," – Impostos sobre serviços de qualquer natureza – ISS, é imposto de competência municipal, consoante art. 156, inciso III, da Constituição Federal. Alíquota de 4% sobre o valor total da nota fiscal.(Os 4% consideram a redução de 20% da base de cálculo, conforme previsto no art. 9 do Decreto 13314/2007 e Lei Municipal 6075/2003)."]
[null,null," – Contribuição para o Programa de Integração Social – PIS. A taxa do PIS, definida pelos Decretos-Lei nº 2.445 e 2.449/88, é de 0,65% sobre a receita operacional bruta."]
[null,null," – Contribuição para o Programa de Financiamento da Seguridade Social – COFINS, definida pela Lei 9.718/98, é de 3%, sobre a receita operacional bruta."]
[null,null," – Contribuição Patronal sobre a Receita Bruta, definida pela Lei 13.161, de 31 de agosto de 2015, é de 4,5%, sobre a receita operacional bruta."]

{"sheet":"LS","index":5,"n_rows":50,"n_cols":5,"rows_kept":50,"merged":[[1,1,4,1],[1,2,1,4],[2,2,2,4],[3,2,3,4],[4,2,4,4],[5,1,5,4],[6,1,6,3],[16,1,16,3],[17,1,17,2],[29,1,29,3],[30,1,30,2],[38,1,38,3],[39,1,39,2],[42,1,42,3],[43,1,43,2],[48,1,48,2],[49,1,49,3]]}
[]
[null,null,"PREFEITURA MUNICIPAL DE JOÃO NEIVA"]
[null,null,"COMPOSIÇÃO LEIS SOCIAIS"]
[null,null,"OBRA: REFORMA DAS PRAÇAS DE CAVALINHO"]
[null,null,"LOCAL: JOÃO NEIVA-ES"]
[]
[null,"GRUPO A - Encargos Sociais Básicos",null,null,"% IOPES"]
[null,"A.1","INSS (Art. 22 da Lei 8.212/91)",null,{"v":0.2,"d":"20.00%"}]
[null,"A.2","FGTS (Art. 27 do Decreto 99.684/90)",null,{"v":0.08,"d":"8.00%"}]
[null,"A.3","SESI/SESC (Lei 8.029/90 e Lei 8.036/90)",null,{"v":0.018,"d":"1.80%"}]
[null,"A.4","SENAI/SENAC (Lei 8.029/90 e Decreto-Lei 6246/44)",null,{"v":0.013,"d":"1.30%"}]
[null,"A.5","SEBRAE (já considerado no item A.3 e A.4)",null,"-"]
[null,"A.6","INCRA (Lei 2.613/55 e Decreto 1.146/70)",null,{"v":2E-3,"d":"0.20%"}]
[null,"A.7","SALÁRIO-EDUCAÇÃO (Decreto 87.043/82)",null,{"v":0.025,"d":"2.50%"}]
[null,"A.8","SEGURO ACIDENTE DO TRABALHO (Lei 8.212/91 e Decreto 3.048/99)",null,{"v":0.03,"d":"3.00%"}]
[null,"A.9","SECONCI/Medicina do Trabalho",null,{"v":0.01,"d":"1.00%"}]
[null,"TOTAL GRUPO A",null,null,{"$f":"SUM(E8:E16)","v":{"v":0.3780000000000001,"d":"37.80%"}}]
[null,"GRUPO B - Encargos Sociais que recebem a incidência do grupo A",null,null,"% IOPES"]
[null,"B.1","Descanso Semanal Remunerado (Art. 66 da CLT e Art. 7º da CF/88)",null,{"v":0.1752,"d":"17.52%"}]
[null,"B.2","Feriados (Art. 70 da CLT e Lei 605/49)",null,{"v":0.0391,"d":"3.91%"}]
[null,"B.3","Auxílio doença e acidente do trabalho (Lei 3.607/60 e Art. 131 da CLT)",null,{"v":7.6E-3,"d":"0.76%"}]
[null,"B.4","Licença Paternidade (Art. 7º da CF/88)",null,{"v":0.0011,"d":"0.11%"}]
[null,"B.5","Faltas Legais (Art. 473 da CLT)",null,{"v":0.0067,"d":"0.67%"}]
[null,"B.6","13º Salário (Lei nº 4090/62)",null,{"v":0.1011,"d":"10.11%"}]
[null,"B.7","Aviso Prévio Trabalhado (Art. 7º, inciso XXI da CF/88)",null,{"v":0.0034,"d":"0.34%"}]
[null,"B.8","Dias de Chuvas",null,"-"]
[null,"B.9","Férias Gozadas",null,"-"]
[null,"B.10","Salário Maternidade",null,"-"]
[null,"B.11","Auxílio - Enfermidade",null,"-"]
[null,"TOTAL GRUPO B",null,null,{"$f":"SUM(E19:E29)","v":{"v":0.3342,"d":"33.42%"}}]
[null,"GRUPO C - Encargos Sociais que não recebem a incidência do grupo A",null,null,"% IOPES"]
[null,"C.1","Dispensa sem justa causa (LC 110/01)",null,{"v":0.0534,"d":"5.34%"}]
[null,"C.2","Férias indenizadas (Art. 129 a 148 da CLT)",null,{"v":0.112,"d":"11.20%"}]
[null,"C.3","Aviso prévio indenizado (Art. 7º, inciso XXI da CF/88)",null,{"v":0.1129,"d":"11.29%"}]
[null,"C.4","FGTS sobre aviso prévio indenizado (Súmula 305 TST)",null,{"v":0.009,"d":"0.90%"}]
[null,"C.5","INSS sobre aviso prévio indenizado (Decreto 6.727/09)",null,{"v":0.0226,"d":"2.26%"}]
[null,"C.6","Aviso prévio trabalhado",null,"-"]
[null,"C.7","Indenização Adicional",null,"-"]
[null,"TOTAL GRUPO C",null,null,{"$f":"SUM(E32:E38)","v":{"v":0.3099,"d":"30.99%"}}]
[null,"GRUPO D - Reincidência dos encargos sociais básicos",null,null,"% IOPES"]
[null,"D.1","Incidência do grupo A sobre o grupo B",null,{"$f":"E17*E30","v":{"v":0.12632760000000004,"d":"12.63%"}}]
[null,"D.2","Reincidência de Grupo A sobre Aviso Prévio Trabalho e Reincidência\ndo FGTS sobre Aviso Prévio Indenizado",null,"-"]
[null,"TOTAL GRUPO D",null,null,{"$f":"SUM(E41:E42)","v":{"v":0.12632760000000004,"d":"12.63%"}}]
[null,"GRUPO E - Encargos complementares",null,null,"% IOPES"]
[null,"E.1","Refeição/alimentação (Convenção Coletiva do Trabalho 2012/2013)",null,{"v":0.2575,"d":"25.75%"}]
[null,"E.2","Vale Transporte (Lei nº 7418/85 e Decreto 95.247/87)",null,{"v":0.0603,"d":"6.03%"}]
[null,"E.3","Uniforme/equipamento de segurança (Art. 166 da CLT e NR-18 da Lei nº 6.514/77 e\nConvenção Coletiva do Trabalho 2012/2013)",null,{"v":0.0267,"d":"2.67%"}]
[null,"E.4","Plano de Saúde (Convenção Coletiva do Trabalho 2012/2013",null,{"v":0.0798,"d":"7.98%"}]
[null,"TOTAL GRUPO E",null,null,{"v":0.4243,"d":"42.43%"}]
[null,"TOTAL DOS GRUPO (A+B+C+D+E)",null,null,{"$f":"E49+E39+E30+E17+E43","v":{"v":1.5727276000000001,"d":"157.27%"}}]

{"sheet":"DRE-01","index":6,"n_rows":35,"n_cols":9,"rows_kept":35,"merged":[[0,1,3,7],[0,8,1,8],[0,10,3,17],[0,18,1,18],[4,1,4,8],[4,10,5,17],[4,18,5,18],[5,1,5,8],[6,10,6,18],[7,10,7,18],[8,12,8,14],[9,0,9,8],[9,12,9,13],[10,2,10,4],[10,12,10,13],[11,2,11,4],[11,12,11,14],[12,0,12,7],[12,10,12,17],[14,0,14,8],[15,2,15,4],[15,10,15,18],[16,12,16,14],[17,2,17,4],[17,12,17,14],[18,2,18,4],[18,10,18,17],[19,2,19,4],[19,10,19,18],[20,2,20,4],[20,10,20,18],[21,2,21,4],[21,10,21,17],[22,2,22,4],[22,10,22,17],[23,0,23,7],[24,0,24,8],[25,0,25,8],[26,2,26,4],[26,10,26,18],[27,12,27,14],[28,0,28,7],[30,0,30,8],[31,0,31,7],[32,0,32,7],[33,0,33,7],[34,0,34,7]]}
[null,"COMPOSIÇÃO ANALÍTICA DE PREÇO UNITÁRIO",{"$nulls":6},"Data-base"]
[]
[{"$nulls":8},"JUL/22 e FEV/23"]
[{"$nulls":8},"DRE-01"]
["SERVIÇO:","Trincheira drenante em concreto armado, incluíndo grelhas FOFO, escavação e reaterro"]
["UND: ","m"]
["ORÇAMENTISTA: JULIANA MARETO AMBROZIM CREA: ES- 18536/D"]
["REVISÃO DO ORÇAMENTO: THAIS BAPTISTA MENELLI CAU/ES A181604-7 / BRUNA PEROVANO SIRTULI CAU/ES A187736-4"]
[]
["MÃO-DE-OBRA"]
["CÓD.","ORGÃO","DESCRIÇÃO",null,null,"UND","COEF","R$ UNIT.","R$ PARCIAL"]
[]
["TOTAL A",{"$nulls":7},0]
[]
["MATERIAIS/ SERVIÇOS"]
["CÓD.","ORGÃO","DESCRIÇÃO",null,null,"UND","COEF","R$ UNIT.","R$ PARCIAL"]
[42992,"DER-ES (Rodovias)","Formas planas de madeira com 02 (dois) reaproveitamentos, em Vias Urbanas",null,null,"m²",3.68,{"v":105.26,"d":"R$ 105.26"},{"$f":"TRUNC(ROUND(G17*H17,2),2)","v":{"v":387.36,"d":"R$ 387.36"}}]
[40376,"DER-ES (Rodovias)","Aço CA-50, fornecimento, dobragem e colocação nas formas em Vias Urbanas","Tubo de Concreto D=0.40M-Armado CA-2","Tubo de Concreto D=0.40M-Armado CA-2","kg",10.93,{"v":16.78,"d":"R$ 16.78"},{"v":183.41,"d":"R$ 183.41"}]
[42720,"DER-ES (Rodovias)","Concreto estrutural fck -> 30,0 MPa em Vias Urbanas",null,null,"m³",{"v":0.4,"d":"0.40"},{"v":734.92,"d":"R$ 734.92"},{"v":293.97,"d":"R$ 293.97"}]
[10782,"DER-ES (Rodovias)","Grelha articulada, inclusive caixilho em ferro fundido",null,null,"ud",{"v":1,"d":"1.00"},{"v":515.88,"d":"R$ 515.88"},{"v":515.88,"d":"R$ 515.88"}]
[42960,"DER-ES (Rodovias)","Escavação mecânica em material de 1ª cat. H-> 0,00 a 1,50 m, em Vias Urbanas",null,null,"m³",1.08,{"v":20.25,"d":"R$ 20.25"},{"v":21.87,"d":"R$ 21.87"}]
[43059,"DER-ES (Rodovias)","Reaterro de cavas c/ compactação mecânica (compactador manual), em Vias Urbanas",null,null,"m³",{"v":0.4,"d":"0.40"},{"v":46.33,"d":"R$ 46.33"},{"v":18.53,"d":"R$ 18.53"}]
[]
["TOTAL B",{"$nulls":7},{"$f":"SUM(I17:I22)","v":{"v":1421.0199999999998,"d":"R$ 1,421.02"}}]
[]
["EQUIPAMENTOS"]
["CÓD.","ORGÃO","DESCRIÇÃO",null,null,"UND","COEF","R$ UNIT.","R$ PARCIAL"]
[]
["TOTAL C"]
[]
["RESUMO"]
["TOTAL  A",{"$nulls":7},{"$f":"I13","v":0}]
["TOTAL  B",{"$nulls":7},{"$f":"I24","v":{"v":1421.0199999999998,"d":"1,421.02"}}]
["TOTAL C ",{"$nulls":7},0]
["PREÇO DE VENDA= TOTAL (A+B+C)",{"$nulls":7},{"$f":"SUM(I32:I34)","v":{"v":1421.0199999999998,"d":"R$ 1,421.02"}}]

{"sheet":"PAV-01","index":7,"n_rows":35,"n_cols":9,"rows_kept":35,"merged":[[0,1,3,7],[0,8,1,8],[4,1,4,8],[5,1,5,8],[9,0,9,8],[10,2,10,4],[11,2,11,3],[12,2,12,3],[13,2,13,3],[14,2,14,4],[15,0,15,7],[17,0,17,8],[18,2,18,4],[19,2,19,4],[20,2,20,4],[21,2,21,4],[22,0,22,7],[23,0,23,8],[24,0,24,8],[25,2,25,4],[26,2,26,4],[27,2,27,4],[28,0,28,7],[30,0,30,8],[31,0,31,7],[32,0,32,7],[33,0,33,7],[34,0,34,7]]}
[null,"COMPOSIÇÃO ANALÍTICA DE PREÇO UNITÁRIO",{"$nulls":6},"Data-base"]
[]
[{"$nulls":8},"JUL/22 e FEV/23"]
[{"$nulls":8},"PAV-01"]
["SERVIÇO:","Pavimentação com blocos de concreto pavi-s colorido H->06cm tipo, colchão de pó de pedra 5cm, inclusive transporte dos blocos e areia, em Vias Urbanas (cores: amarelo, vermelho e grafite)"]
["UND: ","m²"]
["ORÇAMENTISTA: JULIANA MARETO AMBROZIM CREA: ES- 18536/D"]
["REVISÃO DO ORÇAMENTO: THAIS BAPTISTA MENELLI CAU/ES A181604-7 / BRUNA PEROVANO SIRTULI CAU/ES A187736-4"]
[]
["MÃO-DE-OBRA"]
["CÓD.","ORGÃO","DESCRIÇÃO",null,null,"UND","COEF","R$ UNIT.","R$ PARCIAL"]
[10108,"DER-ES","CALCETEIRO/PINTOR (OFICIAL - SINDUSCON) (LABOR)",null,"Encargos Sociais: 157,27%","h",{"v":0.24096385542168672,"d":"0.241"},21.35,{"$f":"TRUNC(ROUND(G12*H12,2),2)","v":{"v":5.14,"d":"R$ 5.14"}}]
[10146,"DER-ES","SERVENTE (AUXILIAR DE OBRAS - SINDUSCON) (LABOR)",null,"Encargos Sociais: 157,27%","h",{"v":0.48192771084337344,"d":"0.482"},15.85,{"$f":"TRUNC(ROUND(G13*H13,2),2)","v":{"v":7.64,"d":"R$ 7.64"}}]
[20065,"DER-ES","Encarregado de Pavimentação",null,"Encargos Sociais: 157,27%","h",{"v":0.12048192771084336,"d":"0.120"},{"v":32.1,"d":"32.10"},{"$f":"TRUNC(ROUND(G14*H14,2),2)","v":{"v":3.87,"d":"R$ 3.87"}}]
[]
["TOTAL A",{"$nulls":7},{"$f":"SUM(I12:I14)","v":16.65}]
[]
["MATERIAIS/ SERVIÇOS"]
["CÓD.","ORGÃO","DESCRIÇÃO",null,null,"UND","COEF","R$ UNIT.","R$ PARCIAL"]
[20524,"DER-ES","PO DE PEDRA (LABOR)",null,null,"m³",{"v":0.05,"d":"0.050"},97.13,{"$f":"TRUNC(ROUND(G20*H20,2),2)","v":{"v":4.86,"d":"R$ 4.86"}}]
[36517,"DER-ES","BLOCO CONCRETO PAVI-S ESP. 6CM 35 MPA (48UN/M2)",null,null,"und",{"v":48,"d":"48.000"},1.28,{"$f":"TRUNC(ROUND(G21*H21,2),2)","v":{"v":61.44,"d":"R$ 61.44"}}]
[2000,"DER-ES","Ferramentas Manuais (5% do valor da mão-de-obra)",{"$nulls":3},{"v":0.05,"d":"0.050"},{"$f":"I16","v":16.65},{"$f":"TRUNC(ROUND(G22*H22,2),2)","v":{"v":0.83,"d":"R$ 0.83"}}]
["TOTAL B",{"$nulls":7},{"$f":"SUM(I20:I22)","v":{"v":67.13,"d":"R$ 67.13"}}]
[]
["EQUIPAMENTOS"]
["CÓD.","ORGÃO","DESCRIÇÃO",null,null,"UND","COEF","R$ UNIT.","R$ PARCIAL"]
[30032,"DER-ES","Rolo AP de pneus AP-26 (8,9t) (MULLER) ou equivalente - hora produtiva",null,null,"CHP",{"v":0.024096385542168672,"d":"0.024"},324.23,{"$f":"TRUNC(ROUND(G27*H27,2),2)","v":{"v":7.81,"d":"R$ 7.81"}}]
[30032,"DER-ES","Rolo AP de pneus AP-26 (8,9t) (MULLER) ou equivalente - hora improdutiva",null,null,"CHI",{"v":0.21686746987951805,"d":"0.217"},105.56,{"$f":"TRUNC(ROUND(G28*H28,2),2)","v":{"v":22.89,"d":"R$ 22.89"}}]
["TOTAL C",{"$nulls":7},{"$f":"SUM(I27:I28)","v":{"v":30.7,"d":"R$ 30.70"}}]
[]
["RESUMO"]
["TOTAL  A",{"$nulls":7},{"$f":"I16","v":16.65}]
["TOTAL  B",{"$nulls":7},{"$f":"I23","v":67.13}]
["TOTAL C ",{"$nulls":7},{"$f":"I29","v":{"v":30.7,"d":"30.70"}}]
["PREÇO DE VENDA= TOTAL (A+B+C)",{"$nulls":7},{"$f":"SUM(I32:I34)","v":{"v":114.48,"d":"R$ 114.48"}}]

{"sheet":"EQU-01","index":8,"n_rows":40,"n_cols":9,"rows_kept":40,"merged":[[0,1,3,7],[0,8,1,8],[4,1,4,8],[5,1,5,8],[9,0,9,8],[10,2,10,4],[11,2,11,3],[12,2,12,3],[13,2,13,3],[14,2,14,3],[15,2,15,4],[16,0,16,7],[18,0,18,8],[19,2,19,4],[20,2,20,4],[21,2,21,4],[22,2,22,4],[23,2,23,4],[24,2,24,4],[25,2,25,4],[26,2,26,4],[27,2,27,4],[28,0,28,7],[29,0,29,8],[30,0,30,8],[31,2,31,4],[32,2,32,4],[33,0,33,7],[35,0,35,8],[36,0,36,7],[37,0,37,7],[38,0,38,7],[39,0,39,7]]}
[null,"COMPOSIÇÃO ANALÍTICA DE PREÇO UNITÁRIO",{"$nulls":6},"Data-base"]
[]
[{"$nulls":8},"JUL/22 e FEV/23"]
[{"$nulls":8},"EQU-01"]
["SERVIÇO:","Fornecimento e instalação de banco com encosto e assento em madeira conforme detalhe de projeto"]
["UND: ","und"]
["ORÇAMENTISTA: JULIANA MARETO AMBROZIM CREA: ES- 18536/D"]
["REVISÃO DO ORÇAMENTO: THAIS BAPTISTA MENELLI CAU/ES A181604-7 / BRUNA PEROVANO SIRTULI CAU/ES A187736-4"]
[]
["MÃO-DE-OBRA"]
["CÓD.","ORGÃO","DESCRIÇÃO",null,null,"UND","COEF","R$ UNIT.","R$ PARCIAL"]
["010139","DER-ES","PEDREIRO - (OFICIAL - SINDUSCON) (LABOR)",null,"Encargos Sociais: 157,27%","h",{"v":0.5,"d":"0.500"},{"v":21.35,"d":"R$ 21.35"},{"$f":"TRUNC(ROUND(G12*H12,2),2)","v":{"v":10.68,"d":"R$ 10.68"}}]
["010146","DER-ES","SERVENTE (AUXILIAR DE OBRAS - SINDUSCON)\n(LABOR)",null,"Encargos Sociais: 157,27%","h",{"v":1,"d":"1.000"},{"v":15.85,"d":"R$ 15.85"},{"$f":"TRUNC(ROUND(G13*H13,2),2)","v":{"v":15.85,"d":"R$ 15.85"}}]
["010101","DER-ES ","AJUDANTE (AJUDANTE PRATICO - SINDUSCON)\n(LABOR)",null,"Encargos Sociais: 157,27%","h",{"v":2,"d":"2.000"},{"v":18.01,"d":"R$ 18.01"},{"$f":"TRUNC(ROUND(G14*H14,2),2)","v":{"v":36.02,"d":"R$ 36.02"}}]
["010140","DER-ES","PINTOR -(OFICIAL - SINDUSCON) (LABOR) ",null,"Encargos Sociais: 157,27%","h",{"v":1,"d":"1.000"},{"v":21.35,"d":"R$ 21.35"},{"v":21.35,"d":"R$ 21.35"}]
[]
["TOTAL A",{"$nulls":7},{"$f":"SUM(I12:I15)","v":{"v":83.9,"d":"83.90"}}]
[]
["MATERIAIS/ SERVIÇOS"]
["CÓD.","ORGÃO","DESCRIÇÃO",null,null,"UND","COEF","R$ UNIT.","R$ PARCIAL"]
["040235","DER-ES ","Fornecimento, preparo e aplicação de concreto Fck=20 MPa (brita 1 e 2) - (5% de perdas já incluído no custo)",null,null,"M³",0.075,{"v":711.27,"d":"R$ 711.27"},{"$f":"TRUNC(ROUND(G21*H21,2),2)","v":{"v":53.35,"d":"R$ 53.35"}}]
["040238","DER-ES","Fôrma de chapa compensada resinada 12mm, levando-se em conta a utilização 3 vezes (incluido o material, corte, montagem, escoramento e desfôrma)",null,null,"M²",{"v":2.5,"d":"2.500"},{"v":80.18,"d":"R$ 80.18"},{"$f":"TRUNC(ROUND(G22*H22,2),2)","v":{"v":200.45,"d":"R$ 200.45"}}]
["026548","DER-ES","BUCHA PLASTICA COM PARAFUSO - 8MM (LABOR)",null,null,"UND",{"v":16,"d":"16.000"},{"v":0.48,"d":"R$ 0.48"},{"v":7.68,"d":"R$ 7.68"}]
[11565,"DER-ES (Rodovias)","Parafuso sextavado, soberba 5/8\" x 6\" com porca e arruela ",null,null,"UND",{"v":16,"d":"16.000"},{"v":10.43,"d":"R$ 10.43"},{"v":166.88,"d":"R$ 166.88"}]
["021041","DER-ES","PECA EM MADEIRA DE LEI 5.0 X 10.0 CM (APARELHADA) ",null,null,"M",{"v":16,"d":"16.000"},{"v":29.66,"d":"R$ 29.66"},{"v":474.56,"d":"R$ 474.56"}]
["038088","DER-ES","VERNIZ COPAL INCOLOR BRILHANTE PREMIUM, SUVINIL, EUCATEX, MONTANA\nOU EQUIVALENTE ",null,null,"L",{"v":1,"d":"1.000"},{"v":43.23,"d":"R$ 43.23"},{"v":43.23,"d":"R$ 43.23"}]
["038001 ","DER-ES","AGUARRAZ MINERAL ",null,null,"L",{"v":1,"d":"1.000"},{"v":18.63,"d":"R$ 18.63"},{"v":18.63,"d":"R$ 18.63"}]
["038013 ","DER-ES","LIXA PARA MADEIRA/MASSA Nº 150",null,null,"UND",{"v":3,"d":"3.000"},{"v":1.04,"d":"R$ 1.04"},{"v":3.12,"d":"R$ 3.12"}]
["TOTAL B",{"$nulls":7},{"$f":"SUM(I21:I28)","v":{"v":967.9,"d":"R$ 967.90"}}]
[]
["EQUIPAMENTOS"]
["CÓD.","ORGÃO","DESCRIÇÃO",null,null,"UND","COEF","R$ UNIT.","R$ PARCIAL"]
[]
["TOTAL C",{"$nulls":7},{"$f":"SUM(I33)","v":{"v":0,"d":"R$ 0.00"}}]
[]
["RESUMO"]
["TOTAL  A",{"$nulls":7},{"$f":"I17","v":{"v":83.9,"d":"83.90"}}]
["TOTAL  B",{"$nulls":7},{"$f":"I29","v":{"v":967.9,"d":"967.90"}}]
["TOTAL C ",{"$nulls":7},0]
["PREÇO DE VENDA= TOTAL (A+B+C)",{"$nulls":7},{"$f":"SUM(I37:I39)","v":{"v":1051.8,"d":"R$ 1,051.80"}}]

{"sheet":"EQU-02","index":9,"n_rows":33,"n_cols":9,"rows_kept":33,"merged":[[0,1,3,7],[0,8,1,8],[4,1,4,8],[5,1,5,8],[9,0,9,8],[10,2,10,4],[11,2,11,3],[12,2,12,3],[13,0,13,7],[15,0,15,8],[16,2,16,4],[17,2,17,4],[18,2,18,4],[19,2,19,4],[20,2,20,4],[21,0,21,7],[22,0,22,8],[23,0,23,8],[24,2,24,4],[26,0,26,7],[28,0,28,8],[29,0,29,7],[30,0,30,7],[31,0,31,7],[32,0,32,7]]}
[null,"COMPOSIÇÃO ANALÍTICA DE PREÇO UNITÁRIO",{"$nulls":6},"Data-base"]
[]
[{"$nulls":8},"JUL/22 e FEV/23"]
[{"$nulls":8},"EQU-02"]
["SERVIÇO:","Fornecimento instalação de lixeira seletiva 50 litros, com suporte tubular em aço galvanizado, DN 3\", incluindo chumbamento em base de concreto"]
["UND: ","und"]
["ORÇAMENTISTA: JULIANA MARETO AMBROZIM CREA: ES- 18536/D"]
["REVISÃO DO ORÇAMENTO: THAIS BAPTISTA MENELLI CAU/ES A181604-7 / BRUNA PEROVANO SIRTULI CAU/ES A187736-4"]
[]
["MÃO-DE-OBRA"]
["CÓD.","ORGÃO","DESCRIÇÃO",null,null,"UND","COEF","R$ UNIT.","R$ PARCIAL"]
["010139","DER-ES","PEDREIRO - (OFICIAL - SINDUSCON) (LABOR)",null,"Encargos Sociais: 157,27%","h",{"v":1,"d":"1.000"},21.35,{"$f":"TRUNC(ROUND(G12*H12,2),2)","v":{"v":21.35,"d":"R$ 21.35"}}]
["010146","DER-ES","SERVENTE (AUXILIAR DE OBRAS - SINDUSCON)\n(LABOR)",null,"Encargos Sociais: 157,27%","h",{"v":1,"d":"1.000"},15.85,{"$f":"TRUNC(ROUND(G13*H13,2),2)","v":{"v":15.85,"d":"R$ 15.85"}}]
["TOTAL A",{"$nulls":7},{"$f":"SUM(I12:I13)","v":{"v":37.2,"d":"37.20"}}]
[]
["MATERIAIS/ SERVIÇOS"]
["CÓD.","ORGÃO","DESCRIÇÃO",null,null,"UND","COEF","R$ UNIT.","R$ PARCIAL"]
["COTAÇÃO","MERCADO","Lixeira seletiva 50 litros verde",null,null,"und",{"v":1,"d":"1.000"},{"$f":"'COTAÇÕES '!U8","v":{"v":257.46888888888884,"d":"257.47"}},{"$f":"TRUNC(ROUND(G18*H18,2),2)","v":{"v":257.47,"d":"R$ 257.47"}}]
["060508","DER-ES","TUBO DE ACO GALVANIZADO 88,90 X 3,35MM (3\") LEVE",null,null,"m",{"v":1,"d":"1.000"},117.66,{"$f":"TRUNC(ROUND(G19*H19,2),2)","v":{"v":117.66,"d":"R$ 117.66"}}]
["040324","DER-ES","Fornecimento, preparo e aplicação de concreto Fck=25 MPa (brita 1 e 2) - (5% de perdas já incluído no custo)",null,null,"m3",0.045,836.22,{"$f":"TRUNC(ROUND(G20*H20,2),2)","v":{"v":37.63,"d":"R$ 37.63"}}]
["030101","DER-ES","Escavação manual em material de 1a. categoria, até 1.50 m de profundidade",null,null,"m3",0.045,51.51,{"$f":"TRUNC(ROUND(G21*H21,2),2)","v":{"v":2.32,"d":"R$ 2.32"}}]
["TOTAL B",{"$nulls":7},{"$f":"SUM(I18:I21)","v":{"v":415.08,"d":"R$ 415.08"}}]
[]
["EQUIPAMENTOS"]
["CÓD.","ORGÃO","DESCRIÇÃO",null,null,"UND","COEF","R$ UNIT.","R$ PARCIAL"]
[]
["TOTAL C"]
[]
["RESUMO"]
["TOTAL  A",{"$nulls":7},{"$f":"I14","v":{"v":37.2,"d":"37.20"}}]
["TOTAL  B",{"$nulls":7},{"$f":"I22","v":415.08}]
["TOTAL C ",{"$nulls":7},0]
["PREÇO DE VENDA= TOTAL (A+B+C)",{"$nulls":7},{"$f":"SUM(I30:I32)","v":{"v":452.28,"d":"R$ 452.28"}}]

{"sheet":"EQU-03","index":10,"n_rows":33,"n_cols":9,"rows_kept":33,"merged":[[0,1,3,7],[0,8,1,8],[4,1,4,8],[5,1,5,8],[9,0,9,8],[10,2,10,4],[11,2,11,3],[12,2,12,3],[13,2,13,4],[14,0,14,7],[16,0,16,8],[17,2,17,4],[18,2,18,4],[19,2,19,4],[20,2,20,4],[21,0,21,7],[22,0,22,8],[23,0,23,8],[24,2,24,4],[26,0,26,7],[28,0,28,8],[29,0,29,7],[30,0,30,7],[31,0,31,7],[32,0,32,7]]}
[null,"COMPOSIÇÃO ANALÍTICA DE PREÇO UNITÁRIO",{"$nulls":6},"Data-base"]
[]
[{"$nulls":8},"JUL/22 e FEV/23"]
[{"$nulls":8},"EQU-03"]
["SERVIÇO:","Retirada de Lixeira "]
["UND: ","und"]
["ORÇAMENTISTA: JULIANA MARETO AMBROZIM CREA: ES- 18536/D"]
["REVISÃO DO ORÇAMENTO: THAIS BAPTISTA MENELLI CAU/ES A181604-7 / BRUNA PEROVANO SIRTULI CAU/ES A187736-4"]
[]
["MÃO-DE-OBRA"]
["CÓD.","ORGÃO","DESCRIÇÃO",null,null,"UND","COEF","R$ UNIT.","R$ PARCIAL"]
[10139,"DER-ES","PEDREIRO - (OFICIAL - SINDUSCON) (LABOR)",null,"Encargos Sociais: 157,27%","h",{"v":0.2,"d":"0.200"},21.35,{"$f":"TRUNC(ROUND(G12*H12,2),2)","v":{"v":4.27,"d":"R$ 4.27"}}]
[10146,"DER-ES","SERVENTE (AUXILIAR DE OBRAS - SINDUSCON)\n(LABOR)",null,"Encargos Sociais: 157,27%","h",{"v":0.2,"d":"0.200"},15.85,{"$f":"TRUNC(ROUND(G13*H13,2),2)","v":{"v":3.17,"d":"R$ 3.17"}}]
[]
["TOTAL A",{"$nulls":7},{"$f":"SUM(I12:I13)","v":{"v":7.4399999999999995,"d":"7.44"}}]
[]
["MATERIAIS/ SERVIÇOS"]
["CÓD.","ORGÃO","DESCRIÇÃO",null,null,"UND","COEF","R$ UNIT.","R$ PARCIAL"]
[]
[]
[]
["TOTAL B",{"$nulls":7},{"$f":"SUM(I19:I21)","v":{"v":0,"d":"R$ 0.00"}}]
[]
["EQUIPAMENTOS"]
["CÓD.","ORGÃO","DESCRIÇÃO",null,null,"UND","COEF","R$ UNIT.","R$ PARCIAL"]
[]
["TOTAL C"]
[]
["RESUMO"]
["TOTAL  A",{"$nulls":7},{"$f":"I15","v":{"v":7.4399999999999995,"d":"7.44"}}]
["TOTAL  B",{"$nulls":7},{"$f":"I22","v":0}]
["TOTAL C ",{"$nulls":7},0]
["PREÇO DE VENDA= TOTAL (A+B+C)",{"$nulls":7},{"$f":"SUM(I30:I32)","v":{"v":7.4399999999999995,"d":"R$ 7.44"}}]

{"sheet":"EQU-04","index":11,"n_rows":33,"n_cols":9,"rows_kept":33,"merged":[[0,1,3,7],[0,8,1,8],[4,1,4,8],[5,1,5,8],[9,0,9,8],[10,2,10,4],[11,2,11,3],[12,2,12,3],[13,2,13,4],[14,0,14,7],[16,0,16,8],[17,2,17,4],[18,2,18,4],[19,2,19,4],[20,2,20,4],[21,0,21,7],[22,0,22,8],[23,0,23,8],[24,2,24,4],[26,0,26,7],[28,0,28,8],[29,0,29,7],[30,0,30,7],[31,0,31,7],[32,0,32,7]]}
[null,"COMPOSIÇÃO ANALÍTICA DE PREÇO UNITÁRIO",{"$nulls":6},"Data-base"]
[]
[{"$nulls":8},"JUL/22 e FEV/23"]
[{"$nulls":8},"EQU-04"]
["SERVIÇO:","Retirada de Mobiliário Urbano"]
["UND: ","und"]
["ORÇAMENTISTA: JULIANA MARETO AMBROZIM CREA: ES- 18536/D"]
["REVISÃO DO ORÇAMENTO: THAIS BAPTISTA MENELLI CAU/ES A181604-7 / BRUNA PEROVANO SIRTULI CAU/ES A187736-4"]
[]
["MÃO-DE-OBRA"]
["CÓD.","ORGÃO","DESCRIÇÃO",null,null,"UND","COEF","R$ UNIT.","R$ PARCIAL"]
[10139,"DER-ES","PEDREIRO - (OFICIAL - SINDUSCON) (LABOR)",null,"Encargos Sociais: 157,27%","h",{"v":0.5,"d":"0.500"},21.35,{"$f":"TRUNC(ROUND(G12*H12,2),2)","v":{"v":10.68,"d":"R$ 10.68"}}]
[10146,"DER-ES","SERVENTE (AUXILIAR DE OBRAS - SINDUSCON)\n(LABOR)",null,"Encargos Sociais: 157,27%","h",{"v":0.5,"d":"0.500"},15.85,{"$f":"TRUNC(ROUND(G13*H13,2),2)","v":{"v":7.93,"d":"R$ 7.93"}}]
[]
["TOTAL A",{"$nulls":7},{"$f":"SUM(I12:I13)","v":18.61}]
[]
["MATERIAIS/ SERVIÇOS"]
["CÓD.","ORGÃO","DESCRIÇÃO",null,null,"UND","COEF","R$ UNIT.","R$ PARCIAL"]
[]
[]
[]
["TOTAL B",{"$nulls":7},{"$f":"SUM(I19:I21)","v":{"v":0,"d":"R$ 0.00"}}]
[]
["EQUIPAMENTOS"]
["CÓD.","ORGÃO","DESCRIÇÃO",null,null,"UND","COEF","R$ UNIT.","R$ PARCIAL"]
[]
["TOTAL C"]
[]
["RESUMO"]
["TOTAL  A",{"$nulls":7},{"$f":"I15","v":18.61}]
["TOTAL  B",{"$nulls":7},{"$f":"I22","v":0}]
["TOTAL C ",{"$nulls":7},0]
["PREÇO DE VENDA= TOTAL (A+B+C)",{"$nulls":7},{"$f":"SUM(I30:I32)","v":{"v":18.61,"d":"R$ 18.61"}}]

{"sheet":"PAI-01","index":12,"n_rows":33,"n_cols":9,"rows_kept":33,"merged":[[0,1,3,7],[0,8,1,8],[4,1,4,8],[5,1,5,8],[9,0,9,8],[10,2,10,4],[11,2,11,3],[12,2,12,4],[13,0,13,7],[15,0,15,8],[16,2,16,4],[17,2,17,4],[18,2,18,4],[19,2,19,4],[20,2,20,4],[21,0,21,7],[22,0,22,8],[23,0,23,8],[24,2,24,4],[26,0,26,7],[28,0,28,8],[29,0,29,7],[30,0,30,7],[31,0,31,7],[32,0,32,7]]}
[null,"COMPOSIÇÃO ANALÍTICA DE PREÇO UNITÁRIO",{"$nulls":6},"Data-base"]
[]
[{"$nulls":8},"JUL/22 e FEV/23"]
[{"$nulls":8},"PAI-01"]
["SERVIÇO:","Fornecimento e Plantio de CLÚSIA (clusia fluminensis)"]
["UND: ","und"]
["ORÇAMENTISTA: JULIANA MARETO AMBROZIM CREA: ES- 18536/D"]
["REVISÃO DO ORÇAMENTO: THAIS BAPTISTA MENELLI CAU/ES A181604-7 / BRUNA PEROVANO SIRTULI CAU/ES A187736-4"]
[]
["MÃO-DE-OBRA"]
["CÓD.","ORGÃO","DESCRIÇÃO",null,null,"UND","COEF","R$ UNIT.","R$ PARCIAL"]
["010101","DER-ES","AJUDANTE (AJUDANTE PRATICO - SINDUSCON)\n(LABOR)",null,"Encargos Sociais: 157,27%","h",{"v":0.18,"d":"0.1800"},18.01,{"$f":"TRUNC(ROUND(G12*H12,2),2)","v":{"v":3.24,"d":"R$ 3.24"}}]
[]
["TOTAL A",{"$nulls":7},{"$f":"SUM(I12:I12)","v":3.24}]
[]
["MATERIAIS/ SERVIÇOS"]
["CÓD.","ORGÃO","DESCRIÇÃO",null,null,"UND","COEF","R$ UNIT.","R$ PARCIAL"]
["COTAÇÃO","MERCADO","Fornecimento de  CLÚSIA (clusia fluminensis)",null,null,"und",{"v":1,"d":"1.0000"},{"$f":"'COTAÇÕES '!U10","v":{"v":27.796666666666667,"d":"27.80"}},{"$f":"TRUNC(ROUND(G18*H18,2),2)","v":{"v":27.8,"d":"R$ 27.80"}}]
["038511","DER-ES","Terra Vegetal","Escav. man. valetas e cavas de fundação mat.1ªcat. 1,50m (B2-001-00) (I0-004-00)","Escav. man. valetas e cavas de fundação mat.1ªcat. 1,50m (B2-001-00) (I0-004-00)","m³",{"v":0.024666666666666667,"d":"0.0247"},179.71,{"$f":"TRUNC(ROUND(G19*H19,2),2)","v":{"v":4.43,"d":"R$ 4.43"}}]
[10574,"DER-ES (Rodovias)","Adubo NPK",null,null,"kg",{"v":0.024666666666666667,"d":"0.0247"},2.92,{"$f":"TRUNC(ROUND(G20*H20,2),2)","v":{"v":0.07,"d":"R$ 0.07"}}]
["020503","DER-ES","Areia lavada média ",null,null,"m³",{"v":3.3333333333333335E-3,"d":"0.0033"},146.22,{"$f":"TRUNC(ROUND(G21*H21,2),2)","v":{"v":0.49,"d":"R$ 0.49"}}]
["TOTAL B",{"$nulls":7},{"$f":"SUM(I18:I21)","v":{"v":32.790000000000006,"d":"R$ 32.79"}}]
[]
["EQUIPAMENTOS"]
["CÓD.","ORGÃO","DESCRIÇÃO",null,null,"UND","COEF","R$ UNIT.","R$ PARCIAL"]
[]
["TOTAL C"]
[]
["RESUMO"]
["TOTAL  A",{"$nulls":7},{"$f":"I14","v":3.24}]
["TOTAL  B",{"$nulls":7},{"$f":"I22","v":{"v":32.790000000000006,"d":"32.79"}}]
["TOTAL C ",{"$nulls":7},0]
["PREÇO DE VENDA= TOTAL (A+B+C)",{"$nulls":7},{"$f":"SUM(I30:I32)","v":{"v":36.03000000000001,"d":"R$ 36.03"}}]

{"sheet":"PAI-02","index":13,"n_rows":34,"n_cols":9,"rows_kept":34,"merged":[[0,1,3,7],[0,8,1,8],[4,1,4,8],[5,1,5,8],[9,0,9,8],[10,2,10,4],[11,2,11,3],[12,2,12,4],[13,0,13,7],[15,0,15,8],[16,2,16,4],[17,2,17,4],[18,2,18,4],[19,2,19,4],[20,2,20,4],[22,0,22,7],[23,0,23,8],[24,0,24,8],[25,2,25,4],[27,0,27,7],[29,0,29,8],[30,0,30,7],[31,0,31,7],[32,0,32,7],[33,0,33,7]]}
[null,"COMPOSIÇÃO ANALÍTICA DE PREÇO UNITÁRIO",{"$nulls":6},"Data-base"]
[]
[{"$nulls":8},"JUL/22 e FEV/23"]
[{"$nulls":8},"PAI-02"]
["SERVIÇO:","Fornecimento e Plantio de IXORA (ixora coccínea)"]
["UND: ","und"]
["ORÇAMENTISTA: JULIANA MARETO AMBROZIM CREA: ES- 18536/D"]
["REVISÃO DO ORÇAMENTO: THAIS BAPTISTA MENELLI CAU/ES A181604-7 / BRUNA PEROVANO SIRTULI CAU/ES A187736-4"]
[]
["MÃO-DE-OBRA"]
["CÓD.","ORGÃO","DESCRIÇÃO",null,null,"UND","COEF","R$ UNIT.","R$ PARCIAL"]
["010101","DER-ES","AJUDANTE (AJUDANTE PRATICO - SINDUSCON)\n(LABOR)",null,"Encargos Sociais: 157,27%","h",{"v":0.18,"d":"0.1800"},18.01,{"$f":"TRUNC(ROUND(G12*H12,2),2)","v":{"v":3.24,"d":"R$ 3.24"}}]
[]
["TOTAL A",{"$nulls":7},{"$f":"SUM(I12:I12)","v":3.24}]
[]
["MATERIAIS/ SERVIÇOS"]
["CÓD.","ORGÃO","DESCRIÇÃO",null,null,"UND","COEF","R$ UNIT.","R$ PARCIAL"]
["COTAÇÃO","MERCADO","Fornecimento de IXORA CORAL (ixora coccínea)",null,null,"und",{"v":1,"d":"1.0000"},{"$f":"'COTAÇÕES '!U11","v":{"v":14.233333333333334,"d":"14.23"}},{"$f":"TRUNC(ROUND(G18*H18,2),2)","v":{"v":14.23,"d":"R$ 14.23"}}]
["038511","DER-ES","Terra Vegetal","Escav. man. valetas e cavas de fundação mat.1ªcat. 1,50m (B2-001-00) (I0-004-00)","Escav. man. valetas e cavas de fundação mat.1ªcat. 1,50m (B2-001-00) (I0-004-00)","m³",{"v":0.024666666666666667,"d":"0.0247"},179.71,{"$f":"TRUNC(ROUND(G19*H19,2),2)","v":{"v":4.43,"d":"R$ 4.43"}}]
[10574,"DER-ES (Rodovias)","Adubo NPK",null,null,"kg",{"v":0.024666666666666667,"d":"0.0247"},2.92,{"$f":"TRUNC(ROUND(G20*H20,2),2)","v":{"v":0.07,"d":"R$ 0.07"}}]
["020503","DER-ES","Areia lavada média ",null,null,"m³",{"v":3.3333333333333335E-3,"d":"0.0033"},146.22,{"$f":"TRUNC(ROUND(G21*H21,2),2)","v":{"v":0.49,"d":"R$ 0.49"}}]
[]
["TOTAL B",{"$nulls":7},{"$f":"SUM(I18:I22)","v":{"v":19.22,"d":"R$ 19.22"}}]
[]
["EQUIPAMENTOS"]
["CÓD.","ORGÃO","DESCRIÇÃO",null,null,"UND","COEF","R$ UNIT.","R$ PARCIAL"]
[]
["TOTAL C"]
[]
["RESUMO"]
["TOTAL  A",{"$nulls":7},{"$f":"I14","v":3.24}]
["TOTAL  B",{"$nulls":7},{"$f":"I23","v":19.22}]
["TOTAL C ",{"$nulls":7},0]
["PREÇO DE VENDA= TOTAL (A+B+C)",{"$nulls":7},{"$f":"SUM(I31:I33)","v":{"v":22.46,"d":"R$ 22.46"}}]

{"sheet":"PAI-03","index":14,"n_rows":34,"n_cols":9,"rows_kept":34,"merged":[[0,1,3,7],[0,8,1,8],[4,1,4,8],[5,1,5,8],[9,0,9,8],[10,2,10,4],[11,2,11,3],[12,2,12,4],[13,0,13,7],[15,0,15,8],[16,2,16,4],[17,2,17,4],[18,2,18,4],[19,2,19,4],[20,2,20,4],[22,0,22,7],[23,0,23,8],[24,0,24,8],[25,2,25,4],[27,0,27,7],[29,0,29,8],[30,0,30,7],[31,0,31,7],[32,0,32,7],[33,0,33,7]]}
[null,"COMPOSIÇÃO ANALÍTICA DE PREÇO UNITÁRIO",{"$nulls":6},"Data-base"]
[]
[{"$nulls":8},"JUL/22 e FEV/23"]
[{"$nulls":8},"PAI-03"]
["SERVIÇO:","Fornecimento e Plantio de PINGO DE OURO (Duranta Repens)"]
["UND: ","und"]
["ORÇAMENTISTA: JULIANA MARETO AMBROZIM CREA: ES- 18536/D"]
["REVISÃO DO ORÇAMENTO: THAIS BAPTISTA MENELLI CAU/ES A181604-7 / BRUNA PEROVANO SIRTULI CAU/ES A187736-4"]
[]
["MÃO-DE-OBRA"]
["CÓD.","ORGÃO","DESCRIÇÃO",null,null,"UND","COEF","R$ UNIT.","R$ PARCIAL"]
["010101","DER-ES","AJUDANTE (AJUDANTE PRATICO - SINDUSCON)\n(LABOR)",null,"Encargos Sociais: 157,27%","h",{"v":0.18,"d":"0.1800"},18.01,{"$f":"TRUNC(ROUND(G12*H12,2),2)","v":{"v":3.24,"d":"R$ 3.24"}}]
[]
["TOTAL A",{"$nulls":7},{"$f":"SUM(I12:I12)","v":3.24}]
[]
["MATERIAIS/ SERVIÇOS"]
["CÓD.","ORGÃO","DESCRIÇÃO",null,null,"UND","COEF","R$ UNIT.","R$ PARCIAL"]
["COTAÇÃO","MERCADO","Fornecimento de PINGO DE OURO (duranta repens)",null,null,"und",{"v":1,"d":"1.0000"},{"$f":"'COTAÇÕES '!U12","v":{"v":4.233333333333333,"d":"4.23"}},{"$f":"TRUNC(ROUND(G18*H18,2),2)","v":{"v":4.23,"d":"R$ 4.23"}}]
["038511","DER-ES","Terra Vegetal","Escav. man. valetas e cavas de fundação mat.1ªcat. 1,50m (B2-001-00) (I0-004-00)","Escav. man. valetas e cavas de fundação mat.1ªcat. 1,50m (B2-001-00) (I0-004-00)","m³",{"v":0.006166666666666667,"d":"0.0062"},179.71,{"$f":"TRUNC(ROUND(G19*H19,2),2)","v":{"v":1.11,"d":"R$ 1.11"}}]
[10574,"DER-ES (Rodovias)","Adubo NPK",null,null,"kg",{"v":0.006166666666666667,"d":"0.0062"},2.92,{"$f":"TRUNC(ROUND(G20*H20,2),2)","v":{"v":0.02,"d":"R$ 0.02"}}]
["020503","DER-ES","Areia média lavada",null,null,"m³",{"v":8.3333333333333339E-4,"d":"0.0008"},146.22,{"$f":"TRUNC(ROUND(G21*H21,2),2)","v":{"v":0.12,"d":"R$ 0.12"}}]
[]
["TOTAL B",{"$nulls":7},{"$f":"SUM(I18:I22)","v":{"v":5.48,"d":"R$ 5.48"}}]
[]
["EQUIPAMENTOS"]
["CÓD.","ORGÃO","DESCRIÇÃO",null,null,"UND","COEF","R$ UNIT.","R$ PARCIAL"]
[]
["TOTAL C"]
[]
["RESUMO"]
["TOTAL  A",{"$nulls":7},{"$f":"I14","v":3.24}]
["TOTAL  B",{"$nulls":7},{"$f":"I23","v":5.48}]
["TOTAL C ",{"$nulls":7},0]
["PREÇO DE VENDA= TOTAL (A+B+C)",{"$nulls":7},{"$f":"SUM(I31:I33)","v":{"v":8.72,"d":"R$ 8.72"}}]

{"sheet":"PAI-04","index":15,"n_rows":33,"n_cols":9,"rows_kept":33,"merged":[[0,1,3,7],[0,8,1,8],[4,1,4,8],[5,1,5,8],[9,0,9,8],[10,2,10,4],[11,2,11,3],[12,2,12,4],[13,0,13,7],[15,0,15,8],[16,2,16,4],[17,2,17,4],[18,2,18,4],[19,2,19,4],[21,0,21,7],[22,0,22,8],[23,0,23,8],[24,2,24,4],[26,0,26,7],[28,0,28,8],[29,0,29,7],[30,0,30,7],[31,0,31,7],[32,0,32,7]]}
[null,"COMPOSIÇÃO ANALÍTICA DE PREÇO UNITÁRIO",{"$nulls":6},"Data-base"]
[]
[{"$nulls":8},"JUL/22 e FEV/23"]
[{"$nulls":8},"PAI-04"]
["SERVIÇO:","Fornecimento e Plantio de VEDÉLIA (wedlia trilobata)"]
["UND: ","und"]
["ORÇAMENTISTA: JULIANA MARETO AMBROZIM CREA: ES- 18536/D"]
["REVISÃO DO ORÇAMENTO: THAIS BAPTISTA MENELLI CAU/ES A181604-7 / BRUNA PEROVANO SIRTULI CAU/ES A187736-4"]
[]
["MÃO-DE-OBRA"]
["CÓD.","ORGÃO","DESCRIÇÃO",null,null,"UND","COEF","R$ UNIT.","R$ PARCIAL"]
["010101","DER-ES","AJUDANTE (AJUDANTE PRATICO - SINDUSCON)\n(LABOR)",null,"Encargos Sociais: 157,27%","h",{"v":0.84,"d":"0.8400"},18.01,{"$f":"TRUNC(ROUND(G12*H12,2),2)","v":{"v":15.13,"d":"R$ 15.13"}}]
[]
["TOTAL A",{"$nulls":7},{"$f":"SUM(I12:I12)","v":15.13}]
[]
["MATERIAIS/ SERVIÇOS"]
["CÓD.","ORGÃO","DESCRIÇÃO",null,null,"UND","COEF","R$ UNIT.","R$ PARCIAL"]
["COTAÇÃO","MERCADO","Fornecimento de VEDÉLIA (wedlia trilobata)",null,null,"und",{"v":1,"d":"1.0000"},{"$f":"'COTAÇÕES '!U9","v":{"v":2.6733333333333333,"d":"2.67"}},{"$f":"TRUNC(ROUND(G18*H18,2),2)","v":{"v":2.67,"d":"R$ 2.67"}}]
[10574,"DER-ES (Rodovias)","Adubo NPK",null,null,"kg",{"v":0.003125,"d":"0.0031"},2.92,{"$f":"TRUNC(ROUND(G19*H19,2),2)","v":{"v":0.01,"d":"R$ 0.01"}}]
["020503","DER-ES","Areia média lavada",null,null,"m³",{"v":0.000625,"d":"0.0006"},146.22,{"$f":"TRUNC(ROUND(G20*H20,2),2)","v":{"v":0.09,"d":"R$ 0.09"}}]
[]
["TOTAL B",{"$nulls":7},{"$f":"SUM(I18:I21)","v":{"v":2.7699999999999996,"d":"R$ 2.77"}}]
[]
["EQUIPAMENTOS"]
["CÓD.","ORGÃO","DESCRIÇÃO",null,null,"UND","COEF","R$ UNIT.","R$ PARCIAL"]
[]
["TOTAL C"]
[]
["RESUMO"]
["TOTAL  A",{"$nulls":7},{"$f":"I14","v":15.13}]
["TOTAL  B",{"$nulls":7},{"$f":"I22","v":{"v":2.7699999999999996,"d":"2.77"}}]
["TOTAL C ",{"$nulls":7},0]
["PREÇO DE VENDA= TOTAL (A+B+C)",{"$nulls":7},{"$f":"SUM(I30:I32)","v":{"v":17.9,"d":"R$ 17.90"}}]

{"sheet":"PAI-05","index":16,"n_rows":32,"n_cols":9,"rows_kept":32,"merged":[[0,1,3,7],[0,8,1,8],[4,1,4,8],[5,1,5,8],[9,0,9,8],[10,2,10,4],[11,2,11,3],[12,2,12,4],[13,0,13,7],[15,0,15,8],[16,2,16,4],[17,2,17,4],[18,2,18,4],[20,0,20,7],[21,0,21,8],[22,0,22,8],[23,2,23,4],[25,0,25,7],[27,0,27,8],[28,0,28,7],[29,0,29,7],[30,0,30,7],[31,0,31,7]]}
[null,"COMPOSIÇÃO ANALÍTICA DE PREÇO UNITÁRIO",{"$nulls":6},"Data-base"]
[]
[{"$nulls":8},"JUL/22 e FEV/23"]
[{"$nulls":8},"PAI-05"]
["SERVIÇO:","Fornecimento e Plantio de GRAMA BATATAIS (Paspalum Notatum)"]
["UND: ","m²"]
["ORÇAMENTISTA: JULIANA MARETO AMBROZIM CREA: ES- 18536/D"]
["REVISÃO DO ORÇAMENTO: THAIS BAPTISTA MENELLI CAU/ES A181604-7 / BRUNA PEROVANO SIRTULI CAU/ES A187736-4"]
[]
["MÃO-DE-OBRA"]
["CÓD.","ORGÃO","DESCRIÇÃO",null,null,"UND","COEF","R$ UNIT.","R$ PARCIAL"]
["010101","DER-ES","AJUDANTE (AJUDANTE PRATICO - SINDUSCON)\n(LABOR)",null,"Encargos Sociais: 157,27%","h",{"v":0.16,"d":"0.1600"},18.01,{"$f":"TRUNC(ROUND(G12*H12,2),2)","v":{"v":2.88,"d":"R$ 2.88"}}]
[]
["TOTAL A",{"$nulls":7},{"$f":"SUM(I12:I12)","v":2.88}]
[]
["MATERIAIS/ SERVIÇOS"]
["CÓD.","ORGÃO","DESCRIÇÃO",null,null,"UND","COEF","R$ UNIT.","R$ PARCIAL"]
[3324,"SINAPI","GRAMA BATATAIS EM PLACAS, SEM PLANTIO",null,null,"m²",{"v":1,"d":"1.0000"},9.92,{"$f":"TRUNC(ROUND(G18*H18,2),2)","v":{"v":9.92,"d":"R$ 9.92"}}]
[10574,"DER-ES (Rodovias)","Adubo NPK",null,null,"kg",{"v":0.1,"d":"0.1000"},2.92,{"$f":"TRUNC(ROUND(G19*H19,2),2)","v":{"v":0.29,"d":"R$ 0.29"}}]
[]
["TOTAL B",{"$nulls":7},{"$f":"SUM(I18:I20)","v":{"v":10.209999999999999,"d":"R$ 10.21"}}]
[]
["EQUIPAMENTOS"]
["CÓD.","ORGÃO","DESCRIÇÃO",null,null,"UND","COEF","R$ UNIT.","R$ PARCIAL"]
[]
["TOTAL C"]
[]
["RESUMO"]
["TOTAL  A",{"$nulls":7},{"$f":"I14","v":2.88}]
["TOTAL  B",{"$nulls":7},{"$f":"I21","v":{"v":10.209999999999999,"d":"10.21"}}]
["TOTAL C ",{"$nulls":7},0]
["PREÇO DE VENDA= TOTAL (A+B+C)",{"$nulls":7},{"$f":"SUM(I29:I31)","v":{"v":13.09,"d":"R$ 13.09"}}]

{"sheet":"ELE-01","index":17,"n_rows":31,"n_cols":9,"rows_kept":31,"merged":[[0,1,3,7],[0,8,1,8],[4,1,4,8],[5,1,5,8],[9,0,9,8],[10,2,10,4],[11,2,11,3],[12,2,12,3],[13,0,13,7],[15,0,15,8],[16,2,16,4],[17,2,17,4],[18,0,18,7],[19,0,19,8],[20,0,20,8],[21,2,21,4],[22,2,22,4],[23,2,23,4],[24,0,24,7],[26,0,26,8],[27,0,27,7],[28,0,28,7],[29,0,29,7],[30,0,30,7]]}
[null,"COMPOSIÇÃO ANALÍTICA DE PREÇO UNITÁRIO",{"$nulls":6},"Data-base"]
[]
[{"$nulls":8},"JUL/22 e FEV/23"]
[{"$nulls":8},"ELE-01"]
["SERVIÇO:","Quadro de comando em policarbonato dimensões mínimas 500x400x200mm completo com placa de montagem, disjuntores, contator , trilho, canaleta de pvc e barras de cobre conforme detalhe em projeto"]
["UND: ","und"]
["ORÇAMENTISTA: JULIANA MARETO AMBROZIM CREA: ES- 18536/D"]
["REVISÃO DO ORÇAMENTO: THAIS BAPTISTA MENELLI CAU/ES A181604-7 / BRUNA PEROVANO SIRTULI CAU/ES A187736-4"]
[]
["MÃO-DE-OBRA"]
["CÓD.","ORGÃO","DESCRIÇÃO",null,null,"UND","COEF","R$ UNIT.","R$ PARCIAL"]
["010115","DER-ES","ELETRICISTA (OFICIAL - SINDUSCON) (LABOR)",null,"Encargos Sociais: 157,27%","h",{"v":8,"d":"8.000"},21.35,{"$f":"TRUNC(ROUND(G12*H12,2),2)","v":{"v":170.8,"d":"R$ 170.80"}}]
["010101","DER-ES","AJUDANTE (AJUDANTE PRATICO - SINDUSCON)\n(LABOR)",null,"Encargos Sociais: 157,27%","h",{"v":8,"d":"8.000"},18.01,{"$f":"TRUNC(ROUND(G13*H13,2),2)","v":{"v":144.08,"d":"R$ 144.08"}}]
["TOTAL A",{"$nulls":7},{"$f":"SUM(I12:I13)","v":314.88}]
[]
["MATERIAIS/ SERVIÇOS"]
["CÓD.","ORGÃO","DESCRIÇÃO",null,null,"UND","COEF","R$ UNIT.","R$ PARCIAL"]
["COTAÇÃO\nAtualizado pelo INCC\nde julho/2013 para fevereiro/2023","MERCADO","Quadro de comando em policarbonato dimensões mínimas 500x400x200mm completo com placa de montagem, disjuntores, contator , trilho, canaleta de pvc e barras de cobre conforme detalhe em projeto",null,null,"und",{"v":1,"d":"1.00"},{"v":1441.16,"d":"1,441.16"},{"$f":"TRUNC(ROUND(G18*H18,2),2)","v":{"v":1441.16,"d":"R$ 1,441.16"}}]
["TOTAL B",{"$nulls":7},{"$f":"SUM(I18:I18)","v":{"v":1441.16,"d":"R$ 1,441.16"}}]
[]
["EQUIPAMENTOS"]
["CÓD.","ORGÃO","DESCRIÇÃO",null,null,"UND","COEF","R$ UNIT.","R$ PARCIAL"]
[]
[]
["TOTAL C",{"$nulls":7},{"$f":"SUM(I23:I24)","v":{"v":0,"d":"R$ 0.00"}}]
[]
["RESUMO"]
["TOTAL  A",{"$nulls":7},{"$f":"I14","v":314.88}]
["TOTAL  B",{"$nulls":7},{"$f":"I19","v":{"v":1441.16,"d":"1,441.16"}}]
["TOTAL C ",{"$nulls":7},{"$f":"I25","v":0}]
["PREÇO DE VENDA= TOTAL (A+B+C)",{"$nulls":7},{"$f":"SUM(I28:I30)","v":{"v":1756.04,"d":"R$ 1,756.04"}}]

{"sheet":"ELE-02","index":18,"n_rows":39,"n_cols":9,"rows_kept":39,"merged":[[0,1,3,7],[0,8,1,8],[4,1,4,8],[5,1,5,8],[9,0,9,8],[10,2,10,4],[11,2,11,3],[12,2,12,3],[13,2,13,3],[14,0,14,7],[16,0,16,8],[17,2,17,4],[18,0,23,0],[18,2,18,4],[19,2,19,4],[20,2,20,4],[21,2,21,4],[22,2,22,4],[23,2,23,4],[24,2,24,4],[25,2,25,4],[26,0,26,7],[27,0,27,8],[28,0,28,8],[29,2,29,4],[30,2,30,4],[31,2,31,4],[32,0,32,7],[34,0,34,8],[35,0,35,7],[36,0,36,7],[37,0,37,7],[38,0,38,7]]}
[null,"COMPOSIÇÃO ANALÍTICA DE PREÇO UNITÁRIO",{"$nulls":6},"Data-base"]
[]
[{"$nulls":8},"JUL/22 e FEV/23"]
[{"$nulls":8},"ELE-02"]
["SERVIÇO:","POSTE FOTOVOLTÁICO, ALTURA DE 4,00 m, 2 LUMINÁRIAS 150W, FORNECIMENTO E INSTALAÇÃO "]
["UND: ","und"]
["ORÇAMENTISTA: JULIANA MARETO AMBROZIM CREA: ES- 18536/D"]
["REVISÃO DO ORÇAMENTO: THAIS BAPTISTA MENELLI CAU/ES A181604-7 / BRUNA PEROVANO SIRTULI CAU/ES A187736-4"]
[]
["MÃO-DE-OBRA"]
["CÓD.","ORGÃO","DESCRIÇÃO",null,null,"UND","COEF","R$ UNIT.","R$ PARCIAL"]
["010115","DER-ES","ELETRICISTA (OFICIAL - SINDUSCON) (LABOR)",null,"Encargos Sociais: 157,27%","h",{"v":2.25,"d":"2.250"},21.35,{"$f":"TRUNC(ROUND(G12*H12,2),2)","v":{"v":48.04,"d":"R$ 48.04"}}]
["010139","DER-ES","PEDREIRO - (OFICIAL - SINDUSCON) (LABOR)",null,"Encargos Sociais: 157,27%","h",{"v":3.95,"d":"3.950"},21.35,{"$f":"TRUNC(ROUND(G13*H13,2),2)","v":{"v":84.33,"d":"R$ 84.33"}}]
["010101","DER-ES","AJUDANTE (AJUDANTE PRATICO - SINDUSCON)\n(LABOR)",null,"Encargos Sociais: 157,27%","h",{"$f":"2.25+9.95","v":{"v":12.2,"d":"12.200"}},18.01,{"$f":"TRUNC(ROUND(G14*H14,2),2)","v":{"v":219.72,"d":"R$ 219.72"}}]
["TOTAL A",{"$nulls":7},{"$f":"SUM(I12:I14)","v":{"v":352.09000000000003,"d":"352.09"}}]
[]
["MATERIAIS/ SERVIÇOS"]
["CÓD.","ORGÃO","DESCRIÇÃO",null,null,"UND","COEF","R$ UNIT.","R$ PARCIAL"]
["COTAÇÕES\nAtualizadas pelo INCC\nde julho/2022 para fevereiro/2023","MERCADO","POSTE GALVANIZADO H=4,00 m, COM DOIS BRAÇOS PARA LUMINÁRIA",null,null,"und",{"v":1,"d":"1.00"},{"v":1449.42,"d":"1,449.42"},{"$f":"TRUNC(ROUND(G19*H19,2),2)","v":{"v":1449.42,"d":"R$ 1,449.42"}}]
[null,"MERCADO","BATERIA ESTACIONÁRIA 150 A 250 AH",null,null,"und",{"v":1,"d":"1.00"},{"v":1494.07,"d":"1,494.07"},{"v":1494.07,"d":"R$ 1,494.07"}]
[null,"MERCADO","LUMINÁRIA LED 150 W - IP65 - IP67",null,null,"und",{"v":2,"d":"2.00"},423.81,{"v":847.62,"d":"R$ 847.62"}]
[null,"MERCADO","PAINEL SOLAR 210W A 285W",null,null,"und",{"v":1,"d":"1.00"},713.92,{"v":713.92,"d":"R$ 713.92"}]
[null,"MERCADO","CONTROLER PARA PLACA SOLAR 285 WP A 500 WP",null,null,"und",{"v":1,"d":"1.00"},{"v":418.7,"d":"418.70"},{"v":418.7,"d":"R$ 418.70"}]
[null,"MERCADO","QUADRO TIPO PAINEL COMANDO COM CHAVE TAMANHO MÉDIO 500 X 400 X 250 MM FECHAMENTO EMBORRACHADO - CEMAR OU SIMILAR",null,null,"und",{"v":1,"d":"1.00"},653.09,{"v":653.09,"d":"R$ 653.09"}]
["040320","DER-ES","FORNECIMENTO, PREPARO E APLICAÇÃO DE CONCRETO FCK=15 MPA (BRITA 1 E 2) - (5% DE PERDAS JÁ INCLUÍDO NO CUSTO)",null,null,"m³",{"v":3.825,"d":"3.83"},{"v":789.3,"d":"R$ 789.30"},{"v":3019.07,"d":"R$ 3,019.07"}]
["021517","DER-ES","ACO CA-50 DE 8.0MM",null,null,"kg",1.25,{"v":6.88,"d":"R$ 6.88"},{"v":8.6,"d":"R$ 8.60"}]
["TOTAL B",{"$nulls":7},{"$f":"SUM(I19:I26)","v":{"v":8604.49,"d":"R$ 8,604.49"}}]
[]
["EQUIPAMENTOS"]
["CÓD.","ORGÃO","DESCRIÇÃO",null,null,"UND","COEF","R$ UNIT.","R$ PARCIAL"]
[]
[]
["TOTAL C",{"$nulls":7},{"$f":"SUM(I31:I32)","v":{"v":0,"d":"R$ 0.00"}}]
[]
["RESUMO"]
["TOTAL  A",{"$nulls":7},{"$f":"I15","v":{"v":352.09000000000003,"d":"352.09"}}]
["TOTAL  B",{"$nulls":7},{"$f":"I27","v":{"v":8604.49,"d":"8,604.49"}}]
["TOTAL C ",{"$nulls":7},{"$f":"I33","v":0}]
["PREÇO DE VENDA= TOTAL (A+B+C)",{"$nulls":7},{"$f":"SUM(I36:I38)","v":{"v":8956.58,"d":"R$ 8,956.58"}}]

{"sheet":"ELE-03","index":19,"n_rows":33,"n_cols":9,"rows_kept":33,"merged":[[0,1,3,7],[0,8,1,8],[4,1,4,8],[5,1,5,8],[8,0,8,4],[9,0,9,8],[10,2,10,4],[11,2,11,3],[12,2,12,3],[13,2,13,4],[14,0,14,7],[16,0,16,8],[17,2,17,4],[18,2,18,4],[19,2,19,4],[20,0,20,7],[21,0,21,8],[22,0,22,8],[23,2,23,4],[24,2,24,4],[25,2,25,4],[26,0,26,7],[28,0,28,8],[29,0,29,7],[30,0,30,7],[31,0,31,7],[32,0,32,7]]}
[null,"COMPOSIÇÃO ANALÍTICA DE PREÇO UNITÁRIO",{"$nulls":6},"Data-base"]
[]
[{"$nulls":8},"JUL/22 e FEV/23"]
[{"$nulls":8},"ELE-03"]
["SERVIÇO:","RELÉ FOTOELÉTRICO PARA COMANDO DE ILUMINAÇÃO EXTERNA 1000 W - FORNECIMENTO E INSTALAÇÃO"]
["UND: ","und"]
["ORÇAMENTISTA: JULIANA MARETO AMBROZIM CREA: ES- 18536/D"]
["REVISÃO DO ORÇAMENTO: THAIS BAPTISTA MENELLI CAU/ES A181604-7 / BRUNA PEROVANO SIRTULI CAU/ES A187736-4"]
["Referência: SINAPI-ES 101632"]
["MÃO-DE-OBRA"]
["CÓD.","ORGÃO","DESCRIÇÃO",null,null,"UND","COEF","R$ UNIT.","R$ PARCIAL"]
[10115,"DER-ES","ELETRICISTA (OFICIAL - SINDUSCON) (LABOR)",null,"Encargos Sociais: 157,27%","h",0.168,21.35,{"$f":"TRUNC(ROUND(G12*H12,2),2)","v":{"v":3.59,"d":"R$ 3.59"}}]
[10101,"DER-ES","AJUDANTE (AJUDANTE PRATICO - SINDUSCON)\n(LABOR)",null,"Encargos Sociais: 157,27%","h",0.168,18.01,{"$f":"TRUNC(ROUND(G13*H13,2),2)","v":{"v":3.03,"d":"R$ 3.03"}}]
[]
["TOTAL A",{"$nulls":7},{"$f":"SUM(I12:I13)","v":{"v":6.619999999999999,"d":"6.62"}}]
[]
["MATERIAIS/ SERVIÇOS"]
["CÓD.","ORGÃO","DESCRIÇÃO",null,null,"UND","COEF","R$ UNIT.","R$ PARCIAL"]
[2510,"SINAPI","RELE FOTOELETRICO INTERNO E EXTERNO BIVOLT 1000 W, DE CONECTOR, SEM BASE",null,null,"und",{"v":1,"d":"1.00"},36.83,{"$f":"TRUNC(ROUND(G19*H19,2),2)","v":{"v":36.83,"d":"R$ 36.83"}}]
["049503","DER-ES","FITA ISOLANTE NR 33 - 19MM X 20M (LABOR)",null,null,"und",{"v":0.021,"d":"0.02"},28.83,{"$f":"TRUNC(ROUND(G20*H20,2),2)","v":{"v":0.61,"d":"R$ 0.61"}}]
["TOTAL B",{"$nulls":7},{"$f":"SUM(I19:I20)","v":{"v":37.44,"d":"R$ 37.44"}}]
[]
["EQUIPAMENTOS"]
["CÓD.","ORGÃO","DESCRIÇÃO",null,null,"UND","COEF","R$ UNIT.","R$ PARCIAL"]
[]
[]
["TOTAL C",{"$nulls":7},{"$f":"SUM(I25:I26)","v":{"v":0,"d":"R$ 0.00"}}]
[]
["RESUMO"]
["TOTAL  A",{"$nulls":7},{"$f":"I15","v":{"v":6.619999999999999,"d":"6.62"}}]
["TOTAL  B",{"$nulls":7},{"$f":"I21","v":37.44}]
["TOTAL C ",{"$nulls":7},{"$f":"I27","v":0}]
["PREÇO DE VENDA= TOTAL (A+B+C)",{"$nulls":7},{"$f":"SUM(I30:I32)","v":{"v":44.059999999999995,"d":"R$ 44.06"}}]