Workbook

Sheet RESUMO
A1: PREFEITURA MUNICIPAL DE JOÃO NEIVA
A2: RESUMO
B4: OBRA: CONSTRUÇÃO DE ACESSO ENTRE OS BLOCOS E FORNECIMENTO E INSTALAÇÃO DE PLATAFORMA ELEVATÓRIA PARA ACESSIBILIDADE NA EMEIF JOSÉ REBUZZI SARCINELLI LOCALIZADA NO MUNICÍPIO DE JOÃO NEIVA/ES | E4: L. SOCIAIS: | F4: 1.5727 | G4: TABELA DE REFERÊNCIA: DER/ES Edificações / SINAPI-ES
B5: LOCAL: BAIRRO CRISTAL, JOÃO NEIVA-ES | E5: BDI: | F5: 33,25% | H5: DATA-BASE: | I5: Data base: dez/2025
B6: ORÇAMENTISTA: ARQ./URB. BRUNA PEROVANO SIRTULI CAU-ES A187736-4 / ARQ./URB. THAÍS BAPTISTA CAU-ES A181604-7 | E6: BDI DIF. | F6: 0.1557
A7: ITEM | B7: CÓDIGO | C7: ORGÃO | D7: DESCRIÇÃO SERVIÇO | E7: UNIDADE | F7: QUANTIDADE | G7: CUSTO (R$)
G8: UNITÁRIO | H8: UNITÁRIO C/ BDI | I8: TOTAL
A9: 1 | B9: 01 | D9: =VLOOKUP(J9,'SERVIÇOS DER 12-25'!A12:G1503,3,0) -> SERVIÇOS PRELIMINARES | I9: =I30 -> 13009.84 | J9: 1
A10: 1.1 | B10: 0102 | C10: DER-ES | D10: =VLOOKUP(J10,'SERVIÇOS DER 12-25'!A13:G1504,3,0) -> DEMOLIÇÕES E RETIRADAS | J10: 102
A11: 1.1.1 | B11: 010201 | C11: DER-ES | D11: =VLOOKUP(J11,'SERVIÇOS DER 12-25'!A14:G1505,3,0) -> Demolição manual de piso cimentado espessura de 1,5 cm, inclusive lastro de concreto espessura de 6,0 cm, sem reaproveitamento | E11: =VLOOKUP(J11,'SERVIÇOS DER 12-25'!A14:G1505,4,0) -> m2 | F11: =MC!J12 -> 30.1 | G11: =VLOOKUP(J11,'SERVIÇOS DER 12-25'!A14:G1505,6,0) -> 16.92 | H11: =TRUNC(ROUND((1+$F$5)*G11,2),2) -> 22.55 | I11: =TRUNC(ROUND(F11*H11,2),2) -> 678.76 | J11: 10201 | K11: =I11/$I$196 -> 0.0013735153
A12: 1.1.2 | B12: 010202 | C12: DER-ES | D12: =VLOOKUP(J12,'SERVIÇOS DER 12-25'!A15:G1506,3,0) -> Demolição manual de revestimento cerâmico/porcelanato (pisos), exclusive lastro, sem reaproveitamento | E12: =VLOOKUP(J12,'SERVIÇOS DER 12-25'!A15:G1506,4,0) -> m2 | F12: =MC!J19 -> 23.04 | G12: =VLOOKUP(J12,'SERVIÇOS DER 12-25'!A15:G1506,6,0) -> 21.13 | H12: =TRUNC(ROUND((1+$F$5)*G12,2),2) -> 28.16 | I12: =TRUNC(ROUND(F12*H12,2),2) -> 648.81 | J12: 10202 | K12: =I12/$I$196 -> 0.0013129095
A13: 1.1.3 | B13: 010203 | C13: DER-ES | D13: =VLOOKUP(J13,'SERVIÇOS DER 12-25'!A16:G1507,3,0) -> Demolição manual de revestimento cerâmico/porcelanato (pisos), inclusive lastro de concreto espessura de 6,0 cm, sem reaproveitamento | E13: =VLOOKUP(J13,'SERVIÇOS DER 12-25'!A16:G1507,4,0) -> m2 | F13: =MC!J23 -> 25.18 | G13: =VLOOKUP(J13,'SERVIÇOS DER 12-25'!A16:G1507,6,0) -> 34.67 | H13: =TRUNC(ROUND((1+$F$5)*G13,2),2) -> 46.2 | I13: =TRUNC(ROUND(F13*H13,2),2) -> 1163.32 | J13: 10203 | K13: =I13/$I$196 -> 0.0023540541
A14: 1.1.4 | B14: 010208 | C14: DER-ES | D14: =VLOOKUP(J14,'SERVIÇOS DER 12-25'!A17:G1508,3,0) -> Retirada manual de revestimento em argamassa cimento e areia (emboço e reboco), sem reaproveitamento | E14: =VLOOKUP(J14,'SERVIÇOS DER 12-25'!A17:G1508,4,0) -> m2 | F14: =MC!J29 -> 42.13 | G14: =VLOOKUP(J14,'SERVIÇOS DER 12-25'!A17:G1508,6,0) -> 10.73 | H14: =TRUNC(ROUND((1+$F$5)*G14,2),2) -> 14.3 | I14: =TRUNC(ROUND(F14*H14,2),2) -> 602.46 | J14: 10208 | K14: =I14/$I$196 -> 0.0012191172
A15: 1.1.5 | B15: 010209 | C15: DER-ES | D15: =VLOOKUP(J15,'SERVIÇOS DER 12-25'!A18:G1509,3,0) -> Demolição manual de alvenaria de bloco furado (cerâmico), sem reaproveitamento | E15: =VLOOKUP(J15,'SERVIÇOS DER 12-25'!A18:G1509,4,0) -> m3 | F15: =MC!J36 -> 1.55 | G15: =VLOOKUP(J15,'SERVIÇOS DER 12-25'!A18:G1509,6,0) -> 59.61 | H15: =TRUNC(ROUND((1+$F$5)*G15,2),2) -> 79.43 | I15: =TRUNC(ROUND(F15*H15,2),2) -> 123.12 | J15: 10209 | K15: =I15/$I$196 -> 0.00024914138
A16: 1.1.6 | B16: 010210 | C16: DER-ES | D16: =VLOOKUP(J16,'SERVIÇOS DER 12-25'!A19:G1510,3,0) -> Demolição manual de concreto simples, sem reaproveitamento | E16: =VLOOKUP(J16,'SERVIÇOS DER 12-25'!A19:G1510,4,0) -> m3 | F16: =MC!J41 -> 5.55 | G16: =VLOOKUP(J16,'SERVIÇOS DER 12-25'!A19:G1510,6,0) -> 225.81 | H16: =TRUNC(ROUND((1+$F$5)*G16,2),2) -> 300.89 | I16: =TRUNC(ROUND(F16*H16,2),2) -> 1669.94 | J16: 10210 | K16: =I16/$I$196 -> 0.0033792329
A17: 1.1.7 | B17: 010213 | C17: DER-ES | D17: =VLOOKUP(J17,'SERVIÇOS DER 12-25'!A20:G1511,3,0) -> Retirada manual cuidadosa de blocos pré-moldados de concreto (Blokret), inclusive limpeza e empilhamento para reaproveitamento | E17: =VLOOKUP(J17,'SERVIÇOS DER 12-25'!A20:G1511,4,0) -> m2 | F17: =MC!J46 -> 33.42 | G17: =VLOOKUP(J17,'SERVIÇOS DER 12-25'!A20:G1511,6,0) -> 17.93 | H17: =TRUNC(ROUND((1+$F$5)*G17,2),2) -> 23.89 | I17: =TRUNC(ROUND(F17*H17,2),2) -> 798.4 | J17: 10213 | K17: =I17/$I$196 -> 0.0016156146
A18: 1.1.8 | B18: 010214 | C18: DER-ES | D18: =VLOOKUP(J18,'SERVIÇOS DER 12-25'!A21:G1512,3,0) -> Retirada manual de portas e janelas de madeira, inclusive batentes (marcos), sem reaproveitamento | E18: =VLOOKUP(J18,'SERVIÇOS DER 12-25'!A21:G1512,4,0) -> m2 | F18: =MC!J50 -> 2.52 | G18: =VLOOKUP(J18,'SERVIÇOS DER 12-25'!A21:G1512,6,0) -> 23.54 | H18: =TRUNC(ROUND((1+$F$5)*G18,2),2) -> 31.37 | I18: =TRUNC(ROUND(F18*H18,2),2) -> 79.05 | J18: 10214 | K18: =I18/$I$196 -> 0.00015996285
A19: 1.1.9 | B19: 010219 | C19: DER-ES | D19: =VLOOKUP(J19,'SERVIÇOS DER 12-25'!A22:G1513,3,0) -> Demolição manual de concreto armado, sem reaproveitamento | E19: =VLOOKUP(J19,'SERVIÇOS DER 12-25'!A22:G1513,4,0) -> m3 | F19: =MC!J54 -> 0.1 | G19: =VLOOKUP(J19,'SERVIÇOS DER 12-25'!A22:G1513,6,0) -> 260.73 | H19: =TRUNC(ROUND((1+$F$5)*G19,2),2) -> 347.42 | I19: =TRUNC(ROUND(F19*H19,2),2) -> 34.74 | J19: 10219 | K19: =I19/$I$196 -> 7.0298663e-05
A20: 1.1.10 | B20: 010224 | C20: DER-ES | D20: =VLOOKUP(J20,'SERVIÇOS DER 12-25'!A23:G1514,3,0) -> Retirada manual de grades, gradis, alambrados, cercas e portões metálicos, inclusive remoção de argamassa de chumbamento, acessórios de fixação e corte de soldas | E20: =VLOOKUP(J20,'SERVIÇOS DER 12-25'!A23:G1514,4,0) -> m2 | F20: =MC!J60 -> 29.57 | G20: =VLOOKUP(J20,'SERVIÇOS DER 12-25'!A23:G1514,6,0) -> 13.7 | H20: =TRUNC(ROUND((1+$F$5)*G20,2),2) -> 18.26 | I20: =TRUNC(ROUND(F20*H20,2),2) -> 539.95 | J20: 10224 | K20: =I20/$I$196 -> 0.0010926242
A21: 1.1.11 | B21: 010225 | C21: DER-ES | D21: =VLOOKUP(J21,'SERVIÇOS DER 12-25'!A24:G1515,3,0) -> Retirada de bancada em granito, inclusive remoção de rodabanca e cantoneiras de fixação, sem reaproveitamento | E21: =VLOOKUP(J21,'SERVIÇOS DER 12-25'!A24:G1515,4,0) -> m2 | F21: =MC!J64 -> 0.83 | G21: =VLOOKUP(J21,'SERVIÇOS DER 12-25'!A24:G1515,6,0) -> 35.29 | H21: =TRUNC(ROUND((1+$F$5)*G21,2),2) -> 47.02 | I21: =TRUNC(ROUND(F21*H21,2),2) -> 39.03 | J21: 10225 | K21: =I21/$I$196 -> 7.8979759e-05
A22: 1.1.12 | B22: 010246 | C22: DER-ES | D22: =VLOOKUP(J22,'SERVIÇOS DER 12-25'!A25:G1516,3,0) -> Lixamento manual de parede com pintura PVA para nivelamento e preparo da superfície para recebimento de nova camada de tinta | E22: =VLOOKUP(J22,'SERVIÇOS DER 12-25'!A25:G1516,4,0) -> m2 | F22: =MC!J75 -> 304.74 | G22: =VLOOKUP(J22,'SERVIÇOS DER 12-25'!A25:G1516,6,0) -> 5.04 | H22: =TRUNC(ROUND((1+$F$5)*G22,2),2) -> 6.72 | I22: =TRUNC(ROUND(F22*H22,2),2) -> 2047.85 | J22: 10246 | K22: =I22/$I$196 -> 0.0041439585
A23: 1.1.13 | B23: 010255 | C23: DER-ES | D23: =VLOOKUP(J23,'SERVIÇOS DER 12-25'!A26:G1517,3,0) -> Remoção manual de telhas cerâmicas, tipo colonial, inclusive cumeeira, sem reaproveitamento | E23: =VLOOKUP(J23,'SERVIÇOS DER 12-25'!A26:G1517,4,0) -> m2 | F23: =MC!J79 -> 15.9 | G23: =VLOOKUP(J23,'SERVIÇOS DER 12-25'!A26:G1517,6,0) -> 15.67 | H23: =TRUNC(ROUND((1+$F$5)*G23,2),2) -> 20.88 | I23: =TRUNC(ROUND(F23*H23,2),2) -> 331.99 | J23: 10255 | K23: =I23/$I$196 -> 0.00067180349
A24: 1.1.14 | B24: 010256 | C24: DER-ES | D24: =VLOOKUP(J24,'SERVIÇOS DER 12-25'!A27:G1518,3,0) -> Remoção manual de telhas ondulada de fibrocimento, inclusive cumeeira, sem reaproveitamento | E24: =VLOOKUP(J24,'SERVIÇOS DER 12-25'!A27:G1518,4,0) -> m2 | F24: =MC!J83 -> 29.87 | G24: =VLOOKUP(J24,'SERVIÇOS DER 12-25'!A27:G1518,6,0) -> 3.42 | H24: =TRUNC(ROUND((1+$F$5)*G24,2),2) -> 4.56 | I24: =TRUNC(ROUND(F24*H24,2),2) -> 136.21 | J24: 10256 | K24: =I24/$I$196 -> 0.00027562985
A25: 1.1.15 | B25: 010280 | C25: DER-ES | D25: =VLOOKUP(J25,'SERVIÇOS DER 12-25'!A28:G1519,3,0) -> Remoção manual de telha metálica, exclusive trama, sem reaproveitamento | E25: =VLOOKUP(J25,'SERVIÇOS DER 12-25'!A28:G1519,4,0) -> m2 | F25: =MC!J87 -> 17.65 | G25: =VLOOKUP(J25,'SERVIÇOS DER 12-25'!A28:G1519,6,0) -> 3.42 | H25: =TRUNC(ROUND((1+$F$5)*G25,2),2) -> 4.56 | I25: =TRUNC(ROUND(F25*H25,2),2) -> 80.48 | J25: 10280 | K25: =I25/$I$196 -> 0.00016285655
A26: 1.1.16 | B26: 010326 | C26: DER-ES | D26: =VLOOKUP(J26,'SERVIÇOS DER 12-25'!A29:G1520,3,0) -> Remoção manual de trama de madeira para cobertura, com reaproveitamento | E26: =VLOOKUP(J26,'SERVIÇOS DER 12-25'!A29:G1520,4,0) -> m2 | F26: =MC!J92 -> 45.77 | G26: =VLOOKUP(J26,'SERVIÇOS DER 12-25'!A29:G1520,6,0) -> 31.9 | H26: =TRUNC(ROUND((1+$F$5)*G26,2),2) -> 42.51 | I26: =TRUNC(ROUND(F26*H26,2),2) -> 1945.68 | J26: 10326 | K26: =I26/$I$196 -> 0.0039372108
A27: 1.1.17 | B27: COMP-01 | D27: Remoção de trama metálica para cobertura, de forma manual, sem reaproveitamento | E27: m2 | F27: =MC!J96 -> 17.65 | G27: ='COMP-01'!I30 -> 36.717012 | H27: =TRUNC(ROUND((1+$F$5)*G27,2),2) -> 48.93 | I27: =TRUNC(ROUND(F27*H27,2),2) -> 863.61 | K27: =I27/$I$196 -> 0.0017475713
A28: 1.2 | B28: 0105 | C28: DER-ES | D28: =VLOOKUP(J28,'SERVIÇOS DER 12-25'!A31:G1522,3,0) -> LOCAÇÃO | J28: 105 | K28: =I28/$I$196 -> 0
A29: 1.2.1 | B29: 010501 | C29: DER-ES | D29: =VLOOKUP(J29,'SERVIÇOS DER 12-25'!A32:G1523,3,0) -> Locação de obra com gabarito de madeira | E29: =VLOOKUP(J29,'SERVIÇOS DER 12-25'!A32:G1523,4,0) -> m2 | F29: =MC!J100 -> 75.8 | G29: =VLOOKUP(J29,'SERVIÇOS DER 12-25'!A32:G1523,6,0) -> 12.14 | H29: =TRUNC(ROUND((1+$F$5)*G29,2),2) -> 16.18 | I29: =TRUNC(ROUND(F29*H29,2),2) -> 1226.44 | J29: 10501 | K29: =I29/$I$196 -> 0.0024817816
D30: SUB-TOTAL 01 | I30: =SUM(I10:I29) -> 13009.84
A31: 2 | B31: 02 | D31: =VLOOKUP(J31,'SERVIÇOS DER 12-25'!A34:G1525,3,0) -> INSTALAÇÃO DO CANTEIRO DE OBRAS | I31: =I44 -> 53036.71 | J31: 2
A32: 2.1 | B32: 0203 | C32: DER-ES | D32: =VLOOKUP(J32,'SERVIÇOS DER 12-25'!A35:G1526,3,0) -> TAPUMES, BARRACÕES E COBERTURAS | J32: 203
A33: 2.1.1 | B33: 020305 | C33: DER-ES | D33: =VLOOKUP(J33,'SERVIÇOS DER 12-25'!A36:G1527,3,0) -> Placa de obra nas dimensões de 2.0 x 4.0 m, padrão DER | E33: =VLOOKUP(J33,'SERVIÇOS DER 12-25'!A36:G1527,4,0) -> m2 | F33: =MC!J106 -> 8 | G33: =VLOOKUP(J33,'SERVIÇOS DER 12-25'!A36:G1527,6,0) -> 241.93 | H33: =TRUNC(ROUND((1+$F$5)*G33,2),2) -> 322.37 | I33: =TRUNC(ROUND(F33*H33,2),2) -> 2578.96 | J33: 20305 | K33: =I33/$I$196 -> 0.0052186943
A34: 2.1.2 | B34: 020350 | C34: DER-ES | D34: =VLOOKUP(J34,'SERVIÇOS DER 12-25'!A37:G1528,3,0) -> Tapume Telha Metálica Ondulada em aço galvalume 0,50mm Branca h=2,20m, incl. montagem estr. mad. 8"x8", c/adesivo "DER-ES" 60x60cm a cada 10m, incl. faixas pint. esmalte sint. cores azul c/ h=30cm e rosa c/ h=10cm (Reaproveitamento 2x) | E34: =VLOOKUP(J34,'SERVIÇOS DER 12-25'!A37:G1528,4,0) -> m | F34: =MC!J110 -> 10 | G34: =VLOOKUP(J34,'SERVIÇOS DER 12-25'!A37:G1528,6,0) -> 142.25 | H34: =TRUNC(ROUND((1+$F$5)*G34,2),2) -> 189.55 | I34: =TRUNC(ROUND(F34*H34,2),2) -> 1895.5 | J34: 20350 | K34: =I34/$I$196 -> 0.0038356683
A35: 2.1.3 | B35: 020352 | C35: DER-ES | D35: =VLOOKUP(J35,'SERVIÇOS DER 12-25'!A38:G1529,3,0) -> Aluguel mensal container para escritório, dim. 6.00x2.40m, c/ banheiro (vaso+lavat+chuveiro e básc), incl. porta, 2 janelas, abert p/ ar cond., 2 pt iluminação, 2 tom. elét. e 1 tom.telef. Isolam.térmico(teto e paredes), piso em comp. Naval, cert. NR18, incl. laudo descontaminação. | E35: =VLOOKUP(J35,'SERVIÇOS DER 12-25'!A38:G1529,4,0) -> ms | F35: =MC!J114 -> 6 | G35: =VLOOKUP(J35,'SERVIÇOS DER 12-25'!A38:G1529,6,0) -> 1232.33 | H35: =TRUNC(ROUND((1+$F$5)*G35,2),2) -> 1642.08 | I35: =TRUNC(ROUND(F35*H35,2),2) -> 9852.48 | J35: 20352 | K35: =I35/$I$196 -> 0.019937138
A36: 2.1.4 | B36: 020344 | C36: DER-ES | D36: =VLOOKUP(J36,'SERVIÇOS DER 12-25'!A39:G1530,3,0) -> Mobilização e desmobilização de conteiner locado para barracão de obra | E36: =VLOOKUP(J36,'SERVIÇOS DER 12-25'!A39:G1530,4,0) -> und | F36: =MC!J118 -> 2 | G36: =VLOOKUP(J36,'SERVIÇOS DER 12-25'!A39:G1530,6,0) -> 1766.67 | H36: =TRUNC(ROUND((1+$F$5)*G36,2),2) -> 2354.09 | I36: =TRUNC(ROUND(F36*H36,2),2) -> 4708.18 | J36: 20344 | K36: =I36/$I$196 -> 0.0095273103
A37: 2.1.5 | B37: 020339 | C37: DER-ES | D37: =VLOOKUP(J37,'SERVIÇOS DER 12-25'!A40:G1531,3,0) -> Locação de andaime metálico para trabalho em fachada de edifíco (aluguel de 1 m² por 1 mês) inclusive frete, montagem e desmontagem | E37: =VLOOKUP(J37,'SERVIÇOS DER 12-25'!A40:G1531,4,0) -> m2 | F37: =MC!J122 -> 189.42 | G37: =VLOOKUP(J37,'SERVIÇOS DER 12-25'!A40:G1531,6,0) -> 26.21 | H37: =TRUNC(ROUND((1+$F$5)*G37,2),2) -> 34.92 | I37: =TRUNC(ROUND(F37*H37,2),2) -> 6614.55 | J37: 20339 | K37: =I37/$I$196 -> 0.013384975
A38: 2.2 | B38: 0207 | C38: DER-ES | D38: =VLOOKUP(J38,'SERVIÇOS DER 12-25'!A41:G1532,3,0) -> INSTALAÇÃO DO CANTEIRO DE OBRAS (UTILIZAÇÃO 1 VEZ), PROJETO PADRÃO LABOR - NR.18 (OBRAS COM PRAZO DE EXECUÇÃO SUPERIOR A 12 MESES) | J38: 207 | K38: =I38/$I$196 -> 0
A39: 2.2.1 | B39: 020713 | C39: DER-ES | D39: =VLOOKUP(J39,'SERVIÇOS DER 12-25'!A42:G1533,3,0) -> Rede de luz, incl. padrão entrada de energia trifás., cabo de ligação até barracões, quadro de distrib., disj. e chave de força (quando necessário), cons. 20m entre padrão entrada e QDG, conf. projeto (1 utilização) | E39: =VLOOKUP(J39,'SERVIÇOS DER 12-25'!A42:G1533,4,0) -> m | F39: =MC!J127 -> 20 | G39: =VLOOKUP(J39,'SERVIÇOS DER 12-25'!A42:G1533,6,0) -> 486.77 | H39: =TRUNC(ROUND((1+$F$5)*G39,2),2) -> 648.62 | I39: =TRUNC(ROUND(F39*H39,2),2) -> 12972.4 | J39: 20713 | K39: =I39/$I$196 -> 0.0262505
A40: 2.2.2 | B40: 020714 | C40: DER-ES | D40: =VLOOKUP(J40,'SERVIÇOS DER 12-25'!A43:G1534,3,0) -> Rede de esgoto, contendo fossa e filtro, inclusive tubos e conexões de ligação entre caixas, considerando distância de 25m, conforme projeto (1 utilização) | E40: =VLOOKUP(J40,'SERVIÇOS DER 12-25'!A43:G1534,4,0) -> m | F40: =MC!J131 -> 20 | G40: =VLOOKUP(J40,'SERVIÇOS DER 12-25'!A43:G1534,6,0) -> 449.64 | H40: =TRUNC(ROUND((1+$F$5)*G40,2),2) -> 599.15 | I40: =TRUNC(ROUND(F40*H40,2),2) -> 11983 | J40: 20714 | K40: =I40/$I$196 -> 0.024248385
A41: 2.3 | B41: 0208 | C41: DER-ES | D41: =VLOOKUP(J41,'SERVIÇOS DER 12-25'!A44:G1535,3,0) -> INSTALAÇÃO DO CANTEIRO DE OBRAS (UTILIZAÇÃO 2 VEZES), PROJETO PADRÃO LABOR - NR.18 (OBRAS COM PRAZO DE EXECUÇÃO DE 6 A 12 MESES) | J41: 208 | K41: =I41/$I$196 -> 0
...

Sheet PLANILHA ORÇAMENTÁRIA
A1: PREFEITURA MUNICIPAL DE JOÃO NEIVA
A2: PLANILHA ORÇAMENTÁRIA
B4: OBRA: CONSTRUÇÃO DE ACESSO ENTRE OS BLOCOS E FORNECIMENTO E INSTALAÇÃO DE PLATAFORMA ELEVATÓRIA PARA ACESSIBILIDADE NA EMEIF JOSÉ REBUZZI SARCINELLI LOCALIZADA NO MUNICÍPIO DE JOÃO NEIVA/ES | E4: L. SOCIAIS: | F4: 1.5727 | G4: TABELA DE REFERÊNCIA: DER/ES Edificações / SINAPI-ES
B5: LOCAL: BAIRRO CRISTAL, JOÃO NEIVA-ES | E5: BDI: | F5: 33,25% | H5: DATA-BASE: | I5: 45992
B6: ORÇAMENTISTA: ARQ./URB. BRUNA PEROVANO SIRTULI CAU-ES A187736-4 / ARQ./URB. THAÍS BAPTISTA CAU-ES A181604-7 | E6: BDI DIF. | F6: 0.1557
A7: ITEM | B7: CÓDIGO | C7: ORGÃO | D7: DESCRIÇÃO SERVIÇO | E7: UNIDADE | F7: QUANTIDADE | G7: CUSTO (R$)
G8: UNITÁRIO | H8: UNITÁRIO C/ BDI | I8: TOTAL
A9: 1 | B9: 01 | D9: =VLOOKUP(J9,'SERVIÇOS DER 12-25'!A12:G1503,3,0) -> SERVIÇOS PRELIMINARES | J9: 1
A10: 1.1 | B10: 0102 | C10: DER-ES | D10: =VLOOKUP(J10,'SERVIÇOS DER 12-25'!A13:G1504,3,0) -> DEMOLIÇÕES E RETIRADAS | J10: 102
A11: 1.1.1 | B11: 010201 | C11: DER-ES | D11: =VLOOKUP(J11,'SERVIÇOS DER 12-25'!A14:G1505,3,0) -> Demolição manual de piso cimentado espessura de 1,5 cm, inclusive lastro de concreto espessura de 6,0 cm, sem reaproveitamento | E11: =VLOOKUP(J11,'SERVIÇOS DER 12-25'!A14:G1505,4,0) -> m2 | F11: =MC!J12 -> 30.1 | G11: =VLOOKUP(J11,'SERVIÇOS DER 12-25'!A14:G1505,6,0) -> 16.92 | H11: =TRUNC(ROUND((1+$F$5)*G11,2),2) -> 22.55 | I11: =TRUNC(ROUND(F11*H11,2),2) -> 678.76 | J11: 10201 | K11: =I11/$I$196 -> 0.0013735153
A12: 1.1.2 | B12: 010202 | C12: DER-ES | D12: =VLOOKUP(J12,'SERVIÇOS DER 12-25'!A15:G1506,3,0) -> Demolição manual de revestimento cerâmico/porcelanato (pisos), exclusive lastro, sem reaproveitamento | E12: =VLOOKUP(J12,'SERVIÇOS DER 12-25'!A15:G1506,4,0) -> m2 | F12: =MC!J19 -> 23.04 | G12: =VLOOKUP(J12,'SERVIÇOS DER 12-25'!A15:G1506,6,0) -> 21.13 | H12: =TRUNC(ROUND((1+$F$5)*G12,2),2) -> 28.16 | I12: =TRUNC(ROUND(F12*H12,2),2) -> 648.81 | J12: 10202 | K12: =I12/$I$196 -> 0.0013129095
A13: 1.1.3 | B13: 010203 | C13: DER-ES | D13: =VLOOKUP(J13,'SERVIÇOS DER 12-25'!A16:G1507,3,0) -> Demolição manual de revestimento cerâmico/porcelanato (pisos), inclusive lastro de concreto espessura de 6,0 cm, sem reaproveitamento | E13: =VLOOKUP(J13,'SERVIÇOS DER 12-25'!A16:G1507,4,0) -> m2 | F13: =MC!J23 -> 25.18 | G13: =VLOOKUP(J13,'SERVIÇOS DER 12-25'!A16:G1507,6,0) -> 34.67 | H13: =TRUNC(ROUND((1+$F$5)*G13,2),2) -> 46.2 | I13: =TRUNC(ROUND(F13*H13,2),2) -> 1163.32 | J13: 10203 | K13: =I13/$I$196 -> 0.0023540541
A14: 1.1.4 | B14: 010208 | C14: DER-ES | D14: =VLOOKUP(J14,'SERVIÇOS DER 12-25'!A17:G1508,3,0) -> Retirada manual de revestimento em argamassa cimento e areia (emboço e reboco), sem reaproveitamento | E14: =VLOOKUP(J14,'SERVIÇOS DER 12-25'!A17:G1508,4,0) -> m2 | F14: =MC!J29 -> 42.13 | G14: =VLOOKUP(J14,'SERVIÇOS DER 12-25'!A17:G1508,6,0) -> 10.73 | H14: =TRUNC(ROUND((1+$F$5)*G14,2),2) -> 14.3 | I14: =TRUNC(ROUND(F14*H14,2),2) -> 602.46 | J14: 10208 | K14: =I14/$I$196 -> 0.0012191172
A15: 1.1.5 | B15: 010209 | C15: DER-ES | D15: =VLOOKUP(J15,'SERVIÇOS DER 12-25'!A18:G1509,3,0) -> Demolição manual de alvenaria de bloco furado (cerâmico), sem reaproveitamento | E15: =VLOOKUP(J15,'SERVIÇOS DER 12-25'!A18:G1509,4,0) -> m3 | F15: =MC!J36 -> 1.55 | G15: =VLOOKUP(J15,'SERVIÇOS DER 12-25'!A18:G1509,6,0) -> 59.61 | H15: =TRUNC(ROUND((1+$F$5)*G15,2),2) -> 79.43 | I15: =TRUNC(ROUND(F15*H15,2),2) -> 123.12 | J15: 10209 | K15: =I15/$I$196 -> 0.00024914138
A16: 1.1.6 | B16: 010210 | C16: DER-ES | D16: =VLOOKUP(J16,'SERVIÇOS DER 12-25'!A19:G1510,3,0) -> Demolição manual de concreto simples, sem reaproveitamento | E16: =VLOOKUP(J16,'SERVIÇOS DER 12-25'!A19:G1510,4,0) -> m3 | F16: =MC!J41 -> 5.55 | G16: =VLOOKUP(J16,'SERVIÇOS DER 12-25'!A19:G1510,6,0) -> 225.81 | H16: =TRUNC(ROUND((1+$F$5)*G16,2),2) -> 300.89 | I16: =TRUNC(ROUND(F16*H16,2),2) -> 1669.94 | J16: 10210 | K16: =I16/$I$196 -> 0.0033792329
A17: 1.1.7 | B17: 010213 | C17: DER-ES | D17: =VLOOKUP(J17,'SERVIÇOS DER 12-25'!A20:G1511,3,0) -> Retirada manual cuidadosa de blocos pré-moldados de concreto (Blokret), inclusive limpeza e empilhamento para reaproveitamento | E17: =VLOOKUP(J17,'SERVIÇOS DER 12-25'!A20:G1511,4,0) -> m2 | F17: =MC!J46 -> 33.42 | G17: =VLOOKUP(J17,'SERVIÇOS DER 12-25'!A20:G1511,6,0) -> 17.93 | H17: =TRUNC(ROUND((1+$F$5)*G17,2),2) -> 23.89 | I17: =TRUNC(ROUND(F17*H17,2),2) -> 798.4 | J17: 10213 | K17: =I17/$I$196 -> 0.0016156146
A18: 1.1.8 | B18: 010214 | C18: DER-ES | D18: =VLOOKUP(J18,'SERVIÇOS DER 12-25'!A21:G1512,3,0) -> Retirada manual de portas e janelas de madeira, inclusive batentes (marcos), sem reaproveitamento | E18: =VLOOKUP(J18,'SERVIÇOS DER 12-25'!A21:G1512,4,0) -> m2 | F18: =MC!J50 -> 2.52 | G18: =VLOOKUP(J18,'SERVIÇOS DER 12-25'!A21:G1512,6,0) -> 23.54 | H18: =TRUNC(ROUND((1+$F$5)*G18,2),2) -> 31.37 | I18: =TRUNC(ROUND(F18*H18,2),2) -> 79.05 | J18: 10214 | K18: =I18/$I$196 -> 0.00015996285
A19: 1.1.9 | B19: 010219 | C19: DER-ES | D19: =VLOOKUP(J19,'SERVIÇOS DER 12-25'!A22:G1513,3,0) -> Demolição manual de concreto armado, sem reaproveitamento | E19: =VLOOKUP(J19,'SERVIÇOS DER 12-25'!A22:G1513,4,0) -> m3 | F19: =MC!J54 -> 0.1 | G19: =VLOOKUP(J19,'SERVIÇOS DER 12-25'!A22:G1513,6,0) -> 260.73 | H19: =TRUNC(ROUND((1+$F$5)*G19,2),2) -> 347.42 | I19: =TRUNC(ROUND(F19*H19,2),2) -> 34.74 | J19: 10219 | K19: =I19/$I$196 -> 7.0298663e-05
A20: 1.1.10 | B20: 010224 | C20: DER-ES | D20: =VLOOKUP(J20,'SERVIÇOS DER 12-25'!A23:G1514,3,0) -> Retirada manual de grades, gradis, alambrados, cercas e portões metálicos, inclusive remoção de argamassa de chumbamento, acessórios de fixação e corte de soldas | E20: =VLOOKUP(J20,'SERVIÇOS DER 12-25'!A23:G1514,4,0) -> m2 | F20: =MC!J60 -> 29.57 | G20: =VLOOKUP(J20,'SERVIÇOS DER 12-25'!A23:G1514,6,0) -> 13.7 | H20: =TRUNC(ROUND((1+$F$5)*G20,2),2) -> 18.26 | I20: =TRUNC(ROUND(F20*H20,2),2) -> 539.95 | J20: 10224 | K20: =I20/$I$196 -> 0.0010926242
A21: 1.1.11 | B21: 010225 | C21: DER-ES | D21: =VLOOKUP(J21,'SERVIÇOS DER 12-25'!A24:G1515,3,0) -> Retirada de bancada em granito, inclusive remoção de rodabanca e cantoneiras de fixação, sem reaproveitamento | E21: =VLOOKUP(J21,'SERVIÇOS DER 12-25'!A24:G1515,4,0) -> m2 | F21: =MC!J64 -> 0.83 | G21: =VLOOKUP(J21,'SERVIÇOS DER 12-25'!A24:G1515,6,0) -> 35.29 | H21: =TRUNC(ROUND((1+$F$5)*G21,2),2) -> 47.02 | I21: =TRUNC(ROUND(F21*H21,2),2) -> 39.03 | J21: 10225 | K21: =I21/$I$196 -> 7.8979759e-05
A22: 1.1.12 | B22: 010246 | C22: DER-ES | D22: =VLOOKUP(J22,'SERVIÇOS DER 12-25'!A25:G1516,3,0) -> Lixamento manual de parede com pintura PVA para nivelamento e preparo da superfície para recebimento de nova camada de tinta | E22: =VLOOKUP(J22,'SERVIÇOS DER 12-25'!A25:G1516,4,0) -> m2 | F22: =MC!J75 -> 304.74 | G22: =VLOOKUP(J22,'SERVIÇOS DER 12-25'!A25:G1516,6,0) -> 5.04 | H22: =TRUNC(ROUND((1+$F$5)*G22,2),2) -> 6.72 | I22: =TRUNC(ROUND(F22*H22,2),2) -> 2047.85 | J22: 10246 | K22: =I22/$I$196 -> 0.0041439585
A23: 1.1.13 | B23: 010255 | C23: DER-ES | D23: =VLOOKUP(J23,'SERVIÇOS DER 12-25'!A26:G1517,3,0) -> Remoção manual de telhas cerâmicas, tipo colonial, inclusive cumeeira, sem reaproveitamento | E23: =VLOOKUP(J23,'SERVIÇOS DER 12-25'!A26:G1517,4,0) -> m2 | F23: =MC!J79 -> 15.9 | G23: =VLOOKUP(J23,'SERVIÇOS DER 12-25'!A26:G1517,6,0) -> 15.67 | H23: =TRUNC(ROUND((1+$F$5)*G23,2),2) -> 20.88 | I23: =TRUNC(ROUND(F23*H23,2),2) -> 331.99 | J23: 10255 | K23: =I23/$I$196 -> 0.00067180349
A24: 1.1.14 | B24: 010256 | C24: DER-ES | D24: =VLOOKUP(J24,'SERVIÇOS DER 12-25'!A27:G1518,3,0) -> Remoção manual de telhas ondulada de fibrocimento, inclusive cumeeira, sem reaproveitamento | E24: =VLOOKUP(J24,'SERVIÇOS DER 12-25'!A27:G1518,4,0) -> m2 | F24: =MC!J83 -> 29.87 | G24: =VLOOKUP(J24,'SERVIÇOS DER 12-25'!A27:G1518,6,0) -> 3.42 | H24: =TRUNC(ROUND((1+$F$5)*G24,2),2) -> 4.56 | I24: =TRUNC(ROUND(F24*H24,2),2) -> 136.21 | J24: 10256 | K24: =I24/$I$196 -> 0.00027562985
A25: 1.1.15 | B25: 010280 | C25: DER-ES | D25: =VLOOKUP(J25,'SERVIÇOS DER 12-25'!A28:G1519,3,0) -> Remoção manual de telha metálica, exclusive trama, sem reaproveitamento | E25: =VLOOKUP(J25,'SERVIÇOS DER 12-25'!A28:G1519,4,0) -> m2 | F25: =MC!J87 -> 17.65 | G25: =VLOOKUP(J25,'SERVIÇOS DER 12-25'!A28:G1519,6,0) -> 3.42 | H25: =TRUNC(ROUND((1+$F$5)*G25,2),2) -> 4.56 | I25: =TRUNC(ROUND(F25*H25,2),2) -> 80.48 | J25: 10280 | K25: =I25/$I$196 -> 0.00016285655
A26: 1.1.16 | B26: 010326 | C26: DER-ES | D26: =VLOOKUP(J26,'SERVIÇOS DER 12-25'!A29:G1520,3,0) -> Remoção manual de trama de madeira para cobertura, com reaproveitamento | E26: =VLOOKUP(J26,'SERVIÇOS DER 12-25'!A29:G1520,4,0) -> m2 | F26: =MC!J92 -> 45.77 | G26: =VLOOKUP(J26,'SERVIÇOS DER 12-25'!A29:G1520,6,0) -> 31.9 | H26: =TRUNC(ROUND((1+$F$5)*G26,2),2) -> 42.51 | I26: =TRUNC(ROUND(F26*H26,2),2) -> 1945.68 | J26: 10326 | K26: =I26/$I$196 -> 0.0039372108
A27: 1.1.17 | B27: COMP-01 | D27: Remoção de trama metálica para cobertura, de forma manual, sem reaproveitamento | E27: m2 | F27: =MC!J96 -> 17.65 | G27: ='COMP-01'!I30 -> 36.717012 | H27: =TRUNC(ROUND((1+$F$5)*G27,2),2) -> 48.93 | I27: =TRUNC(ROUND(F27*H27,2),2) -> 863.61 | K27: =I27/$I$196 -> 0.0017475713
A28: 1.2 | B28: 0105 | C28: DER-ES | D28: =VLOOKUP(J28,'SERVIÇOS DER 12-25'!A31:G1522,3,0) -> LOCAÇÃO | J28: 105 | K28: =I28/$I$196 -> 0
A29: 1.2.1 | B29: 010501 | C29: DER-ES | D29: =VLOOKUP(J29,'SERVIÇOS DER 12-25'!A32:G1523,3,0) -> Locação de obra com gabarito de madeira | E29: =VLOOKUP(J29,'SERVIÇOS DER 12-25'!A32:G1523,4,0) -> m2 | F29: =MC!J100 -> 75.8 | G29: =VLOOKUP(J29,'SERVIÇOS DER 12-25'!A32:G1523,6,0) -> 12.14 | H29: =TRUNC(ROUND((1+$F$5)*G29,2),2) -> 16.18 | I29: =TRUNC(ROUND(F29*H29,2),2) -> 1226.44 | J29: 10501 | K29: =I29/$I$196 -> 0.0024817816
D30: SUB-TOTAL 01 | I30: =SUM(I10:I29) -> 13009.84
A31: 2 | B31: 02 | D31: =VLOOKUP(J31,'SERVIÇOS DER 12-25'!A34:G1525,3,0) -> INSTALAÇÃO DO CANTEIRO DE OBRAS | J31: 2
A32: 2.1 | B32: 0203 | C32: DER-ES | D32: =VLOOKUP(J32,'SERVIÇOS DER 12-25'!A35:G1526,3,0) -> TAPUMES, BARRACÕES E COBERTURAS | J32: 203
A33: 2.1.1 | B33: 020305 | C33: DER-ES | D33: =VLOOKUP(J33,'SERVIÇOS DER 12-25'!A36:G1527,3,0) -> Placa de obra nas dimensões de 2.0 x 4.0 m, padrão DER | E33: =VLOOKUP(J33,'SERVIÇOS DER 12-25'!A36:G1527,4,0) -> m2 | F33: =MC!J106 -> 8 | G33: =VLOOKUP(J33,'SERVIÇOS DER 12-25'!A36:G1527,6,0) -> 241.93 | H33: =TRUNC(ROUND((1+$F$5)*G33,2),2) -> 322.37 | I33: =TRUNC(ROUND(F33*H33,2),2) -> 2578.96 | J33: 20305 | K33: =I33/$I$196 -> 0.0052186943
A34: 2.1.2 | B34: 020350 | C34: DER-ES | D34: =VLOOKUP(J34,'SERVIÇOS DER 12-25'!A37:G1528,3,0) -> Tapume Telha Metálica Ondulada em aço galvalume 0,50mm Branca h=2,20m, incl. montagem estr. mad. 8"x8", c/adesivo "DER-ES" 60x60cm a cada 10m, incl. faixas pint. esmalte sint. cores azul c/ h=30cm e rosa c/ h=10cm (Reaproveitamento 2x) | E34: =VLOOKUP(J34,'SERVIÇOS DER 12-25'!A37:G1528,4,0) -> m | F34: =MC!J110 -> 10 | G34: =VLOOKUP(J34,'SERVIÇOS DER 12-25'!A37:G1528,6,0) -> 142.25 | H34: =TRUNC(ROUND((1+$F$5)*G34,2),2) -> 189.55 | I34: =TRUNC(ROUND(F34*H34,2),2) -> 1895.5 | J34: 20350 | K34: =I34/$I$196 -> 0.0038356683
A35: 2.1.3 | B35: 020352 | C35: DER-ES | D35: =VLOOKUP(J35,'SERVIÇOS DER 12-25'!A38:G1529,3,0) -> Aluguel mensal container para escritório, dim. 6.00x2.40m, c/ banheiro (vaso+lavat+chuveiro e básc), incl. porta, 2 janelas, abert p/ ar cond., 2 pt iluminação, 2 tom. elét. e 1 tom.telef. Isolam.térmico(teto e paredes), piso em comp. Naval, cert. NR18, incl. laudo descontaminação. | E35: =VLOOKUP(J35,'SERVIÇOS DER 12-25'!A38:G1529,4,0) -> ms | F35: =MC!J114 -> 6 | G35: =VLOOKUP(J35,'SERVIÇOS DER 12-25'!A38:G1529,6,0) -> 1232.33 | H35: =TRUNC(ROUND((1+$F$5)*G35,2),2) -> 1642.08 | I35: =TRUNC(ROUND(F35*H35,2),2) -> 9852.48 | J35: 20352 | K35: =I35/$I$196 -> 0.019937138
A36: 2.1.4 | B36: 020344 | C36: DER-ES | D36: =VLOOKUP(J36,'SERVIÇOS DER 12-25'!A39:G1530,3,0) -> Mobilização e desmobilização de conteiner locado para barracão de obra | E36: =VLOOKUP(J36,'SERVIÇOS DER 12-25'!A39:G1530,4,0) -> und | F36: =MC!J118 -> 2 | G36: =VLOOKUP(J36,'SERVIÇOS DER 12-25'!A39:G1530,6,0) -> 1766.67 | H36: =TRUNC(ROUND((1+$F$5)*G36,2),2) -> 2354.09 | I36: =TRUNC(ROUND(F36*H36,2),2) -> 4708.18 | J36: 20344 | K36: =I36/$I$196 -> 0.0095273103
A37: 2.1.5 | B37: 020339 | C37: DER-ES | D37: =VLOOKUP(J37,'SERVIÇOS DER 12-25'!A40:G1531,3,0) -> Locação de andaime metálico para trabalho em fachada de edifíco (aluguel de 1 m² por 1 mês) inclusive frete, montagem e desmontagem | E37: =VLOOKUP(J37,'SERVIÇOS DER 12-25'!A40:G1531,4,0) -> m2 | F37: =MC!J122 -> 189.42 | G37: =VLOOKUP(J37,'SERVIÇOS DER 12-25'!A40:G1531,6,0) -> 26.21 | H37: =TRUNC(ROUND((1+$F$5)*G37,2),2) -> 34.92 | I37: =TRUNC(ROUND(F37*H37,2),2) -> 6614.55 | J37: 20339 | K37: =I37/$I$196 -> 0.013384975
A38: 2.2 | B38: 0207 | C38: DER-ES | D38: =VLOOKUP(J38,'SERVIÇOS DER 12-25'!A41:G1532,3,0) -> INSTALAÇÃO DO CANTEIRO DE OBRAS (UTILIZAÇÃO 1 VEZ), PROJETO PADRÃO LABOR - NR.18 (OBRAS COM PRAZO DE EXECUÇÃO SUPERIOR A 12 MESES) | J38: 207 | K38: =I38/$I$196 -> 0
A39: 2.2.1 | B39: 020713 | C39: DER-ES | D39: =VLOOKUP(J39,'SERVIÇOS DER 12-25'!A42:G1533,3,0) -> Rede de luz, incl. padrão entrada de energia trifás., cabo de ligação até barracões, quadro de distrib., disj. e chave de força (quando necessário), cons. 20m entre padrão entrada e QDG, conf. projeto (1 utilização) | E39: =VLOOKUP(J39,'SERVIÇOS DER 12-25'!A42:G1533,4,0) -> m | F39: =MC!J127 -> 20 | G39: =VLOOKUP(J39,'SERVIÇOS DER 12-25'!A42:G1533,6,0) -> 486.77 | H39: =TRUNC(ROUND((1+$F$5)*G39,2),2) -> 648.62 | I39: =TRUNC(ROUND(F39*H39,2),2) -> 12972.4 | J39: 20713 | K39: =I39/$I$196 -> 0.0262505
A40: 2.2.2 | B40: 020714 | C40: DER-ES | D40: =VLOOKUP(J40,'SERVIÇOS DER 12-25'!A43:G1534,3,0) -> Rede de esgoto, contendo fossa e filtro, inclusive tubos e conexões de ligação entre caixas, considerando distância de 25m, conforme projeto (1 utilização) | E40: =VLOOKUP(J40,'SERVIÇOS DER 12-25'!A43:G1534,4,0) -> m | F40: =MC!J131 -> 20 | G40: =VLOOKUP(J40,'SERVIÇOS DER 12-25'!A43:G1534,6,0) -> 449.64 | H40: =TRUNC(ROUND((1+$F$5)*G40,2),2) -> 599.15 | I40: =TRUNC(ROUND(F40*H40,2),2) -> 11983 | J40: 20714 | K40: =I40/$I$196 -> 0.024248385
A41: 2.3 | B41: 0208 | C41: DER-ES | D41: =VLOOKUP(J41,'SERVIÇOS DER 12-25'!A44:G1535,3,0) -> INSTALAÇÃO DO CANTEIRO DE OBRAS (UTILIZAÇÃO 2 VEZES), PROJETO PADRÃO LABOR - NR.18 (OBRAS COM PRAZO DE EXECUÇÃO DE 6 A 12 MESES) | J41: 208 | K41: =I41/$I$196 -> 0
...

Sheet CURVA ABC
A1: PREFEITURA MUNICIPAL DE JOÃO NEIVA
A2: CURVA ABC
B4: OBRA: CONSTRUÇÃO DE ACESSO ENTRE OS BLOCOS E FORNECIMENTO E INSTALAÇÃO DE PLATAFORMA ELEVATÓRIA PARA ACESSIBILIDADE NA EMEIF JOSÉ REBUZZI SARCINELLI LOCALIZADA NO MUNICÍPIO DE JOÃO NEIVA/ES | E4: L. SOCIAIS: | F4: 1.5727 | G4: TABELA DE REFERÊNCIA: DER/ES Edificações / SINAPI-ES
B5: LOCAL: BAIRRO CRISTAL, JOÃO NEIVA-ES | E5: BDI: | F5: 33,25% | H5: DATA-BASE: | I5: 45992
B6: ORÇAMENTISTA: ARQ./URB. BRUNA PEROVANO SIRTULI CAU-ES A187736-4 / ARQ./URB. THAÍS BAPTISTA CAU-ES A181604-7 | E6: BDI DIF. | F6: 0.1557
A7: ITEM | B7: CÓDIGO | C7: ORGÃO | D7: DESCRIÇÃO SERVIÇO | E7: UNIDADE | F7: QUANTIDADE | G7: UNITÁRIO | H7: UNITÁRIO C/ BDI | I7: TOTAL | J7: % | K7: % ACUMULADA | L7: CURVA
A8: 19.1.2 | B8: COTAÇÃO 01 | D8: Fornecimento e Instalação de Plataforma Elevatória de Acessibilidade | E8: und | F8: 1 | G8: 44026.593 | H8: 50881.53 | I8: 50881.53 | J8: =I8/'PLANILHA ORÇAMENTÁRIA'!$I$196 -> 0.10296211 | K8: =J8 -> 0.10296211 | L8: =IF(K8<=$Q$11,"A",IF(K8<=$Q$12,"B","C")) -> A
A9: 9.1.2 | B9: 100208 | C9: DER-ES | D9: Índice de imperm.c/ manta asfáltica atendendo NBR 9952, asfalto polimerizado esp.3mm, reforç.c/ filme int. polietileno, regul. base c/ arg.1:4 esp.mín.15mm, proteção mec. arg.1:4 esp.20mm, imprimação e juntas dilat. | E9: m2 | F9: 72.42 | G9: 373.49 | H9: 497.68 | I9: 36041.99 | J9: =I9/'PLANILHA ORÇAMENTÁRIA'!$I$196 -> 0.072933325 | K9: =J9+K8 -> 0.17589543 | L9: =IF(K9<=$Q$11,"A",IF(K9<=$Q$12,"B","C")) -> A
A10: 4.2.4 | B10: 040337 | C10: DER-ES | D10: Fôrma em chapa de madeira compensada plastificada 12mm para estrutura em geral, 5 reaproveitamentos, reforçada com sarrafos de madeira 2.5x10cm (incl material, corte, montagem, escoras em eucalipto e desforma) | E10: m2 | F10: 198.26 | G10: 109.15 | H10: 145.44 | I10: 28834.93 | J10: =I10/'PLANILHA ORÇAMENTÁRIA'!$I$196 -> 0.058349368 | K10: =J10+K9 -> 0.2342448 | L10: =IF(K10<=$Q$11,"A",IF(K10<=$Q$12,"B","C")) -> A | P10: CONCEITO | Q10: CORTE
A11: 12.2.2 | B11: 130230 | C11: DER-ES | D11: Piso argamassa alta resistência tipo granilite ou equiv de qualidade comprovada, esp de 10mm, com juntas plástica em quadros de 1m, na cor natural, com acabamento anti-derrapante mecanizado, inclusive regularização e=3.0cm | E11: m2 | F11: 126.15 | G11: 147.13 | H11: 196.05 | I11: 24731.71 | J11: =I11/'PLANILHA ORÇAMENTÁRIA'!$I$196 -> 0.050046233 | K11: =J11+K10 -> 0.28429103 | L11: =IF(K11<=$Q$11,"A",IF(K11<=$Q$12,"B","C")) -> A | P11: A | Q11: 0.8
A12: 7.1.1 | B12: 071105 | C12: DER-ES | D12: Grade de ferro em barra chata, inclusive chumbamento | E12: m2 | F12: 42.99 | G12: 382.74 | H12: 510 | I12: 21924.9 | J12: =I12/'PLANILHA ORÇAMENTÁRIA'!$I$196 -> 0.04436647 | K12: =J12+K11 -> 0.3286575 | L12: =IF(K12<=$Q$11,"A",IF(K12<=$Q$12,"B","C")) -> A | P12: B | Q12: 0.9
A13: 17.1.1 | B13: 190106 | C13: DER-ES | D13: Pintura em paredes e forros, aplicação manual, com três demão de tinta látex acrílico premium, referência Coral e Metalatex, inclusive uma demão de liquido selador acrílico, referência Suvinil, Coral ou Metalatex ou equivalente | E13: m2 | F13: 510.06 | G13: 31.27 | H13: 41.67 | I13: 21254.2 | J13: =I13/'PLANILHA ORÇAMENTÁRIA'!$I$196 -> 0.043009264 | K13: =J13+K12 -> 0.37166677 | L13: =IF(K13<=$Q$11,"A",IF(K13<=$Q$12,"B","C")) -> A | P13: B | Q13: 1
A14: 4.1.2 | B14: 040224 | C14: DER-ES | D14: Fornecimento, preparo e aplicação de concreto Fck = 30 MPa (com brita 1 e 2) - (5% de perdas já incluído no custo) | E14: m3 | F14: 18.85 | G14: 821.75 | H14: 1094.98 | I14: 20640.37 | J14: =I14/'PLANILHA ORÇAMENTÁRIA'!$I$196 -> 0.041767139 | K14: =J14+K13 -> 0.4134339 | L14: =IF(K14<=$Q$11,"A",IF(K14<=$Q$12,"B","C")) -> A
A15: 4.2.1 | B15: 040315 | C15: DER-ES | D15: Fornecimento, preparo e aplicação de concreto Fck = 30 MPa (com brita 1 e 2) - (5% de perdas já incluído no custo) | E15: m3 | F15: 14.75 | G15: 945.07 | H15: 1259.31 | I15: 18574.82 | J15: =I15/'PLANILHA ORÇAMENTÁRIA'!$I$196 -> 0.037587364 | K15: =J15+K14 -> 0.45102127 | L15: =IF(K15<=$Q$11,"A",IF(K15<=$Q$12,"B","C")) -> A
A16: 4.1.1 | B16: 040206 | C16: DER-ES | D16: Fôrma de tábua de madeira de 2.5 x 30.0 cm para fundações, levando-se em conta a utilização 5 vezes (incluido o material, corte, montagem, escoramento e desforma) | E16: m2 | F16: 151.46 | G16: 89.05 | H16: 118.66 | I16: 17972.24 | J16: =I16/'PLANILHA ORÇAMENTÁRIA'!$I$196 -> 0.036368004 | K16: =J16+K15 -> 0.48738927 | L16: =IF(K16<=$Q$11,"A",IF(K16<=$Q$12,"B","C")) -> A
A17: 11.1.1 | B17: 120303 | C17: DER-ES | D17: Reboco tipo paulista de argamassa de cimento, cal hidratada CH1 e areia média ou grossa lavada no traço 1:0.5:6, espessura 25 mm | E17: m2 | F17: 180.28 | G17: 66.18 | H17: 88.18 | I17: 15897.09 | J17: =I17/'PLANILHA ORÇAMENTÁRIA'!$I$196 -> 0.032168802 | K17: =J17+K16 -> 0.51955807 | L17: =IF(K17<=$Q$11,"A",IF(K17<=$Q$12,"B","C")) -> A
A18: 19.1.1 | B18: 210301 | C18: DER-ES | D18: Guarda corpo de tubo de ferro galvanizado, diâm. 3" e 2", h=0.8 m inclusive pintura a óleo ou esmalte | E18: m | F18: 32.82 | G18: 318.96 | H18: 425.01 | I18: 13948.83 | J18: =I18/'PLANILHA ORÇAMENTÁRIA'!$I$196 -> 0.02822637 | K18: =J18+K17 -> 0.54778444 | L18: =IF(K18<=$Q$11,"A",IF(K18<=$Q$12,"B","C")) -> A
A19: 2.2.1 | B19: 020713 | C19: DER-ES | D19: Rede de luz, incl. padrão entrada de energia trifás., cabo de ligação até barracões, quadro de distrib., disj. e chave de força (quando necessário), cons. 20m entre padrão entrada e QDG, conf. projeto (1 utilização) | E19: m | F19: 20 | G19: 486.77 | H19: 648.62 | I19: 12972.4 | J19: =I19/'PLANILHA ORÇAMENTÁRIA'!$I$196 -> 0.0262505 | K19: =J19+K18 -> 0.57403494 | L19: =IF(K19<=$Q$11,"A",IF(K19<=$Q$12,"B","C")) -> A
A20: 8.3.1 | B20: 090312 | C20: DER-ES | D20: Calha em chapa galvanizada com largura de 40 cm | E20: m | F20: 36.17 | G20: 257.4 | H20: 342.99 | I20: 12405.95 | J20: =I20/'PLANILHA ORÇAMENTÁRIA'!$I$196 -> 0.025104252 | K20: =J20+K19 -> 0.5991392 | L20: =IF(K20<=$Q$11,"A",IF(K20<=$Q$12,"B","C")) -> A
A21: 2.2.2 | B21: 020714 | C21: DER-ES | D21: Rede de esgoto, contendo fossa e filtro, inclusive tubos e conexões de ligação entre caixas, considerando distância de 25m, conforme projeto (1 utilização) | E21: m | F21: 20 | G21: 449.64 | H21: 599.15 | I21: 11983 | J21: =I21/'PLANILHA ORÇAMENTÁRIA'!$I$196 -> 0.024248385 | K21: =J21+K20 -> 0.62338758 | L21: =IF(K21<=$Q$11,"A",IF(K21<=$Q$12,"B","C")) -> A
A22: 10.2.1 | B22: 110302 | C22: DER-ES | D22: Reboco tipo paulista de argamassa de cimento, cal hidratada CH1 e areia lavada traço 1:0.5:6, espessura 25 mm | E22: m2 | F22: 104.69 | G22: 74.59 | H22: 99.39 | I22: 10405.14 | J22: =I22/'PLANILHA ORÇAMENTÁRIA'!$I$196 -> 0.021055482 | K22: =J22+K21 -> 0.64444306 | L22: =IF(K22<=$Q$11,"A",IF(K22<=$Q$12,"B","C")) -> A
A23: 2.1.3 | B23: 020352 | C23: DER-ES | D23: Aluguel mensal container para escritório, dim. 6.00x2.40m, c/ banheiro (vaso+lavat+chuveiro e básc), incl. porta, 2 janelas, abert p/ ar cond., 2 pt iluminação, 2 tom. elét. e 1 tom.telef. Isolam.térmico(teto e paredes), piso em comp. Naval, cert. NR18, incl. laudo descontaminação. | E23: ms | F23: 6 | G23: 1232.33 | H23: 1642.08 | I23: 9852.48 | J23: =I23/'PLANILHA ORÇAMENTÁRIA'!$I$196 -> 0.019937138 | K23: =J23+K22 -> 0.6643802 | L23: =IF(K23<=$Q$11,"A",IF(K23<=$Q$12,"B","C")) -> A
A24: 9.1.1 | B24: 100203 | C24: DER-ES | D24: Pintura impermeabilizante com igolflex ou equivalente a 3 demãos | E24: m2 | F24: 151.46 | G24: 45.92 | H24: 61.19 | I24: 9267.84 | J24: =I24/'PLANILHA ORÇAMENTÁRIA'!$I$196 -> 0.018754081 | K24: =J24+K23 -> 0.68313428 | L24: =IF(K24<=$Q$11,"A",IF(K24<=$Q$12,"B","C")) -> A
A25: 4.2.2 | B25: 040328 | C25: DER-ES | D25: Fornecimento, dobragem e colocação em fôrma, de armadura CA-50 A média, diâmetro de 6.3 a 10.0 mm | E25: kg | F25: 608.4 | G25: 10.61 | H25: 14.14 | I25: 8602.78 | J25: =I25/'PLANILHA ORÇAMENTÁRIA'!$I$196 -> 0.017408288 | K25: =J25+K24 -> 0.70054257 | L25: =IF(K25<=$Q$11,"A",IF(K25<=$Q$12,"B","C")) -> A
A26: 4.1.5 | B26: 040245 | C26: DER-ES | D26: Fornecimento, dobragem e colocação em fôrma, de armadura CA-50 A grossa diâmetro de 12.5 a 25.0 mm (1/2 a 1") | E26: kg | F26: 486.4 | G26: 11.27 | H26: 15.02 | I26: 7305.73 | J26: =I26/'PLANILHA ORÇAMENTÁRIA'!$I$196 -> 0.014783623 | K26: =J26+K25 -> 0.71532619 | L26: =IF(K26<=$Q$11,"A",IF(K26<=$Q$12,"B","C")) -> A
A27: 5.1.1 | B27: 050605 | C27: DER-ES | D27: Alvenaria de vedação com blocos cerâmicos furados 9x19x19cm, assentados c/ argamassa de cimento, cal hidratada CH1 e areia no traço 1:0,5:8, preparo com betoneira, juntas 10mm e esp. das paredes s/revestimento, 9cm (bloco comprado na praça de Vitória, posto obra) | E27: m2 | F27: 76.27 | G27: 66.19 | H27: 88.2 | I27: 6727.01 | J27: =I27/'PLANILHA ORÇAMENTÁRIA'!$I$196 -> 0.013612545 | K27: =J27+K26 -> 0.72893874 | L27: =IF(K27<=$Q$11,"A",IF(K27<=$Q$12,"B","C")) -> A
A28: 4.1.4 | B28: 040243 | C28: DER-ES | D28: Fornecimento, dobragem e colocação em fôrma, de armadura CA-50 A média, diâmetro de 6.3 a 10.0 mm | E28: kg | F28: 473.3 | G28: 10.61 | H28: 14.14 | I28: 6692.46 | J28: =I28/'PLANILHA ORÇAMENTÁRIA'!$I$196 -> 0.013542631 | K28: =J28+K27 -> 0.74248137 | L28: =IF(K28<=$Q$11,"A",IF(K28<=$Q$12,"B","C")) -> A
A29: 2.1.5 | B29: 020339 | C29: DER-ES | D29: Locação de andaime metálico para trabalho em fachada de edifíco (aluguel de 1 m² por 1 mês) inclusive frete, montagem e desmontagem | E29: m2 | F29: 189.42 | G29: 26.21 | H29: 34.92 | I29: 6614.55 | J29: =I29/'PLANILHA ORÇAMENTÁRIA'!$I$196 -> 0.013384975 | K29: =J29+K28 -> 0.75586634 | L29: =IF(K29<=$Q$11,"A",IF(K29<=$Q$12,"B","C")) -> A
A30: 12.2.1 | B30: 130209 | C30: DER-ES | D30: Piso de cimentado camurçado executado com argamassa de cimento e areia no traço 1:3, esp. 3.0cm | E30: m2 | F30: 43.93 | G30: 103.18 | H30: 137.49 | I30: 6039.94 | J30: =I30/'PLANILHA ORÇAMENTÁRIA'!$I$196 -> 0.012222214 | K30: =J30+K29 -> 0.76808856 | L30: =IF(K30<=$Q$11,"A",IF(K30<=$Q$12,"B","C")) -> A
A31: 8.4.1 | B31: COMP-04 | C31: DER-ES | D31: Platibanda de alvenaria de bloco cerâmico 10x20x20cm, assentado com argamassa de cimento, cal hidratada CH1 e areia no traço 1:0,5:8, amarrada com pilaretes em conc. arm. a cada 2m, excl. revest. | E31: m | F31: 34.12 | G31: 132.54394 | H31: 176.61 | I31: 6025.93 | J31: =I31/'PLANILHA ORÇAMENTÁRIA'!$I$196 -> 0.012193864 | K31: =J31+K30 -> 0.78028242 | L31: =IF(K31<=$Q$11,"A",IF(K31<=$Q$12,"B","C")) -> A
A32: 3.3.1 | B32: 030304 | C32: DER-ES | D32: Índice de preço para remoção de entulho decorrente da execução de obras (Classe A CONAMA - NBR 10.004 - Classe II-B), incluindo aluguel da caçamba, carga, transporte e descarga em área licenciada | E32: m3 | F32: 42.99 | G32: 92.39 | H32: 123.11 | I32: 5292.5 | J32: =I32/'PLANILHA ORÇAMENTÁRIA'!$I$196 -> 0.01070972 | K32: =J32+K31 -> 0.79099214 | L32: =IF(K32<=$Q$11,"A",IF(K32<=$Q$12,"B","C")) -> A
A33: 14.6.1 | B33: 151602 | C33: DER-ES | D33: Abertura e fechamento de rasgos em alvenaria, para passagem de eletroduto diâm. 1 1/4"a 2" | E33: m | F33: 170 | G33: 20.99 | H33: 27.97 | I33: 4754.9 | J33: =I33/'PLANILHA ORÇAMENTÁRIA'!$I$196 -> 0.0096218513 | K33: =J33+K32 -> 0.80061399 | L33: =IF(K33<=$Q$11,"A",IF(K33<=$Q$12,"B","C")) -> B
A34: 2.1.4 | B34: 020344 | C34: DER-ES | D34: Mobilização e desmobilização de conteiner locado para barracão de obra | E34: und | F34: 2 | G34: 1766.67 | H34: 2354.09 | I34: 4708.18 | J34: =I34/'PLANILHA ORÇAMENTÁRIA'!$I$196 -> 0.0095273103 | K34: =J34+K33 -> 0.8101413 | L34: =IF(K34<=$Q$11,"A",IF(K34<=$Q$12,"B","C")) -> B
A35: 15.2.1 | B35: 170508 | C35: DER-ES | D35: Escovário de aço inox, liga AISI 304, N° 18, marcas de referência Fischer, Metalpress ou Mekal, inclusive apoio de concreto, argamassa de apoio e assentamento, válvula e sifão cromados, exclusive torneira, conf. projeto | E35: m | F35: 2 | G35: 1723.86 | H35: 2297.04 | I35: 4594.08 | J35: =I35/'PLANILHA ORÇAMENTÁRIA'!$I$196 -> 0.0092964215 | K35: =J35+K34 -> 0.81943772 | L35: =IF(K35<=$Q$11,"A",IF(K35<=$Q$12,"B","C")) -> B
A36: 12.3.1 | B36: 130322 | C36: DER-ES | D36: Rodapé de argamassa de alta resistência tipo granilite ou equivalente de qualidade comprovada, altura de 10 cm e espessura de 10 mm, com cantos boleados, executado com cimento e granitina grana N.1, inclusive polimento | E36: m | F36: 102.85 | G36: 32.58 | H36: 43.41 | I36: 4464.72 | J36: =I36/'PLANILHA ORÇAMENTÁRIA'!$I$196 -> 0.0090346531 | K36: =J36+K35 -> 0.82847238 | L36: =IF(K36<=$Q$11,"A",IF(K36<=$Q$12,"B","C")) -> B
A37: 18.1.1 | B37: COMP-07 | D37: Chapim de granito cinza polido, 19 cm, esp. 3 cm | E37: m | F37: 34.12 | G37: 95.648516 | H37: 127.45 | I37: 4348.59 | J37: =I37/'PLANILHA ORÇAMENTÁRIA'!$I$196 -> 0.0087996564 | K37: =J37+K36 -> 0.83727203 | L37: =IF(K37<=$Q$11,"A",IF(K37<=$Q$12,"B","C")) -> B
A38: 12.1.1 | B38: 130111 | C38: DER-ES | D38: Lastro impermeabilizado de concreto não estrutural, espessura de 6 cm | E38: m2 | F38: 43.93 | G38: 66.21 | H38: 88.22 | I38: 3875.5 | J38: =I38/'PLANILHA ORÇAMENTÁRIA'!$I$196 -> 0.0078423278 | K38: =J38+K37 -> 0.84511436 | L38: =IF(K38<=$Q$11,"A",IF(K38<=$Q$12,"B","C")) -> B
A39: 14.7.2 | B39: 151801 | C39: DER-ES | D39: Ponto padrão de luz no teto - considerando eletroduto PVC rígido de 3/4" inclusive conexões (4.5m), fio isolado PVC de 2.5mm2 (16.2m) e caixa PVC 4x4" (1 und) | E39: und | F39: 12 | G39: 235.23 | H39: 313.44 | I39: 3761.28 | J39: =I39/'PLANILHA ORÇAMENTÁRIA'!$I$196 -> 0.0076111962 | K39: =J39+K38 -> 0.85272556 | L39: =IF(K39<=$Q$11,"A",IF(K39<=$Q$12,"B","C")) -> B
A40: 4.2.3 | B40: 040333 | C40: DER-ES | D40: Fornecimento, dobragem e colocação em fôrma, de armadura CA-60 B fina, diâmetro de 4.0 a 7.0mm | E40: kg | F40: 227.4 | G40: 10.78 | H40: 14.36 | I40: 3265.46 | J40: =I40/'PLANILHA ORÇAMENTÁRIA'!$I$196 -> 0.006607872 | K40: =J40+K39 -> 0.85933343 | L40: =IF(K40<=$Q$11,"A",IF(K40<=$Q$12,"B","C")) -> B
A41: 4.1.6 | B41: 040246 | C41: DER-ES | D41: Fornecimento, dobragem e colocação em fôrma, de armadura CA-60 B fina, diâmetro de 4.0 a 7.0mm | E41: kg | F41: 192.3 | G41: 10.78 | H41: 14.36 | I41: 2761.43 | J41: =I41/'PLANILHA ORÇAMENTÁRIA'!$I$196 -> 0.0055879343 | K41: =J41+K40 -> 0.86492136 | L41: =IF(K41<=$Q$11,"A",IF(K41<=$Q$12,"B","C")) -> B
...

Sheet SERVIÇOS DER 12-25
A1: GOVERNO DO ESTADO DO ESPÍRITO SANTO
A2: Secretaria de Estado de Mobilidade e Infraestrutura - SEMOBI
A3: Departamento de Edificações e de Rodovias do Estado do Espírito Santo - DER-ES
A4: Planilha Orçamentária
A6: Orçamento: 1679501 - TABELA CUSTOS LABOR/CT-UFES PADRÃO DER-ES SERVIÇOS NÃO DESONERADOS DEZEMBRO/2025 (LS HORISTAS=157,27; LS MENSALISTAS=72,92%; BDI=0%) | F6: Leis Sociais: 157,27
A7: Orgão Cliente: DEPARTAMENTO DE EDIFICAÇÕES E DE RODOVIAS DO ESTADO DO ESPÍRITO SANTO | F7: BDI: 0
A9: Planilha: TABELA CUSTOS LABOR/CT-UFES PADRÃO DER-ES SERVIÇOS NÃO DESONERADOS DEZEMBRO/2025 (LS HORISTAS=157,27; LS MENSALISTAS=72,92%; BDI=0%) | F9: Data Base: Dezembro/2025
A10: Local:
A12: Item | B12: Fonte/Código | C12: Especificação do Serviço | D12: Und. | E12: Quant. | F12: Preço Unitário | G12: Preço Total
A13: 1 | C13: SERVIÇOS PRELIMINARES
A14: 102 | C14: DEMOLIÇÕES E RETIRADAS
A15: 10201 | B15: LABOR - 2024 - 010201 - 2 | C15: Demolição manual de piso cimentado espessura de 1,5 cm, inclusive lastro de concreto espessura de 6,0 cm, sem reaproveitamento | D15: m2 | E15: 1 | F15: 16.92 | G15: 16.92
A16: 10202 | B16: LABOR - 2024 - 010202 - 2 | C16: Demolição manual de revestimento cerâmico/porcelanato (pisos), exclusive lastro, sem reaproveitamento | D16: m2 | E16: 1 | F16: 21.13 | G16: 21.13
A17: 10203 | B17: LABOR - 2024 - 010203 - 2 | C17: Demolição manual de revestimento cerâmico/porcelanato (pisos), inclusive lastro de concreto espessura de 6,0 cm, sem reaproveitamento | D17: m2 | E17: 1 | F17: 34.67 | G17: 34.67
A18: 10204 | B18: LABOR - 2024 - 010204 - 2 | C18: Demolição manual de piso de madeira (tacos), exclusive lastro, sem reaproveitamento | D18: m2 | E18: 1 | F18: 12.72 | G18: 12.72
A19: 10205 | B19: LABOR - 2024 - 010205 - 2 | C19: Demolição manual de piso de madeira (tábuas), exclusive lastro, sem reaproveitamento | D19: m2 | E19: 1 | F19: 19.6 | G19: 19.6
A20: 10206 | B20: LABOR - 2024 - 010206 - 2 | C20: Demolição manual de revestimento cerâmico/porcelanato (parede), exclusive emboço/reboco, sem reaproveitamento | D20: m2 | E20: 1 | F20: 23.54 | G20: 23.54
A21: 10207 | B21: LABOR - 2024 - 010207 - 2 | C21: Demolição manual de lambri de madeira em parede, sem reaproveitamento | D21: m2 | E21: 1 | F21: 19.6 | G21: 19.6
A22: 10208 | B22: LABOR - 2024 - 010208 - 2 | C22: Retirada manual de revestimento em argamassa cimento e areia (emboço e reboco), sem reaproveitamento | D22: m2 | E22: 1 | F22: 10.73 | G22: 10.73
A23: 10209 | B23: LABOR - 2024 - 010209 - 2 | C23: Demolição manual de alvenaria de bloco furado (cerâmico), sem reaproveitamento | D23: m3 | E23: 1 | F23: 59.61 | G23: 59.61
A24: 10210 | B24: LABOR - 2024 - 010210 - 2 | C24: Demolição manual de concreto simples, sem reaproveitamento | D24: m3 | E24: 1 | F24: 225.81 | G24: 225.81
A25: 10212 | B25: LABOR - 2024 - 010212 - 2 | C25: Retirada manual cuidadosa de pavimento em paralelepípedos, inclusive limpeza e empilhamento para reaproveitamento | D25: m2 | E25: 1 | F25: 21.51 | G25: 21.51
A26: 10213 | B26: LABOR - 2024 - 010213 - 2 | C26: Retirada manual cuidadosa de blocos pré-moldados de concreto (Blokret), inclusive limpeza e empilhamento para reaproveitamento | D26: m2 | E26: 1 | F26: 17.93 | G26: 17.93
... A59: 10292 | B59: LABOR - 2024 - 010292 - 2 | C59: Retirada manual de alizar de madeira, sem reaproveitamento | D59: m | E59: 1 | F59: 1.54 | G59: 1.54
A60: 103 | C60: DEMOLIÇÕES E RETIRADAS
A61: 10315 | B61: LABOR - 2024 - 010315 - 2 | C61: Retirada manual de telhas tipo Canalete 49, sem reaproveitamento | D61: m2 | E61: 1 | F61: 5.57 | G61: 5.57
A62: 10317 | B62: LABOR - 2024 - 010317 - 2 | C62: Demolição cuidadosa de alvenaria de forma manual, para abertura de vãos, sem reaproveitamento | D62: m2 | E62: 1 | F62: 102.14 | G62: 102.14
A63: 10318 | B63: LABOR - 2024 - 010318 - 2 | C63: Remoção manual de forro modular apoiados em estruturas em perfis metálicos, sem reaproveitamento | D63: m2 | E63: 1 | F63: 8.77 | G63: 8.77
A64: 10319 | B64: LABOR - 2024 - 010319 - 2 | C64: Remoção manual de pintura antiga a base de óleo ou esmalte sobre esquadrias, com aplicação de removedor | D64: m2 | E64: 1 | F64: 20.55 | G64: 20.55
A65: 10320 | B65: LABOR - 2024 - 010320 - 2 | C65: Remoção manual de revestimento de pisos com forração têxtil, com aplicação de solvente | D65: m2 | E65: 1 | F65: 3.81 | G65: 3.81
A66: 10323 | B66: LABOR - 2024 - 010323 - 2 | C66: Retirada de torneira, sem reaproveitamento | D66: und | E66: 1 | F66: 8.08 | G66: 8.08
A67: 10324 | B67: LABOR - 2024 - 010324 - 2 | C67: Retirada manual de telha tipo Canalete 90, sem reaproveitamento | D67: m2 | E67: 1 | F67: 6.68 | G67: 6.68
A68: 10325 | B68: LABOR - 2024 - 010325 - 2 | C68: Demolição manual de estrutura de madeira para telhado, sem reaproveitamento | D68: m2 | E68: 1 | F68: 7.82 | G68: 7.82
A69: 10326 | B69: LABOR - 2024 - 010326 - 2 | C69: Remoção manual de trama de madeira para cobertura, com reaproveitamento | D69: m2 | E69: 1 | F69: 31.9 | G69: 31.9
A70: 10327 | B70: LABOR - 2024 - 010327 - 2 | C70: Retirada manual de batente (marco) de madeira, sem reaproveitamento | D70: m | E70: 1 | F70: 4.04 | G70: 4.04
A71: 10329 | B71: LABOR - 2024 - 010329 - 2 | C71: Retirada manual de disjuntor monofásico, bifásico ou trifásico, sem reaproveitamento | D71: und | E71: 1 | F71: 6.53 | G71: 6.53
A72: 10331 | B72: LABOR - 2024 - 010331 - 2 | C72: Demolição manual de piso, soleira, peitoris e escadas em mármore ou granito, exclusive regularização, sem reaproveitamento | D72: m2 | E72: 1 | F72: 11.92 | G72: 11.92
... A75: 10344 | B75: LABOR - 2024 - 010344 - 2 | C75: Demolição de lajes, em concreto armado, de forma mecanizada com martelete demolidor elétrico, sem reaproveitamento | D75: m3 | E75: 1 | F75: 94.45 | G75: 94.45
A76: 104 | C76: LIMPEZA DO TERRENO
A77: 10401 | B77: LABOR - 2024 - 010401 - 2 | C77: Corte manual de capoeira fina com foice | D77: m2 | E77: 1 | F77: 1.52 | G77: 1.52
...

Sheet MC
A1: PREFEITURA MUNICIPAL DE JOÃO NEIVA
A2: MEMÓRIA DE CÁLCULO
B3: OBRA: CONSTRUÇÃO DE ACESSO ENTRE OS BLOCOS E FORNECIMENTO E INSTALAÇÃO DE PLATAFORMA ELEVATÓRIA PARA ACESSIBILIDADE NA EMEIF JOSÉ REBUZZI SARCINELLI LOCALIZADA NO MUNICÍPIO DE JOÃO NEIVA/ES
B5: LOCAL: JOÃO NEIVA/ES
A6: ITEM | B6: DESCRIÇÃO SERVIÇO | C6: UNIDADE | D6: Qnt | E6: C (m) | F6: L (m) | G6: H (m) | H6: A(m2) | I6: V(m3) | J6: QUANT. DO SERVIÇO
A7: ='PLANILHA ORÇAMENTÁRIA'!A9 -> 1 | B7: ='PLANILHA ORÇAMENTÁRIA'!D9 -> SERVIÇOS PRELIMINARES
A8: ='PLANILHA ORÇAMENTÁRIA'!A10 -> 1.1 | B8: ='PLANILHA ORÇAMENTÁRIA'!D10 -> DEMOLIÇÕES E RETIRADAS
A9: ='PLANILHA ORÇAMENTÁRIA'!A11 -> 1.1.1 | B9: ='PLANILHA ORÇAMENTÁRIA'!D11 -> Demolição manual de piso cimentado espessura de 1,5 cm, inclusive lastro de concreto espessura de 6,0 cm, sem reaproveitamento | C9: ='PLANILHA ORÇAMENTÁRIA'!E11 -> m2 | D9: Qnt | E9: C (m) | F9: L (m) | G9: H (m) | H9: A(m2) | I9: V(m3) | J9: QUANT. DO SERVIÇO
B10: Rampa acesso Refeitório (Frontal) | E10: 9.68 | F10: 2.4 | H10: =E10*F10 -> 23.232 | J10: =H10 -> 23.232
B11: Calçada fundos Área externa | H11: 6.87 | J11: =H11 -> 6.87
I12: Total | J12: =ROUND(SUM(J10:J11),2) -> 30.1
A14: ='PLANILHA ORÇAMENTÁRIA'!A12 -> 1.1.2 | B14: ='PLANILHA ORÇAMENTÁRIA'!D12 -> Demolição manual de revestimento cerâmico/porcelanato (pisos), exclusive lastro, sem reaproveitamento | C14: ='PLANILHA ORÇAMENTÁRIA'!E12 -> m2 | D14: Qnt | E14: C (m) | F14: L (m) | G14: H (m) | H14: A(m2) | I14: V(m3) | J14: QUANT. DO SERVIÇO
B15: Pisos Escada Externa | D15: 15 | E15: 1.84 | F15: 0.3 | H15: =D15*E15*F15 -> 8.28 | J15: =H15 -> 8.28
B16: Espelhos Escada Externa | D16: 15 | F16: 1.84 | G16: 0.18 | H16: =D16*F16*G16 -> 4.968 | J16: =H16 -> 4.968
B17: Patamar Escada Externa | E17: 2.33 | F17: 1.84 | H17: =E17*F17 -> 4.2872 | J17: =H17 -> 4.2872
B18: Hall acesso Escada/Refeitório | E18: 2.14 | F18: 2.57 | H18: =E18*F18 -> 5.4998 | J18: =H18 -> 5.4998
I19: Total | J19: =ROUND(SUM(J15:J18),2) -> 23.04
A21: ='PLANILHA ORÇAMENTÁRIA'!A13 -> 1.1.3 | B21: ='PLANILHA ORÇAMENTÁRIA'!D13 -> Demolição manual de revestimento cerâmico/porcelanato (pisos), inclusive lastro de concreto espessura de 6,0 cm, sem reaproveitamento | C21: ='PLANILHA ORÇAMENTÁRIA'!E13 -> m2 | D21: Qnt | E21: C (m) | F21: L (m) | G21: H (m) | H21: A(m2) | I21: V(m3) | J21: QUANT. DO SERVIÇO
B22: PNE/Área Externa/Escovário | H22: 25.18 | J22: =H22 -> 25.18
I23: Total | J23: =ROUND(SUM(J22:J22),2) -> 25.18
A25: ='PLANILHA ORÇAMENTÁRIA'!A14 -> 1.1.4 | B25: ='PLANILHA ORÇAMENTÁRIA'!D14 -> Retirada manual de revestimento em argamassa cimento e areia (emboço e reboco), sem reaproveitamento | C25: ='PLANILHA ORÇAMENTÁRIA'!E14 -> m2 | D25: Qnt | E25: C (m) | F25: L (m) | G25: H (m) | H25: A(m2) | I25: V(m3) | J25: QUANT. DO SERVIÇO
B26: Parede externa Bloco 02 (Térreo + Pav. superior) h=1,20m em cada pav. | E26: 11.36 | G26: =1.2+1.2 -> 2.4 | H26: =E26*G26 -> 27.264 | J26: =H26 -> 27.264
B27: Parede externa Depósito (Térreo) | E27: 2 | G27: 1.2 | H27: =E27*G27 -> 2.4 | J27: =H27 -> 2.4
B28: Parede externa Bloco 01 (lateral) | E28: 10.39 | G28: 1.2 | H28: =E28*G28 -> 12.468 | J28: =H28 -> 12.468
I29: Total | J29: =ROUND(SUM(J26:J28),2) -> 42.13
A31: ='PLANILHA ORÇAMENTÁRIA'!A15 -> 1.1.5 | B31: ='PLANILHA ORÇAMENTÁRIA'!D15 -> Demolição manual de alvenaria de bloco furado (cerâmico), sem reaproveitamento | C31: ='PLANILHA ORÇAMENTÁRIA'!E15 -> m3 | D31: Qnt | E31: C (m) | F31: L (m) | G31: H (m) | H31: A(m2) | I31: V(m3) | J31: QUANT. DO SERVIÇO
B32: Muretas escada | E32: 1.84 | F32: 0.15 | G32: 1.1 | I32: =E32*F32*G32 -> 0.3036 | J32: =I32 -> 0.3036
E33: 1.5 | F33: 0.15 | G33: 1.1 | I33: =E33*F33*G33 -> 0.2475 | J33: =I33 -> 0.2475
B34: Muro Área externa | E34: 4.82 | F34: 0.2 | G34: 0.6 | I34: =E34*F34*G34 -> 0.5784 | J34: =I34 -> 0.5784
B35: Escovário | E35: =1.65+0.5 -> 2.15 | F35: 0.15 | G35: 1.3 | I35: =E35*F35*G35 -> 0.41925 | J35: =I35 -> 0.41925
I36: Total | J36: =ROUND(SUM(J32:J35),2) -> 1.55
A38: ='PLANILHA ORÇAMENTÁRIA'!A16 -> 1.1.6 | B38: ='PLANILHA ORÇAMENTÁRIA'!D16 -> Demolição manual de concreto simples, sem reaproveitamento | C38: ='PLANILHA ORÇAMENTÁRIA'!E16 -> m3 | D38: Qnt | E38: C (m) | F38: L (m) | G38: H (m) | H38: A(m2) | I38: V(m3) | J38: QUANT. DO SERVIÇO
B39: Rampa acesso Refeitório | G39: 0.25 | H39: 12.35 | I39: =G39*H39 -> 3.0875 | J39: =I39 -> 3.0875
B40: Calçadas laterais Refeitório | E40: =3.8+5 -> 8.8 | F40: 0.7 | G40: 0.4 | I40: =E40*F40*G40 -> 2.464 | J40: =I40 -> 2.464
I41: Total | J41: =ROUND(SUM(J39:J40),2) -> 5.55
A43: ='PLANILHA ORÇAMENTÁRIA'!A17 -> 1.1.7 | B43: ='PLANILHA ORÇAMENTÁRIA'!D17 -> Retirada manual cuidadosa de blocos pré-moldados de concreto (Blokret), inclusive limpeza e empilhamento para reaproveitamento | C43: ='PLANILHA ORÇAMENTÁRIA'!E17 -> m2 | D43: Qnt | E43: C (m) | F43: L (m) | G43: H (m) | H43: A(m2) | I43: V(m3) | J43: QUANT. DO SERVIÇO
B44: Pavimentação entre Blocos 01 e 02 (conforme levantamento arquitetônico) | H44: 23.65 | J44: =H44 -> 23.65
H45: 9.77 | J45: =H45 -> 9.77
I46: Total | J46: =ROUND(SUM(J44:J45),2) -> 33.42
A48: ='PLANILHA ORÇAMENTÁRIA'!A18 -> 1.1.8 | B48: ='PLANILHA ORÇAMENTÁRIA'!D18 -> Retirada manual de portas e janelas de madeira, inclusive batentes (marcos), sem reaproveitamento | C48: ='PLANILHA ORÇAMENTÁRIA'!E18 -> m2 | D48: Qnt | E48: C (m) | F48: L (m) | G48: H (m) | H48: A(m2) | I48: V(m3) | J48: QUANT. DO SERVIÇO
...

Sheet CRONOGRAMA
A1: PREFEITURA MUNICIPAL DE JOÃO NEIVA
A2: CRONOGRAMA FÍSICO-FINANCEIRO
B3: OBRA: CONSTRUÇÃO DE ACESSO ENTRE OS BLOCOS E FORNECIMENTO E INSTALAÇÃO DE PLATAFORMA ELEVATÓRIA PARA ACESSIBILIDADE NA EMEIF JOSÉ REBUZZI SARCINELLI LOCALIZADA NO MUNICÍPIO DE JOÃO NEIVA/ES | E3: L. SOCIAIS: | F3: 1.5727 | G3: TABELA DE REFERÊNCIA: DER/ES Edificações / SINAPI-ESS
B4: LOCAL: JOÃO NEIVA-ES | E4: BDI: | F4: 33,25%
B5: ORÇAMENTISTA: ARQ./URB. BRUNA PEROVANO SIRTULI CAU-ES A187736-4 / ARQ./URB. THAÍS BAPTISTA CAU-ES A181604-7 | G5: DATA-BASE: | H5: dez-2025
A6: ITEM | B6: ETAPAS | C6: VALORES | E6: PERÍODO (MESES)
E7: 1 | F7: 2 | G7: 3 | H7: 4 | I7: 5 | J7: 6
A8: ='PLANILHA ORÇAMENTÁRIA'!B9 -> 01 | B8: ='PLANILHA ORÇAMENTÁRIA'!D9 -> SERVIÇOS PRELIMINARES | C8: Físico (%) | D8: =D9/$D$46 -> 0.026326262 | E8: =E9/$D$9 -> 0.5 | F8: =F9/$D$9 -> 0.5 | K8: =SUM(E8:J8) -> 1
C9: Financeiro (R$) | D9: ='PLANILHA ORÇAMENTÁRIA'!I30 -> 13009.84 | E9: =D9/2 -> 6504.92 | F9: =D9/2 -> 6504.92 | K9: =SUM(E9:J9) -> 13009.84
A10: ='PLANILHA ORÇAMENTÁRIA'!B31 -> 02 | B10: ='PLANILHA ORÇAMENTÁRIA'!D31 -> INSTALAÇÃO DO CANTEIRO DE OBRAS | C10: Físico (%) | D10: =D11/$D$46 -> 0.10732325 | E10: =E11/$D$11 -> 1 | K10: =SUM(E10:J10) -> 1
C11: Financeiro (R$) | D11: ='PLANILHA ORÇAMENTÁRIA'!I44 -> 53036.71 | E11: =D11 -> 53036.71 | K11: =SUM(E11:J11) -> 53036.71
A12: 03 | B12: ='PLANILHA ORÇAMENTÁRIA'!D45 -> MOVIMENTO DE TERRA | C12: Físico (%) | D12: =D13/$D$46 -> 0.018507125 | E12: =E13/D13 -> 0.7 | F12: =F13/D13 -> 0.3 | K12: =SUM(E12:J12) -> 1
C13: Financeiro (R$) | D13: ='PLANILHA ORÇAMENTÁRIA'!I53 -> 9145.8 | E13: =D13*0.7 -> 6402.06 | F13: =D13*0.3 -> 2743.74 | K13: =SUM(E13:J13) -> 9145.8
A14: 04 | B14: ='PLANILHA ORÇAMENTÁRIA'!D54 -> ESTRUTURAS | C14: Físico (%) | D14: =D15/$D$46 -> 0.23390648 | F14: =F15/D15 -> 0.5 | G14: =G15/D15 -> 0.5 | K14: =SUM(F14:J14) -> 1
C15: Financeiro (R$) | D15: ='PLANILHA ORÇAMENTÁRIA'!I67 -> 115591.26 | F15: =D15/2 -> 57795.63 | G15: =D15-F15 -> 57795.63 | K15: =SUM(F15:J15) -> 115591.26
A16: 05 | B16: ='PLANILHA ORÇAMENTÁRIA'!D68 -> PAREDES E PAINÉIS | C16: Físico (%) | D16: =D17/$D$46 -> 0.019653677 | G16: =G17/D17 -> 0.5 | H16: =H17/D17 -> 0.5 | K16: =SUM(E16:J16) -> 1
C17: Financeiro (R$) | D17: ='PLANILHA ORÇAMENTÁRIA'!I75 -> 9712.4 | E17: 0 | G17: =D17/2 -> 4856.2 | H17: =D17/2 -> 4856.2 | K17: =SUM(E17:J17) -> 9712.4
A18: 06 | B18: ='PLANILHA ORÇAMENTÁRIA'!D76 -> ESQUADRIAS DE MADEIRA | C18: Físico (%) | D18: =D19/$D$46 -> 0.0052423295 | J18: =J19/D19 -> 1 | K18: =SUM(E18:J18) -> 1
C19: Financeiro (R$) | D19: ='PLANILHA ORÇAMENTÁRIA'!I81 -> 2590.64 | J19: =D19 -> 2590.64 | K19: =SUM(E19:J19) -> 2590.64
A20: 07 | B20: ='PLANILHA ORÇAMENTÁRIA'!D82 -> ESQUADRIAS METÁLICAS | C20: Físico (%) | D20: =D21/$D$46 -> 0.04436647 | J20: =J21/D21 -> 1 | K20: =SUM(E20:J20) -> 1
C21: Financeiro (R$) | D21: ='PLANILHA ORÇAMENTÁRIA'!I85 -> 21924.9 | J21: =D21 -> 21924.9 | K21: =SUM(E21:J21) -> 21924.9
A22: 08 | B22: ='PLANILHA ORÇAMENTÁRIA'!D86 -> COBERTURA | C22: Físico (%) | D22: =D23/$D$46 -> 0.043795116 | I22: =I23/D23 -> 1 | K22: =SUM(E22:J22) -> 1
C23: Financeiro (R$) | D23: ='PLANILHA ORÇAMENTÁRIA'!I95 -> 21642.55 | I23: =D23 -> 21642.55 | K23: =SUM(E23:J23) -> 21642.55
A24: 09 | B24: ='PLANILHA ORÇAMENTÁRIA'!D96 -> IMPERMEABILIZAÇÃO | C24: Físico (%) | D24: =D25/$D$46 -> 0.091687406 | F24: =F25/D25 -> 0.25 | I24: =I25/D25 -> 0.75 | K24: =SUM(E24:J24) -> 1
C25: Financeiro (R$) | D25: ='PLANILHA ORÇAMENTÁRIA'!I100 -> 45309.83 | F25: =D25*0.25 -> 11327.458 | I25: =D25-F25 -> 33982.372 | K25: =SUM(E25:J25) -> 45309.83
A26: 10 | B26: ='PLANILHA ORÇAMENTÁRIA'!D101 -> TETOS E FORROS | C26: Físico (%) | D26: =D27/$D$46 -> 0.025421648 | H26: =H27/D27 -> 1 | K26: =SUM(E26:J26) -> 1
C27: Financeiro (R$) | D27: ='PLANILHA ORÇAMENTÁRIA'!I106 -> 12562.8 | H27: =D27 -> 12562.8 | K27: =SUM(E27:J27) -> 12562.8
A28: 11 | B28: ='PLANILHA ORÇAMENTÁRIA'!D107 -> REVESTIMENTO DE PAREDES | C28: Físico (%) | D28: =D29/$D$46 -> 0.036407868 | H28: =H29/D29 -> 1 | K28: =SUM(E28:J28) -> 1
C29: Financeiro (R$) | D29: ='PLANILHA ORÇAMENTÁRIA'!I111 -> 17991.94 | H29: =D29 -> 17991.94 | K29: =SUM(E29:J29) -> 17991.94
A30: 12 | B30: ='PLANILHA ORÇAMENTÁRIA'!D112 -> PISOS INTERNOS E EXTERNOS | C30: Físico (%) | D30: =D31/$D$46 -> 0.080156442 | H30: =H31/D31 -> 0.5 | I30: =I31/D31 -> 0.5 | K30: =SUM(E30:J30) -> 1
C31: Financeiro (R$) | D31: ='PLANILHA ORÇAMENTÁRIA'!I121 -> 39611.49 | H31: =D31/2 -> 19805.745 | I31: =D31/2 -> 19805.745 | K31: =SUM(E31:J31) -> 39611.49
A32: 13 | B32: ='PLANILHA ORÇAMENTÁRIA'!D122 -> INSTALAÇÕES HIDRO-SANITÁRIAS | C32: Físico (%) | D32: =D33/$D$46 -> 0.011162108 | H32: =H33/D33 -> 1 | K32: =SUM(E32:J32) -> 1
C33: Financeiro (R$) | D33: ='PLANILHA ORÇAMENTÁRIA'!I135 -> 5516.06 | H33: =D33 -> 5516.06 | K33: =SUM(E33:J33) -> 5516.06
A34: 14 | B34: ='PLANILHA ORÇAMENTÁRIA'!D136 -> INSTALAÇÕES ELÉTRICAS | C34: Físico (%) | D34: =D35/$D$46 -> 0.044702463 | H34: =H35/D35 -> 0.5 | I34: =I35/D35 -> 0.5 | K34: =SUM(E34:J34) -> 1
C35: Financeiro (R$) | D35: ='PLANILHA ORÇAMENTÁRIA'!I160 -> 22090.94 | H35: =D35/2 -> 11045.47 | I35: =D35/2 -> 11045.47 | K35: =SUM(E35:J35) -> 22090.94
A36: 15 | B36: ='PLANILHA ORÇAMENTÁRIA'!D161 -> APARELHOS HIDRO-SANITÁRIOS | C36: Físico (%) | D36: =D37/$D$46 -> 0.011657194 | I36: =I37/D37 -> 1 | K36: =SUM(E36:J36) -> 1
C37: Financeiro (R$) | D37: ='PLANILHA ORÇAMENTÁRIA'!I166 -> 5760.72 | I37: =D37 -> 5760.72 | K37: =SUM(E37:J37) -> 5760.72
